{"text_format":"1","workbook":"xlsx","n_sheets":13,"sheets":["Página de rosto","Índice","1-Auditoria pré-demolição","2-Detalhes do projeto","3-Estudo documental","4-Como utilizar inventário","5-Cálculo de quantidades"," 6-Inventário de recursos","7-Síntese da auditoria","8-Elemento de construção","9-Lista de resíduos","10-Glossário","Ref"],"not_rendered":{"charts":3,"images":4,"macros":1,"external_links":0,"defined_names":14,"comments":2,"pivot_tables":0},"unopened":[],"bounds":{"document_bytes":16777216,"sheet_cells":100000,"rows_first":2000,"rows_last":500,"rows_between":2000,"halvings":0,"cell_chars":16384,"cell_head_chars":4096},"cells_cut":0,"cells_raw":0,"read":"whole","date_system":"1900"}

{"sheet":"Página de rosto","index":0,"n_rows":26,"n_cols":2,"rows_kept":26,"cut":false,"hidden":false,"merged":[[1,1,18,6],[19,3,19,4],[25,0,25,7]]}
[]
[]
[]
[]
[]
[]
[]
[]
[]
[]
[]
[]
[]
[]
[]
[]
[]
[]
[]
[null,"(I"]
[]
[]
[]
[]
[]
[" Auditoria Pré-Demolição                           Modelos"]

{"sheet":"Índice","index":1,"n_rows":30,"n_cols":2,"rows_kept":30,"cut":false,"hidden":false,"merged":[[0,0,0,7],[29,0,29,7],[6,1,6,7],[5,1,5,7],[3,1,3,7],[2,1,2,7],[4,1,4,7],[7,1,7,7],[10,1,10,7],[8,1,8,7],[11,1,11,7],[25,0,26,7],[27,0,28,7],[9,1,9,7]]}
["Índice "]
[]
[1,"Auditoria Pré-Demolição"]
[2,"Detalhes do projeto"]
[3,"Estudo documental"]
[4,"Como utilizar o inventário"]
[5,"Cálculo de quantidades"]
[6,"Inventário"]
[7,"Síntese da auditoria"]
[8,"Elemento de construção"]
[9,"Lista de resíduos"]
[10,"Glossário"]
[]
[]
[]
[]
[]
[]
[]
[]
[]
[]
[]
[]
[]
["Os modelos apresentados foram elaborados em conjunto com o Guia Português de Auditorias Pré-Demolição, no âmbito do projeto CLOSER - Close to Resources Recovery, co-financiado pelo Programa Ambiente dos EEA Grants. Com este projeto, pretende-se aumentar a reutilização de materiais e elementos de construção e a reciclagem dos RCD produzidos na demolição e reabilitação de edifícios.  "]
[]
["Os auditores que realizam a Auditoria Pré-Demolição têm que ter competências reconhecidas para a sua execução e ser independentes relativamente à entidade responsável pela demolição ou reabilitação. Os autores e a entidade financiadora do projecto CLOSER não se responsabilizam por qualquer uso que possa ser feito dos dados colhidos e das informações inseridas nestes modelos."]
[]
["Informação adicional em http://closer.lnec.pt/"]

{"sheet":"1-Auditoria pré-demolição","index":2,"n_rows":25,"n_cols":1,"rows_kept":25,"cut":false,"hidden":false,"merged":[[24,0,24,7],[9,0,9,7],[0,0,0,7],[3,0,3,7],[4,0,4,7],[5,0,5,7]]}
["Auditoria pré-demolição"]
[]
[]
["A auditoria pré-demolição (APD) consiste numa avaliação dos fluxos de materiais, elementos de construção e resíduos de construção e demolição associados à atividade de demolição ou reabilitação de edifícios, sendo identificados os diversos recursos, as respetivas quantidades e potenciais aplicações facilitando a sua reintrodução na economia. "]
["A APD fornece ao dono da obra um aconselhamento independente sobre materiais e elementos de construção que podem ser reutilizados ou reciclados previamente à demolição ou reabilitação, privilegiando a reutilização de modo a contribuir para a diminuição do carbono incorporado."]
["As auditorias pré-demolição ou reabilitação de edifícios compreendem duas etapas de recolha de informação, o estudo documental e o estudo in situ, que contribuem para a construção do inventário. Com base nessa informação, são efetuadas recomendações dos destinos mais adequados para a valorização dos diversos recursos identificados e a minimização da perigosidade dos mesmos."]
[]
[]
[]
["Etapas "]
[]
[]
[]
[]
[]
[]
[]
[]
[]
[]
[]
[]
[]
[]
["Informação adicional em http://closer.lnec.pt/"]

{"sheet":"2-Detalhes do projeto","index":3,"n_rows":40,"n_cols":3,"rows_kept":40,"cut":false,"hidden":false,"merged":[[0,0,0,4],[35,0,35,4],[30,0,30,4],[3,0,3,4],[9,0,9,4],[15,0,15,4],[20,0,20,4],[25,0,25,4],[1,0,1,4],[2,2,2,4],[4,2,4,4],[5,2,5,4],[6,2,6,4],[7,2,7,4],[10,2,10,4],[11,2,11,4],[12,2,12,4],[13,2,13,4],[14,2,14,4],[16,2,16,4],[17,2,17,4],[18,2,18,4],[19,2,19,4],[21,2,21,4],[22,2,22,4],[23,2,23,4],[24,2,24,4],[26,2,26,4],[27,2,27,4],[28,2,28,4],[29,2,29,4],[31,2,31,4],[32,2,32,4],[33,2,33,4],[34,2,34,4],[36,2,36,4],[37,2,37,4],[38,2,38,4],[39,2,39,4]]}
["Detalhes do projeto"]
["Data da auditoria pré-demolição i"]
[null,null,"<inserir conteúdo>"]
["Identificação do projeto i"]
[null,"Nome do Projeto","<inserir conteúdo>"]
[null,"Morada ","<inserir conteúdo>"]
[null,"Data de construção","<inserir conteúdo>"]
[null,"Tipo de intervenção","<selecionar opção>"]
[null,"Área de reabilitação/demolição (m2)",150]
["Dono da obra i"]
[null,"Nome","<inserir conteúdo>"]
[null,"Morada","<inserir conteúdo>"]
[null,"Telefone","<inserir conteúdo>"]
[null,"Email","<inserir conteúdo>"]
[null,"Pessoa de contacto","<inserir conteúdo>"]
["Gestor do projeto i",null,"(if applicable)"]
[null,"Nome","<inserir conteúdo>"]
[null,"Empresa / Organização","<inserir conteúdo>"]
[null,"Telefone","<inserir conteúdo>"]
[null,"Email","<inserir conteúdo>"]
["Empreiteiro "]
[null,"Nome","<inserir conteúdo>"]
[null,"Empresa / Organização","<inserir conteúdo>"]
[null,"Telefone","<inserir conteúdo>"]
[null,"Email","<inserir conteúdo>"]
["Sub-empreiteiro i"]
[null,"Nome","<inserir conteúdo>"]
[null,"Empresa / Organização","<inserir conteúdo>"]
[null,"Telefone","<inserir conteúdo>"]
[null,"Email","<inserir conteúdo>"]
["Responsável pela remoção de amianto i"]
[null,"Nome","<inserir conteúdo>"]
[null,"Empresa / Organização","<inserir conteúdo>"]
[null,"Telefone","<inserir conteúdo>"]
[null,"Email","<inserir conteúdo>"]
["Auditor i"]
[null,"Nome","<inserir conteúdo>"]
[null,"Empresa / Organização","<inserir conteúdo>"]
[null,"Telefone","<inserir conteúdo>"]
[null,"Email","<inserir conteúdo>"]

{"sheet":"3-Estudo documental","index":4,"n_rows":44,"n_cols":3,"rows_kept":44,"cut":false,"hidden":false,"merged":[[12,2,12,7],[0,0,0,7],[43,0,43,7],[1,0,1,7],[11,0,11,7],[3,0,3,7],[5,0,5,7],[7,0,7,7],[19,2,19,7],[20,2,20,7],[21,2,21,7],[23,2,23,7],[24,2,24,7],[22,0,22,7],[13,2,13,7],[14,2,14,7],[15,2,15,7],[16,2,16,7],[18,2,18,7],[17,0,17,7],[2,2,2,7],[4,2,4,7],[6,2,6,7],[8,2,8,7],[10,2,10,7],[9,0,9,7],[25,2,25,7],[26,2,26,7],[28,2,28,7],[29,2,29,7],[30,2,30,7],[27,0,27,7]]}
["Estudo documental"]
["Idade do edifício (anos)"]
[null,null,"<inserir conteúdo>"]
["Número de pisos (se aplicável)"]
[null,null,"<inserir conteúdo>"]
["Tipologia de construção"]
[]
["Utilização do edifício"]
[]
["Imediações e acesso ao edifício"]
[null,null,"<inserir conteúdo>"]
["Lista de documentos de projeto de construção consultados"]
[null,null,"<inserir conteúdo>"]
[null,null,"<inserir conteúdo>"]
[null,null,"<inserir conteúdo>"]
[null,null,"<inserir conteúdo>"]
[null,null,"<inserir conteúdo>"]
["Histórico de manutenção "]
[null,null,"<inserir conteúdo>"]
[null,null,"<inserir conteúdo>"]
[null,null,"<inserir conteúdo>"]
[null,null,"<inserir conteúdo>"]
["Histórico de renovações"]
[null,null,"<inserir conteúdo>"]
[null,null,"<inserir conteúdo>"]
[null,null,"<inserir conteúdo>"]
[null,null,"<inserir conteúdo>"]
["Existência de substâncias perigosas e locais"]
[null,null,"<inserir conteúdo>"]
[null,null,"<inserir conteúdo>"]
[null,null,"<inserir conteúdo>"]
[]
[]
[]
[]
[]
[]
[]
[]
[]
[]
[]
[]
["Informação adicional em http://closer.lnec.pt/"]

{"sheet":"4-Como utilizar inventário","index":5,"n_rows":29,"n_cols":4,"rows_kept":29,"cut":false,"hidden":false,"merged":[[1,0,1,1],[0,0,0,1]]}
["Como utilizar o inventário"]
["O modelo de inventário de reabilitaçãi/demolição de edifícios abrange materiais e elementos passíveis de reutilização e resíduos de construção e demolição que podem ser valorizados ou eliminados tendo em consideração a sua perigosidade e as suas características. O modelo é uma combinação do template adotado no nível 2 do LEVEL(s) com as orientações para auditorias de pré-demolição de edifícios e do protocolo de gestão de RCD na UE, bem como de outros Estados-membros da UE. A síntese da auditoria é gerada automaticamente a partir do inventário exceto no que respeita a custos de deposição em aterro."]
["1.    ID","Identificação única do material ou elemento (exº. código numérico ou alfanumérico)"]
[]
["2.    Material / Elemento","Seleccionar os materiais ou elementos com a seta. Se não encontar a descrição correta na lista faça a adição manualmente. Ao seleccionar um material da lista é automaticamente associado o código do Capítulo 17 do LER. Para resíduos de equipamentos elétridos e eletrónicos, REEE, usar os códigos dos Capítulos 16 e 20 apresentados no separador \"8-Lista de resíduos\"."]
[]
["3.    Código LER","Código de seleção automática relacionado com o material. No caso da utilização de uma descrição de material personalizada, é necessário inserir o código que melhor representa esse material."]
[]
["4.    Natureza do resíduo","A natureza do resíduo pode ser selecionada entre as opções: i) material inerte / não perigoso e ii) material perigoso. Neste âmbito, deve ter-se em consideração as propriedades do material isolado, a sua mistura com substâncias perigosas e o código LER. Se forem efetuadas análises para comprovar a perigosidade e o resultado for negativo a célula terá um fundo verde e se o resultados for positivo terá um fundo vermelho."]
[]
["5.    Quantidade","Quantidade de material resultante do estudo documental (peças desenhadas ou escritas do projeto) ou do levantamento in situ. No cálculo de quantidades deve ser privilegiado o uso das regras de medição."]
[]
["6.    Unidade","A unidade pode ser variável, no entanto a mais frequente é o m3 ou m2.  Para elementos por vezes é apenas o número de unidades existentes."]
[]
["7.    Fator de conversão","Fator que converte as unidades usadas para kg e que pode ser utilizado para tornar os itens da lista comparáveis e compatíveis."]
[]
["8.    Quantidade estimada","A quantidade de material ou elementos é estimada em kg com base no fator de conversão."]
[]
["9.    Condição ","A condição em que o material/elemento se encontra dá informação sobre e sua degradação usando uma escala de 4 niveis: Muito boa - Anomalias inexistentes ou insignificantes; Boa - Anomalias estéticas; Média - Anomalias que podem prejudicar a reutilização; Má - Anomalias que colocam em risco a segurança e/ou saúde. Na informação adicional incluir a extensão das anomalias: localizada, extensa, totalidade",null," "]
[]
["10.    Localização ","Representa o local onde o material/elemento se encontra na obra, bem como a acessibilidade a esse material."]
[]
["11.      Destino recomendado ","A recomendação do destino pode ser considerada na forma de reutilização, de reciclagem e de recuperação, podendo ser selecionado para ocorrer na obra ou fora dela. É projetado com base na hierarquia de resíduos. Este é o destino mais adequado proposto pelo auditor com base nos princípios da economia circular."]
[]
["12.      Precauções a tomar","As ações a tomar devem considerar medidas de precaução em obra, visando a proteção dos trabalhadores e a preservação do ambiente."]
[]
["13.      Informação adicional","Incluir informação complementar se necessário (exº: ensaios de avaliação da perigosidade)."]
[]
["14.      Fotografia","A fotografia melhora a precisão da informação (800x600 pixels min.; formato - jpg, jpeg, png). A fotografia deve ser bloqueada com a célula para garantir que  não se altera quando são acrescentadas linhas ou são feitas outras alterações à tabela do inventário. As fotografias de componentes devem mostrar o contexto do elemento relevante. Relativamente a defeitos deve-se fotografar para cada tipo de material. "]

{"sheet":"5-Cálculo de quantidades","index":6,"n_rows":8,"n_cols":8,"rows_kept":8,"cut":false,"hidden":false,"merged":[[2,6,5,6],[2,0,5,0],[8,0,12,0],[0,0,0,7]]}
["Cálculo de quantidades"]
[null,"Quantidade","D1 (m)","D2 (m)","D3 (m)","Sub-total","Total (m3)"]
["Exº:Vigas de betão",6,0.3,0.3,3.3,{"$f":"E3*D3*C3*B3","v":1.7819999999999996},{"$f":"SUM(F3:F6)","v":4.8599999999999994},{"$f":"G3","v":4.8599999999999994}]
[null,6,0.2,0.25,4.5,{"$f":"E4*D4*C4*B4","v":1.35}]
[null,4,0.2,0.2,4.5,{"$f":"E5*D5*C5*B5","v":0.72000000000000008}]
[null,4,0.3,0.3,2.8,{"$f":"E6*D6*C6*B6","v":1.008}]
[]
[null,"Quantidade","D1 (m)","D2 (m)","D3 (m)","Sub-total","Total"]

{"sheet":" 6-Inventário de recursos","index":7,"n_rows":500,"n_cols":15,"rows_kept":500,"cut":false,"hidden":false,"merged":[[3,0,3,14],[2,6,2,9],[0,0,0,14],[2,2,2,4],[2,10,2,14],[2,0,2,1],[1,0,1,14]]}
["Inventário de Recursos"]
["Materiais/Elementos e Resíduos de Construção e Demolição (RCD)"]
["Data do inventário",null,null,null,null,null,"Data das visitas in situ"]
[]
["ID","Material","LoW Code","Nature of waste","Quantity","Unit","Conversion factor","Estimated quantity (kg)","Quality (Condition)","Floor","Location(s) of material in building / building site","Recommended destination (auditor)","Precautions to take","Additional information","Photo"]
["ID","Material / Elemento","Código LER","Natureza do resíduos","Quantidade","Unidade","Fator de conversão","Quantidade estimada (kg)","Condição","Andar","Localização","Destino recomendado","Precauções a tomar","Informações adicionais","Fotografia"]
["E1","betão",{"$f":"IFERROR(VLOOKUP($B7,Ref!B$3:C$52,2,FALSE),0)","v":"17 01 01 "},"Inerte/Não perigoso",5,"m3",{"$f":"IFERROR(VLOOKUP($B7,Ref!$B$3:$E$52,3,FALSE),0)","v":2300},{"$f":"Table2[[#This Row],[Quantidade]]*Table2[[#This Row],[Fator de conversão]]","v":11500},"Boa – Anomalias estéticas",1,"Estrutura da cobertura","Reciclagem na obra"]
["E2","vidro",{"$f":"IFERROR(VLOOKUP($B8,Ref!B$3:C$52,2,FALSE),0)","v":"17 02 02 "},"Inerte/Não perigoso",1,"m3",{"$f":"IFERROR(VLOOKUP($B8,Ref!$B$3:$E$52,3,FALSE),0)","v":2500},{"$f":"Table2[[#This Row],[Quantidade]]*Table2[[#This Row],[Fator de conversão]]","v":2500},"Muito boa – Anomalias insignificantes",1,"Tipo de envidraçado de vãos exteriores","Preparação para reutilizar elemento/material na obra"]
["E3","madeira",{"$f":"IFERROR(VLOOKUP($B9,Ref!B$3:C$52,2,FALSE),0)","v":"17 02 01 "},"Inerte/Não perigoso",300,"kg",{"$f":"IFERROR(VLOOKUP($B9,Ref!$B$3:$E$52,3,FALSE),0)","v":700},{"$f":"Table2[[#This Row],[Quantidade]]","v":300},"Média – Anomalias podem prejudicar a reutilização","r/c","Revestimento de piso","Recuperação no local como material enchimento "]
["E4","ladrilhos, telhas e materiais cerâmicos",{"$f":"IFERROR(VLOOKUP($B10,Ref!B$3:C$52,2,FALSE),0)","v":"17 01 03 "},"Inerte/Não perigoso",1500,"kg",{"$f":"IFERROR(VLOOKUP($B10,Ref!$B$3:$E$52,3,FALSE),0)","v":830.6},{"$f":"Table2[[#This Row],[Quantidade]]","v":1500},"Boa – Anomalias estéticas","r/c","Revestimento dos paramentos interiores","Reutilização do elemento/material fora da obra"]
["E5","vidro, plástico e madeira contendo ou contaminados com substâncias perigosas",{"$f":"IFERROR(VLOOKUP($B11,Ref!B$3:C$52,2,FALSE),0)","v":"17 02 04*"},"Perigoso",45,"kg",{"$f":"IFERROR(VLOOKUP($B11,Ref!$B$3:$E$52,3,FALSE),0)","v":0},{"$f":"Table2[[#This Row],[Quantidade]]","v":45},"Má – Anomalias colocam em risco segurança/saúde.","r/c","Revestimento de piso","Aterro de resíduos perigosos"]
["E6","lâmpadas fluorescentes e outros resíduos contendo mercúrio",{"$f":"IFERROR(VLOOKUP($B12,Ref!B$3:C$52,2,FALSE),0)","v":"20 01 21*"},"Perigoso",10,"unidade",{"$f":"IFERROR(VLOOKUP($B12,Ref!$B$3:$E$52,3,FALSE),0)","v":0},4,"Má – Anomalias colocam em risco segurança/saúde.","r/c","Tosco de paredes interiores","Entrega em instalação de gestão de REEE"]
[null,null,{"$f":"IFERROR(VLOOKUP($B13,Ref!B$3:C$52,2,FALSE),0)","v":0},null,null,null,{"$f":"IFERROR(VLOOKUP($B13,Ref!$B$3:$E$52,3,FALSE),0)","v":0}]
[null,null,{"$f":"IFERROR(VLOOKUP($B14,Ref!B$3:C$52,2,FALSE),0)","v":0},null,null,null,{"$f":"IFERROR(VLOOKUP($B14,Ref!$B$3:$E$52,3,FALSE),0)","v":0}]
[null,null,{"$f":"IFERROR(VLOOKUP($B15,Ref!B$3:C$52,2,FALSE),0)","v":0},null,null,null,{"$f":"IFERROR(VLOOKUP($B15,Ref!$B$3:$E$52,3,FALSE),0)","v":0}]
[null,null,{"$f":"IFERROR(VLOOKUP($B16,Ref!B$3:C$52,2,FALSE),0)","v":0},null,null,null,{"$f":"IFERROR(VLOOKUP($B16,Ref!$B$3:$E$52,3,FALSE),0)","v":0}]
[null,null,{"$f":"IFERROR(VLOOKUP($B17,Ref!B$3:C$52,2,FALSE),0)","v":0},null,null,null,{"$f":"IFERROR(VLOOKUP($B17,Ref!$B$3:$E$52,3,FALSE),0)","v":0}]
[null,null,{"$f":"IFERROR(VLOOKUP($B18,Ref!B$3:C$52,2,FALSE),0)","v":0},null,null,null,{"$f":"IFERROR(VLOOKUP($B18,Ref!$B$3:$E$52,3,FALSE),0)","v":0}]
[null,null,{"$f":"IFERROR(VLOOKUP($B19,Ref!B$3:C$52,2,FALSE),0)","v":0},null,null,null,{"$f":"IFERROR(VLOOKUP($B19,Ref!$B$3:$E$52,3,FALSE),0)","v":0}]
[null,null,{"$f":"IFERROR(VLOOKUP($B20,Ref!B$3:C$52,2,FALSE),0)","v":0},null,null,null,{"$f":"IFERROR(VLOOKUP($B20,Ref!$B$3:$E$52,3,FALSE),0)","v":0}]
[null,null,{"$f":"IFERROR(VLOOKUP($B21,Ref!B$3:C$52,2,FALSE),0)","v":0},null,null,null,{"$f":"IFERROR(VLOOKUP($B21,Ref!$B$3:$E$52,3,FALSE),0)","v":0}]
[null,null,{"$f":"IFERROR(VLOOKUP($B22,Ref!B$3:C$52,2,FALSE),0)","v":0},null,null,{"$f":"IFERROR(VLOOKUP($B22,Ref!$B$3:$F$24,4,FALSE),0)","v":0},{"$f":"IFERROR(VLOOKUP($B22,Ref!$B$3:$E$52,3,FALSE),0)","v":0}]
[null,null,{"$f":"IFERROR(VLOOKUP($B23,Ref!B$3:C$52,2,FALSE),0)","v":0},null,null,{"$f":"IFERROR(VLOOKUP($B23,Ref!$B$3:$F$24,4,FALSE),0)","v":0},{"$f":"IFERROR(VLOOKUP($B23,Ref!$B$3:$E$52,3,FALSE),0)","v":0}]
[null,null,{"$f":"IFERROR(VLOOKUP($B24,Ref!B$3:C$52,2,FALSE),0)","v":0},null,null,{"$f":"IFERROR(VLOOKUP($B24,Ref!$B$3:$F$24,4,FALSE),0)","v":0},{"$f":"IFERROR(VLOOKUP($B24,Ref!$B$3:$E$52,3,FALSE),0)","v":0}]
[null,null,{"$f":"IFERROR(VLOOKUP($B25,Ref!B$3:C$52,2,FALSE),0)","v":0},null,null,{"$f":"IFERROR(VLOOKUP($B25,Ref!$B$3:$F$24,4,FALSE),0)","v":0},{"$f":"IFERROR(VLOOKUP($B25,Ref!$B$3:$E$52,3,FALSE),0)","v":0}]
[null,null,{"$f":"IFERROR(VLOOKUP($B26,Ref!B$3:C$52,2,FALSE),0)","v":0},null,null,{"$f":"IFERROR(VLOOKUP($B26,Ref!$B$3:$F$24,4,FALSE),0)","v":0},{"$f":"IFERROR(VLOOKUP($B26,Ref!$B$3:$E$52,3,FALSE),0)","v":0}]
[null,null,{"$f":"IFERROR(VLOOKUP($B27,Ref!B$3:C$52,2,FALSE),0)","v":0},null,null,{"$f":"IFERROR(VLOOKUP($B27,Ref!$B$3:$F$24,4,FALSE),0)","v":0},{"$f":"IFERROR(VLOOKUP($B27,Ref!$B$3:$E$52,3,FALSE),0)","v":0}]
[null,null,{"$f":"IFERROR(VLOOKUP($B28,Ref!B$3:C$52,2,FALSE),0)","v":0},null,null,{"$f":"IFERROR(VLOOKUP($B28,Ref!$B$3:$F$24,4,FALSE),0)","v":0},{"$f":"IFERROR(VLOOKUP($B28,Ref!$B$3:$E$52,3,FALSE),0)","v":0}]
[null,null,{"$f":"IFERROR(VLOOKUP($B29,Ref!B$3:C$52,2,FALSE),0)","v":0},null,null,{"$f":"IFERROR(VLOOKUP($B29,Ref!$B$3:$F$24,4,FALSE),0)","v":0},{"$f":"IFERROR(VLOOKUP($B29,Ref!$B$3:$E$52,3,FALSE),0)","v":0}]
[null,null,{"$f":"IFERROR(VLOOKUP($B30,Ref!B$3:C$52,2,FALSE),0)","v":0},null,null,{"$f":"IFERROR(VLOOKUP($B30,Ref!$B$3:$F$24,4,FALSE),0)","v":0},{"$f":"IFERROR(VLOOKUP($B30,Ref!$B$3:$E$52,3,FALSE),0)","v":0}]
[null,null,{"$f":"IFERROR(VLOOKUP($B31,Ref!B$3:C$52,2,FALSE),0)","v":0},null,null,{"$f":"IFERROR(VLOOKUP($B31,Ref!$B$3:$F$24,4,FALSE),0)","v":0},{"$f":"IFERROR(VLOOKUP($B31,Ref!$B$3:$E$52,3,FALSE),0)","v":0}]
[null,null,{"$f":"IFERROR(VLOOKUP($B32,Ref!B$3:C$52,2,FALSE),0)","v":0},null,null,{"$f":"IFERROR(VLOOKUP($B32,Ref!$B$3:$F$24,4,FALSE),0)","v":0},{"$f":"IFERROR(VLOOKUP($B32,Ref!$B$3:$E$52,3,FALSE),0)","v":0}]
[null,null,{"$f":"IFERROR(VLOOKUP($B33,Ref!B$3:C$52,2,FALSE),0)","v":0},null,null,{"$f":"IFERROR(VLOOKUP($B33,Ref!$B$3:$F$24,4,FALSE),0)","v":0},{"$f":"IFERROR(VLOOKUP($B33,Ref!$B$3:$E$52,3,FALSE),0)","v":0}]
[null,null,{"$f":"IFERROR(VLOOKUP($B34,Ref!B$3:C$52,2,FALSE),0)","v":0},null,null,{"$f":"IFERROR(VLOOKUP($B34,Ref!$B$3:$F$24,4,FALSE),0)","v":0},{"$f":"IFERROR(VLOOKUP($B34,Ref!$B$3:$E$52,3,FALSE),0)","v":0}]
[null,null,{"$f":"IFERROR(VLOOKUP($B35,Ref!B$3:C$52,2,FALSE),0)","v":0},null,null,{"$f":"IFERROR(VLOOKUP($B35,Ref!$B$3:$F$24,4,FALSE),0)","v":0},{"$f":"IFERROR(VLOOKUP($B35,Ref!$B$3:$E$52,3,FALSE),0)","v":0}]
[null,null,{"$f":"IFERROR(VLOOKUP($B36,Ref!B$3:C$52,2,FALSE),0)","v":0},null,null,{"$f":"IFERROR(VLOOKUP($B36,Ref!$B$3:$F$24,4,FALSE),0)","v":0},{"$f":"IFERROR(VLOOKUP($B36,Ref!$B$3:$E$52,3,FALSE),0)","v":0}]
[null,null,{"$f":"IFERROR(VLOOKUP($B37,Ref!B$3:C$52,2,FALSE),0)","v":0},null,null,{"$f":"IFERROR(VLOOKUP($B37,Ref!$B$3:$F$24,4,FALSE),0)","v":0},{"$f":"IFERROR(VLOOKUP($B37,Ref!$B$3:$E$52,3,FALSE),0)","v":0}]
[null,null,{"$f":"IFERROR(VLOOKUP($B38,Ref!B$3:C$52,2,FALSE),0)","v":0},null,null,{"$f":"IFERROR(VLOOKUP($B38,Ref!$B$3:$F$24,4,FALSE),0)","v":0},{"$f":"IFERROR(VLOOKUP($B38,Ref!$B$3:$E$52,3,FALSE),0)","v":0}]
[null,null,{"$f":"IFERROR(VLOOKUP($B39,Ref!B$3:C$52,2,FALSE),0)","v":0},null,null,{"$f":"IFERROR(VLOOKUP($B39,Ref!$B$3:$F$24,4,FALSE),0)","v":0},{"$f":"IFERROR(VLOOKUP($B39,Ref!$B$3:$E$52,3,FALSE),0)","v":0}]
[null,null,{"$f":"IFERROR(VLOOKUP($B40,Ref!B$3:C$52,2,FALSE),0)","v":0},null,null,{"$f":"IFERROR(VLOOKUP($B40,Ref!$B$3:$F$24,4,FALSE),0)","v":0},{"$f":"IFERROR(VLOOKUP($B40,Ref!$B$3:$E$52,3,FALSE),0)","v":0}]
[null,null,{"$f":"IFERROR(VLOOKUP($B41,Ref!B$3:C$52,2,FALSE),0)","v":0},null,null,{"$f":"IFERROR(VLOOKUP($B41,Ref!$B$3:$F$24,4,FALSE),0)","v":0},{"$f":"IFERROR(VLOOKUP($B41,Ref!$B$3:$E$52,3,FALSE),0)","v":0}]
[null,null,{"$f":"IFERROR(VLOOKUP($B42,Ref!B$3:C$52,2,FALSE),0)","v":0},null,null,{"$f":"IFERROR(VLOOKUP($B42,Ref!$B$3:$F$24,4,FALSE),0)","v":0},{"$f":"IFERROR(VLOOKUP($B42,Ref!$B$3:$E$52,3,FALSE),0)","v":0}]
[null,null,{"$f":"IFERROR(VLOOKUP($B43,Ref!B$3:C$52,2,FALSE),0)","v":0},null,null,{"$f":"IFERROR(VLOOKUP($B43,Ref!$B$3:$F$24,4,FALSE),0)","v":0},{"$f":"IFERROR(VLOOKUP($B43,Ref!$B$3:$E$52,3,FALSE),0)","v":0}]
[null,null,{"$f":"IFERROR(VLOOKUP($B44,Ref!B$3:C$52,2,FALSE),0)","v":0},null,null,{"$f":"IFERROR(VLOOKUP($B44,Ref!$B$3:$F$24,4,FALSE),0)","v":0},{"$f":"IFERROR(VLOOKUP($B44,Ref!$B$3:$E$52,3,FALSE),0)","v":0}]
[null,null,{"$f":"IFERROR(VLOOKUP($B45,Ref!B$3:C$52,2,FALSE),0)","v":0},null,null,{"$f":"IFERROR(VLOOKUP($B45,Ref!$B$3:$F$24,4,FALSE),0)","v":0},{"$f":"IFERROR(VLOOKUP($B45,Ref!$B$3:$E$52,3,FALSE),0)","v":0}]
[null,null,null,null,null,null,{"$f":"IFERROR(VLOOKUP($B46,Ref!$B$3:$E$52,3,FALSE),0)","v":0}]
[null,null,{"$f":"IFERROR(VLOOKUP($B47,Ref!$B$3:$C$52,2,FALSE),0)","v":0},null,null,{"$f":"IFERROR(VLOOKUP($B47,Ref!$B$3:$F$24,4,FALSE),0)","v":0},{"$f":"IFERROR(VLOOKUP($B47,Ref!$B$3:$E$52,3,FALSE),0)","v":0}]
[null,null,{"$f":"IFERROR(VLOOKUP($B48,Ref!$B$3:$C$52,2,FALSE),0)","v":0},null,null,{"$f":"IFERROR(VLOOKUP($B48,Ref!$B$3:$F$24,4,FALSE),0)","v":0},{"$f":"IFERROR(VLOOKUP($B48,Ref!$B$3:$E$52,3,FALSE),0)","v":0}]
[null,null,{"$f":"IFERROR(VLOOKUP($B49,Ref!$B$3:$C$52,2,FALSE),0)","v":0},null,null,{"$f":"IFERROR(VLOOKUP($B49,Ref!$B$3:$F$24,4,FALSE),0)","v":0},{"$f":"IFERROR(VLOOKUP($B49,Ref!$B$3:$E$52,3,FALSE),0)","v":0}]
[null,null,{"$f":"IFERROR(VLOOKUP($B50,Ref!$B$3:$C$52,2,FALSE),0)","v":0},null,null,{"$f":"IFERROR(VLOOKUP($B50,Ref!$B$3:$F$24,4,FALSE),0)","v":0},{"$f":"IFERROR(VLOOKUP($B50,Ref!$B$3:$E$52,3,FALSE),0)","v":0}]
[null,null,{"$f":"IFERROR(VLOOKUP($B51,Ref!$B$3:$C$52,2,FALSE),0)","v":0},null,null,{"$f":"IFERROR(VLOOKUP($B51,Ref!$B$3:$F$24,4,FALSE),0)","v":0},{"$f":"IFERROR(VLOOKUP($B51,Ref!$B$3:$E$52,3,FALSE),0)","v":0}]
[null,null,{"$f":"IFERROR(VLOOKUP($B52,Ref!$B$3:$C$52,2,FALSE),0)","v":0},null,null,{"$f":"IFERROR(VLOOKUP($B52,Ref!$B$3:$F$24,4,FALSE),0)","v":0},{"$f":"IFERROR(VLOOKUP($B52,Ref!$B$3:$E$52,3,FALSE),0)","v":0}]
[null,null,{"$f":"IFERROR(VLOOKUP($B53,Ref!$B$3:$C$52,2,FALSE),0)","v":0},null,null,{"$f":"IFERROR(VLOOKUP($B53,Ref!$B$3:$F$24,4,FALSE),0)","v":0},{"$f":"IFERROR(VLOOKUP($B53,Ref!$B$3:$E$52,3,FALSE),0)","v":0}]
[null,null,{"$f":"IFERROR(VLOOKUP($B54,Ref!$B$3:$C$52,2,FALSE),0)","v":0},null,null,{"$f":"IFERROR(VLOOKUP($B54,Ref!$B$3:$F$24,4,FALSE),0)","v":0},{"$f":"IFERROR(VLOOKUP($B54,Ref!$B$3:$E$52,3,FALSE),0)","v":0}]
[null,null,{"$f":"IFERROR(VLOOKUP($B55,Ref!$B$3:$C$52,2,FALSE),0)","v":0},null,null,{"$f":"IFERROR(VLOOKUP($B55,Ref!$B$3:$F$24,4,FALSE),0)","v":0},{"$f":"IFERROR(VLOOKUP($B55,Ref!$B$3:$E$52,3,FALSE),0)","v":0}]
[null,null,{"$f":"IFERROR(VLOOKUP($B56,Ref!$B$3:$C$52,2,FALSE),0)","v":0},null,null,{"$f":"IFERROR(VLOOKUP($B56,Ref!$B$3:$F$24,4,FALSE),0)","v":0},{"$f":"IFERROR(VLOOKUP($B56,Ref!$B$3:$E$52,3,FALSE),0)","v":0}]
[null,null,{"$f":"IFERROR(VLOOKUP($B57,Ref!$B$3:$C$52,2,FALSE),0)","v":0},null,null,{"$f":"IFERROR(VLOOKUP($B57,Ref!$B$3:$F$24,4,FALSE),0)","v":0},{"$f":"IFERROR(VLOOKUP($B57,Ref!$B$3:$E$52,3,FALSE),0)","v":0}]
[null,null,{"$f":"IFERROR(VLOOKUP($B58,Ref!$B$3:$C$52,2,FALSE),0)","v":0},null,null,{"$f":"IFERROR(VLOOKUP($B58,Ref!$B$3:$F$24,4,FALSE),0)","v":0},{"$f":"IFERROR(VLOOKUP($B58,Ref!$B$3:$E$52,3,FALSE),0)","v":0}]
[null,null,{"$f":"IFERROR(VLOOKUP($B59,Ref!$B$3:$C$52,2,FALSE),0)","v":0},null,null,{"$f":"IFERROR(VLOOKUP($B59,Ref!$B$3:$F$24,4,FALSE),0)","v":0},{"$f":"IFERROR(VLOOKUP($B59,Ref!$B$3:$E$52,3,FALSE),0)","v":0}]
[null,null,{"$f":"IFERROR(VLOOKUP($B60,Ref!$B$3:$C$52,2,FALSE),0)","v":0},null,null,{"$f":"IFERROR(VLOOKUP($B60,Ref!$B$3:$F$24,4,FALSE),0)","v":0},{"$f":"IFERROR(VLOOKUP($B60,Ref!$B$3:$E$52,3,FALSE),0)","v":0}]
[null,null,{"$f":"IFERROR(VLOOKUP($B61,Ref!$B$3:$C$52,2,FALSE),0)","v":0},null,null,{"$f":"IFERROR(VLOOKUP($B61,Ref!$B$3:$F$24,4,FALSE),0)","v":0},{"$f":"IFERROR(VLOOKUP($B61,Ref!$B$3:$E$52,3,FALSE),0)","v":0}]
[null,null,{"$f":"IFERROR(VLOOKUP($B62,Ref!$B$3:$C$52,2,FALSE),0)","v":0},null,null,{"$f":"IFERROR(VLOOKUP($B62,Ref!$B$3:$F$24,4,FALSE),0)","v":0},{"$f":"IFERROR(VLOOKUP($B62,Ref!$B$3:$E$52,3,FALSE),0)","v":0}]
[null,null,{"$f":"IFERROR(VLOOKUP($B63,Ref!$B$3:$C$52,2,FALSE),0)","v":0},null,null,{"$f":"IFERROR(VLOOKUP($B63,Ref!$B$3:$F$24,4,FALSE),0)","v":0},{"$f":"IFERROR(VLOOKUP($B63,Ref!$B$3:$E$52,3,FALSE),0)","v":0}]
[null,null,{"$f":"IFERROR(VLOOKUP($B64,Ref!$B$3:$C$52,2,FALSE),0)","v":0},null,null,{"$f":"IFERROR(VLOOKUP($B64,Ref!$B$3:$F$24,4,FALSE),0)","v":0},{"$f":"IFERROR(VLOOKUP($B64,Ref!$B$3:$E$52,3,FALSE),0)","v":0}]
[null,null,{"$f":"IFERROR(VLOOKUP($B65,Ref!$B$3:$C$52,2,FALSE),0)","v":0},null,null,{"$f":"IFERROR(VLOOKUP($B65,Ref!$B$3:$F$24,4,FALSE),0)","v":0},{"$f":"IFERROR(VLOOKUP($B65,Ref!$B$3:$E$52,3,FALSE),0)","v":0}]
[null,null,{"$f":"IFERROR(VLOOKUP($B66,Ref!$B$3:$C$52,2,FALSE),0)","v":0},null,null,{"$f":"IFERROR(VLOOKUP($B66,Ref!$B$3:$F$24,4,FALSE),0)","v":0},{"$f":"IFERROR(VLOOKUP($B66,Ref!$B$3:$E$52,3,FALSE),0)","v":0}]
[null,null,{"$f":"IFERROR(VLOOKUP($B67,Ref!$B$3:$C$52,2,FALSE),0)","v":0},null,null,{"$f":"IFERROR(VLOOKUP($B67,Ref!$B$3:$F$24,4,FALSE),0)","v":0},{"$f":"IFERROR(VLOOKUP($B67,Ref!$B$3:$E$52,3,FALSE),0)","v":0}]
[null,null,{"$f":"IFERROR(VLOOKUP($B68,Ref!$B$3:$C$52,2,FALSE),0)","v":0},null,null,{"$f":"IFERROR(VLOOKUP($B68,Ref!$B$3:$F$24,4,FALSE),0)","v":0},{"$f":"IFERROR(VLOOKUP($B68,Ref!$B$3:$E$52,3,FALSE),0)","v":0}]
[null,null,{"$f":"IFERROR(VLOOKUP($B69,Ref!$B$3:$C$52,2,FALSE),0)","v":0},null,null,{"$f":"IFERROR(VLOOKUP($B69,Ref!$B$3:$F$24,4,FALSE),0)","v":0},{"$f":"IFERROR(VLOOKUP($B69,Ref!$B$3:$E$52,3,FALSE),0)","v":0}]
[null,null,{"$f":"IFERROR(VLOOKUP($B70,Ref!$B$3:$C$52,2,FALSE),0)","v":0},null,null,{"$f":"IFERROR(VLOOKUP($B70,Ref!$B$3:$F$24,4,FALSE),0)","v":0},{"$f":"IFERROR(VLOOKUP($B70,Ref!$B$3:$E$52,3,FALSE),0)","v":0}]
[null,null,{"$f":"IFERROR(VLOOKUP($B71,Ref!$B$3:$C$52,2,FALSE),0)","v":0},null,null,{"$f":"IFERROR(VLOOKUP($B71,Ref!$B$3:$F$24,4,FALSE),0)","v":0},{"$f":"IFERROR(VLOOKUP($B71,Ref!$B$3:$E$52,3,FALSE),0)","v":0}]
[null,null,{"$f":"IFERROR(VLOOKUP($B72,Ref!$B$3:$C$52,2,FALSE),0)","v":0},null,null,{"$f":"IFERROR(VLOOKUP($B72,Ref!$B$3:$F$24,4,FALSE),0)","v":0},{"$f":"IFERROR(VLOOKUP($B72,Ref!$B$3:$E$52,3,FALSE),0)","v":0}]
[null,null,{"$f":"IFERROR(VLOOKUP($B73,Ref!$B$3:$C$52,2,FALSE),0)","v":0},null,null,{"$f":"IFERROR(VLOOKUP($B73,Ref!$B$3:$F$24,4,FALSE),0)","v":0},{"$f":"IFERROR(VLOOKUP($B73,Ref!$B$3:$E$52,3,FALSE),0)","v":0}]
[null,null,{"$f":"IFERROR(VLOOKUP($B74,Ref!$B$3:$C$52,2,FALSE),0)","v":0},null,null,{"$f":"IFERROR(VLOOKUP($B74,Ref!$B$3:$F$24,4,FALSE),0)","v":0},{"$f":"IFERROR(VLOOKUP($B74,Ref!$B$3:$E$52,3,FALSE),0)","v":0}]
[null,null,{"$f":"IFERROR(VLOOKUP($B75,Ref!$B$3:$C$52,2,FALSE),0)","v":0},null,null,{"$f":"IFERROR(VLOOKUP($B75,Ref!$B$3:$F$24,4,FALSE),0)","v":0},{"$f":"IFERROR(VLOOKUP($B75,Ref!$B$3:$E$52,3,FALSE),0)","v":0}]
[null,null,{"$f":"IFERROR(VLOOKUP($B76,Ref!$B$3:$C$52,2,FALSE),0)","v":0},null,null,{"$f":"IFERROR(VLOOKUP($B76,Ref!$B$3:$F$24,4,FALSE),0)","v":0},{"$f":"IFERROR(VLOOKUP($B76,Ref!$B$3:$E$52,3,FALSE),0)","v":0}]
[null,null,{"$f":"IFERROR(VLOOKUP($B77,Ref!$B$3:$C$52,2,FALSE),0)","v":0},null,null,{"$f":"IFERROR(VLOOKUP($B77,Ref!$B$3:$F$24,4,FALSE),0)","v":0},{"$f":"IFERROR(VLOOKUP($B77,Ref!$B$3:$E$52,3,FALSE),0)","v":0}]
[null,null,{"$f":"IFERROR(VLOOKUP($B78,Ref!$B$3:$C$52,2,FALSE),0)","v":0},null,null,{"$f":"IFERROR(VLOOKUP($B78,Ref!$B$3:$F$24,4,FALSE),0)","v":0},{"$f":"IFERROR(VLOOKUP($B78,Ref!$B$3:$E$52,3,FALSE),0)","v":0}]
[null,null,{"$f":"IFERROR(VLOOKUP($B79,Ref!$B$3:$C$52,2,FALSE),0)","v":0},null,null,{"$f":"IFERROR(VLOOKUP($B79,Ref!$B$3:$F$24,4,FALSE),0)","v":0},{"$f":"IFERROR(VLOOKUP($B79,Ref!$B$3:$E$52,3,FALSE),0)","v":0}]
[null,null,{"$f":"IFERROR(VLOOKUP($B80,Ref!$B$3:$C$52,2,FALSE),0)","v":0},null,null,{"$f":"IFERROR(VLOOKUP($B80,Ref!$B$3:$F$24,4,FALSE),0)","v":0},{"$f":"IFERROR(VLOOKUP($B80,Ref!$B$3:$E$52,3,FALSE),0)","v":0}]
[null,null,{"$f":"IFERROR(VLOOKUP($B81,Ref!$B$3:$C$52,2,FALSE),0)","v":0},null,null,{"$f":"IFERROR(VLOOKUP($B81,Ref!$B$3:$F$24,4,FALSE),0)","v":0},{"$f":"IFERROR(VLOOKUP($B81,Ref!$B$3:$E$52,3,FALSE),0)","v":0}]
[null,null,{"$f":"IFERROR(VLOOKUP($B82,Ref!$B$3:$C$52,2,FALSE),0)","v":0},null,null,{"$f":"IFERROR(VLOOKUP($B82,Ref!$B$3:$F$24,4,FALSE),0)","v":0},{"$f":"IFERROR(VLOOKUP($B82,Ref!$B$3:$E$52,3,FALSE),0)","v":0}]
[null,null,{"$f":"IFERROR(VLOOKUP($B83,Ref!$B$3:$C$52,2,FALSE),0)","v":0},null,null,{"$f":"IFERROR(VLOOKUP($B83,Ref!$B$3:$F$24,4,FALSE),0)","v":0},{"$f":"IFERROR(VLOOKUP($B83,Ref!$B$3:$E$52,3,FALSE),0)","v":0}]
[null,null,{"$f":"IFERROR(VLOOKUP($B84,Ref!$B$3:$C$52,2,FALSE),0)","v":0},null,null,{"$f":"IFERROR(VLOOKUP($B84,Ref!$B$3:$F$24,4,FALSE),0)","v":0},{"$f":"IFERROR(VLOOKUP($B84,Ref!$B$3:$E$52,3,FALSE),0)","v":0}]
[null,null,{"$f":"IFERROR(VLOOKUP($B85,Ref!$B$3:$C$52,2,FALSE),0)","v":0},null,null,{"$f":"IFERROR(VLOOKUP($B85,Ref!$B$3:$F$24,4,FALSE),0)","v":0},{"$f":"IFERROR(VLOOKUP($B85,Ref!$B$3:$E$52,3,FALSE),0)","v":0}]
[null,null,{"$f":"IFERROR(VLOOKUP($B86,Ref!$B$3:$C$52,2,FALSE),0)","v":0},null,null,{"$f":"IFERROR(VLOOKUP($B86,Ref!$B$3:$F$24,4,FALSE),0)","v":0},{"$f":"IFERROR(VLOOKUP($B86,Ref!$B$3:$E$52,3,FALSE),0)","v":0}]
[null,null,{"$f":"IFERROR(VLOOKUP($B87,Ref!$B$3:$C$52,2,FALSE),0)","v":0},null,null,{"$f":"IFERROR(VLOOKUP($B87,Ref!$B$3:$F$24,4,FALSE),0)","v":0},{"$f":"IFERROR(VLOOKUP($B87,Ref!$B$3:$E$52,3,FALSE),0)","v":0}]
[null,null,{"$f":"IFERROR(VLOOKUP($B88,Ref!$B$3:$C$52,2,FALSE),0)","v":0},null,null,{"$f":"IFERROR(VLOOKUP($B88,Ref!$B$3:$F$24,4,FALSE),0)","v":0},{"$f":"IFERROR(VLOOKUP($B88,Ref!$B$3:$E$52,3,FALSE),0)","v":0}]
[null,null,{"$f":"IFERROR(VLOOKUP($B89,Ref!$B$3:$C$52,2,FALSE),0)","v":0},null,null,{"$f":"IFERROR(VLOOKUP($B89,Ref!$B$3:$F$24,4,FALSE),0)","v":0},{"$f":"IFERROR(VLOOKUP($B89,Ref!$B$3:$E$52,3,FALSE),0)","v":0}]
[null,null,{"$f":"IFERROR(VLOOKUP($B90,Ref!$B$3:$C$52,2,FALSE),0)","v":0},null,null,{"$f":"IFERROR(VLOOKUP($B90,Ref!$B$3:$F$24,4,FALSE),0)","v":0},{"$f":"IFERROR(VLOOKUP($B90,Ref!$B$3:$E$52,3,FALSE),0)","v":0}]
[null,null,{"$f":"IFERROR(VLOOKUP($B91,Ref!$B$3:$C$52,2,FALSE),0)","v":0},null,null,{"$f":"IFERROR(VLOOKUP($B91,Ref!$B$3:$F$24,4,FALSE),0)","v":0},{"$f":"IFERROR(VLOOKUP($B91,Ref!$B$3:$E$52,3,FALSE),0)","v":0}]
[null,null,{"$f":"IFERROR(VLOOKUP($B92,Ref!$B$3:$C$52,2,FALSE),0)","v":0},null,null,{"$f":"IFERROR(VLOOKUP($B92,Ref!$B$3:$F$24,4,FALSE),0)","v":0},{"$f":"IFERROR(VLOOKUP($B92,Ref!$B$3:$E$52,3,FALSE),0)","v":0}]
[null,null,{"$f":"IFERROR(VLOOKUP($B93,Ref!$B$3:$C$52,2,FALSE),0)","v":0},null,null,{"$f":"IFERROR(VLOOKUP($B93,Ref!$B$3:$F$24,4,FALSE),0)","v":0},{"$f":"IFERROR(VLOOKUP($B93,Ref!$B$3:$E$52,3,FALSE),0)","v":0}]
[null,null,{"$f":"IFERROR(VLOOKUP($B94,Ref!$B$3:$C$52,2,FALSE),0)","v":0},null,null,{"$f":"IFERROR(VLOOKUP($B94,Ref!$B$3:$F$24,4,FALSE),0)","v":0},{"$f":"IFERROR(VLOOKUP($B94,Ref!$B$3:$E$52,3,FALSE),0)","v":0}]
[null,null,{"$f":"IFERROR(VLOOKUP($B95,Ref!$B$3:$C$52,2,FALSE),0)","v":0},null,null,{"$f":"IFERROR(VLOOKUP($B95,Ref!$B$3:$F$24,4,FALSE),0)","v":0},{"$f":"IFERROR(VLOOKUP($B95,Ref!$B$3:$E$52,3,FALSE),0)","v":0}]
[null,null,{"$f":"IFERROR(VLOOKUP($B96,Ref!$B$3:$C$52,2,FALSE),0)","v":0},null,null,{"$f":"IFERROR(VLOOKUP($B96,Ref!$B$3:$F$24,4,FALSE),0)","v":0},{"$f":"IFERROR(VLOOKUP($B96,Ref!$B$3:$E$52,3,FALSE),0)","v":0}]
[null,null,{"$f":"IFERROR(VLOOKUP($B97,Ref!$B$3:$C$52,2,FALSE),0)","v":0},null,null,{"$f":"IFERROR(VLOOKUP($B97,Ref!$B$3:$F$24,4,FALSE),0)","v":0},{"$f":"IFERROR(VLOOKUP($B97,Ref!$B$3:$E$52,3,FALSE),0)","v":0}]
[null,null,{"$f":"IFERROR(VLOOKUP($B98,Ref!$B$3:$C$52,2,FALSE),0)","v":0},null,null,{"$f":"IFERROR(VLOOKUP($B98,Ref!$B$3:$F$24,4,FALSE),0)","v":0},{"$f":"IFERROR(VLOOKUP($B98,Ref!$B$3:$E$52,3,FALSE),0)","v":0}]
[null,null,{"$f":"IFERROR(VLOOKUP($B99,Ref!$B$3:$C$52,2,FALSE),0)","v":0},null,null,{"$f":"IFERROR(VLOOKUP($B99,Ref!$B$3:$F$24,4,FALSE),0)","v":0},{"$f":"IFERROR(VLOOKUP($B99,Ref!$B$3:$E$52,3,FALSE),0)","v":0}]
[null,null,{"$f":"IFERROR(VLOOKUP($B100,Ref!$B$3:$C$52,2,FALSE),0)","v":0},null,null,{"$f":"IFERROR(VLOOKUP($B100,Ref!$B$3:$F$24,4,FALSE),0)","v":0},{"$f":"IFERROR(VLOOKUP($B100,Ref!$B$3:$E$52,3,FALSE),0)","v":0}]
[null,null,{"$f":"IFERROR(VLOOKUP($B101,Ref!$B$3:$C$52,2,FALSE),0)","v":0},null,null,{"$f":"IFERROR(VLOOKUP($B101,Ref!$B$3:$F$24,4,FALSE),0)","v":0},{"$f":"IFERROR(VLOOKUP($B101,Ref!$B$3:$E$52,3,FALSE),0)","v":0}]
[null,null,{"$f":"IFERROR(VLOOKUP($B102,Ref!$B$3:$C$52,2,FALSE),0)","v":0},null,null,{"$f":"IFERROR(VLOOKUP($B102,Ref!$B$3:$F$24,4,FALSE),0)","v":0},{"$f":"IFERROR(VLOOKUP($B102,Ref!$B$3:$E$52,3,FALSE),0)","v":0}]
[null,null,{"$f":"IFERROR(VLOOKUP($B103,Ref!$B$3:$C$52,2,FALSE),0)","v":0},null,null,{"$f":"IFERROR(VLOOKUP($B103,Ref!$B$3:$F$24,4,FALSE),0)","v":0},{"$f":"IFERROR(VLOOKUP($B103,Ref!$B$3:$E$52,3,FALSE),0)","v":0}]
[null,null,{"$f":"IFERROR(VLOOKUP($B104,Ref!$B$3:$C$52,2,FALSE),0)","v":0},null,null,{"$f":"IFERROR(VLOOKUP($B104,Ref!$B$3:$F$24,4,FALSE),0)","v":0},{"$f":"IFERROR(VLOOKUP($B104,Ref!$B$3:$E$52,3,FALSE),0)","v":0}]
[null,null,{"$f":"IFERROR(VLOOKUP($B105,Ref!$B$3:$C$52,2,FALSE),0)","v":0},null,null,{"$f":"IFERROR(VLOOKUP($B105,Ref!$B$3:$F$24,4,FALSE),0)","v":0},{"$f":"IFERROR(VLOOKUP($B105,Ref!$B$3:$E$52,3,FALSE),0)","v":0}]
[null,null,{"$f":"IFERROR(VLOOKUP($B106,Ref!$B$3:$C$52,2,FALSE),0)","v":0},null,null,{"$f":"IFERROR(VLOOKUP($B106,Ref!$B$3:$F$24,4,FALSE),0)","v":0},{"$f":"IFERROR(VLOOKUP($B106,Ref!$B$3:$E$52,3,FALSE),0)","v":0}]
[null,null,{"$f":"IFERROR(VLOOKUP($B107,Ref!$B$3:$C$52,2,FALSE),0)","v":0},null,null,{"$f":"IFERROR(VLOOKUP($B107,Ref!$B$3:$F$24,4,FALSE),0)","v":0},{"$f":"IFERROR(VLOOKUP($B107,Ref!$B$3:$E$52,3,FALSE),0)","v":0}]
[null,null,{"$f":"IFERROR(VLOOKUP($B108,Ref!$B$3:$C$52,2,FALSE),0)","v":0},null,null,{"$f":"IFERROR(VLOOKUP($B108,Ref!$B$3:$F$24,4,FALSE),0)","v":0},{"$f":"IFERROR(VLOOKUP($B108,Ref!$B$3:$E$52,3,FALSE),0)","v":0}]
[null,null,{"$f":"IFERROR(VLOOKUP($B109,Ref!$B$3:$C$52,2,FALSE),0)","v":0},null,null,{"$f":"IFERROR(VLOOKUP($B109,Ref!$B$3:$F$24,4,FALSE),0)","v":0},{"$f":"IFERROR(VLOOKUP($B109,Ref!$B$3:$E$52,3,FALSE),0)","v":0}]
[null,null,{"$f":"IFERROR(VLOOKUP($B110,Ref!$B$3:$C$52,2,FALSE),0)","v":0},null,null,{"$f":"IFERROR(VLOOKUP($B110,Ref!$B$3:$F$24,4,FALSE),0)","v":0},{"$f":"IFERROR(VLOOKUP($B110,Ref!$B$3:$E$52,3,FALSE),0)","v":0}]
[null,null,{"$f":"IFERROR(VLOOKUP($B111,Ref!$B$3:$C$52,2,FALSE),0)","v":0},null,null,{"$f":"IFERROR(VLOOKUP($B111,Ref!$B$3:$F$24,4,FALSE),0)","v":0},{"$f":"IFERROR(VLOOKUP($B111,Ref!$B$3:$E$52,3,FALSE),0)","v":0}]
[null,null,{"$f":"IFERROR(VLOOKUP($B112,Ref!$B$3:$C$52,2,FALSE),0)","v":0},null,null,{"$f":"IFERROR(VLOOKUP($B112,Ref!$B$3:$F$24,4,FALSE),0)","v":0},{"$f":"IFERROR(VLOOKUP($B112,Ref!$B$3:$E$52,3,FALSE),0)","v":0}]
[null,null,{"$f":"IFERROR(VLOOKUP($B113,Ref!$B$3:$C$52,2,FALSE),0)","v":0},null,null,{"$f":"IFERROR(VLOOKUP($B113,Ref!$B$3:$F$24,4,FALSE),0)","v":0},{"$f":"IFERROR(VLOOKUP($B113,Ref!$B$3:$E$52,3,FALSE),0)","v":0}]
[null,null,{"$f":"IFERROR(VLOOKUP($B114,Ref!$B$3:$C$52,2,FALSE),0)","v":0},null,null,{"$f":"IFERROR(VLOOKUP($B114,Ref!$B$3:$F$24,4,FALSE),0)","v":0},{"$f":"IFERROR(VLOOKUP($B114,Ref!$B$3:$E$52,3,FALSE),0)","v":0}]
[null,null,{"$f":"IFERROR(VLOOKUP($B115,Ref!$B$3:$C$52,2,FALSE),0)","v":0},null,null,{"$f":"IFERROR(VLOOKUP($B115,Ref!$B$3:$F$24,4,FALSE),0)","v":0},{"$f":"IFERROR(VLOOKUP($B115,Ref!$B$3:$E$52,3,FALSE),0)","v":0}]
[null,null,{"$f":"IFERROR(VLOOKUP($B116,Ref!$B$3:$C$52,2,FALSE),0)","v":0},null,null,{"$f":"IFERROR(VLOOKUP($B116,Ref!$B$3:$F$24,4,FALSE),0)","v":0},{"$f":"IFERROR(VLOOKUP($B116,Ref!$B$3:$E$52,3,FALSE),0)","v":0}]
[null,null,{"$f":"IFERROR(VLOOKUP($B117,Ref!$B$3:$C$52,2,FALSE),0)","v":0},null,null,{"$f":"IFERROR(VLOOKUP($B117,Ref!$B$3:$F$24,4,FALSE),0)","v":0},{"$f":"IFERROR(VLOOKUP($B117,Ref!$B$3:$E$52,3,FALSE),0)","v":0}]
[null,null,{"$f":"IFERROR(VLOOKUP($B118,Ref!$B$3:$C$52,2,FALSE),0)","v":0},null,null,{"$f":"IFERROR(VLOOKUP($B118,Ref!$B$3:$F$24,4,FALSE),0)","v":0},{"$f":"IFERROR(VLOOKUP($B118,Ref!$B$3:$E$52,3,FALSE),0)","v":0}]
[null,null,{"$f":"IFERROR(VLOOKUP($B119,Ref!$B$3:$C$52,2,FALSE),0)","v":0},null,null,{"$f":"IFERROR(VLOOKUP($B119,Ref!$B$3:$F$24,4,FALSE),0)","v":0},{"$f":"IFERROR(VLOOKUP($B119,Ref!$B$3:$E$52,3,FALSE),0)","v":0}]
[null,null,{"$f":"IFERROR(VLOOKUP($B120,Ref!$B$3:$C$52,2,FALSE),0)","v":0},null,null,{"$f":"IFERROR(VLOOKUP($B120,Ref!$B$3:$F$24,4,FALSE),0)","v":0},{"$f":"IFERROR(VLOOKUP($B120,Ref!$B$3:$E$52,3,FALSE),0)","v":0}]
[null,null,{"$f":"IFERROR(VLOOKUP($B121,Ref!$B$3:$C$52,2,FALSE),0)","v":0},null,null,{"$f":"IFERROR(VLOOKUP($B121,Ref!$B$3:$F$24,4,FALSE),0)","v":0},{"$f":"IFERROR(VLOOKUP($B121,Ref!$B$3:$E$52,3,FALSE),0)","v":0}]
[null,null,{"$f":"IFERROR(VLOOKUP($B122,Ref!$B$3:$C$52,2,FALSE),0)","v":0},null,null,{"$f":"IFERROR(VLOOKUP($B122,Ref!$B$3:$F$24,4,FALSE),0)","v":0},{"$f":"IFERROR(VLOOKUP($B122,Ref!$B$3:$E$52,3,FALSE),0)","v":0}]
[null,null,{"$f":"IFERROR(VLOOKUP($B123,Ref!$B$3:$C$52,2,FALSE),0)","v":0},null,null,{"$f":"IFERROR(VLOOKUP($B123,Ref!$B$3:$F$24,4,FALSE),0)","v":0},{"$f":"IFERROR(VLOOKUP($B123,Ref!$B$3:$E$52,3,FALSE),0)","v":0}]
[null,null,{"$f":"IFERROR(VLOOKUP($B124,Ref!$B$3:$C$52,2,FALSE),0)","v":0},null,null,{"$f":"IFERROR(VLOOKUP($B124,Ref!$B$3:$F$24,4,FALSE),0)","v":0},{"$f":"IFERROR(VLOOKUP($B124,Ref!$B$3:$E$52,3,FALSE),0)","v":0}]
[null,null,{"$f":"IFERROR(VLOOKUP($B125,Ref!$B$3:$C$52,2,FALSE),0)","v":0},null,null,{"$f":"IFERROR(VLOOKUP($B125,Ref!$B$3:$F$24,4,FALSE),0)","v":0},{"$f":"IFERROR(VLOOKUP($B125,Ref!$B$3:$E$52,3,FALSE),0)","v":0}]
[null,null,{"$f":"IFERROR(VLOOKUP($B126,Ref!$B$3:$C$52,2,FALSE),0)","v":0},null,null,{"$f":"IFERROR(VLOOKUP($B126,Ref!$B$3:$F$24,4,FALSE),0)","v":0},{"$f":"IFERROR(VLOOKUP($B126,Ref!$B$3:$E$52,3,FALSE),0)","v":0}]
[null,null,{"$f":"IFERROR(VLOOKUP($B127,Ref!$B$3:$C$52,2,FALSE),0)","v":0},null,null,{"$f":"IFERROR(VLOOKUP($B127,Ref!$B$3:$F$24,4,FALSE),0)","v":0},{"$f":"IFERROR(VLOOKUP($B127,Ref!$B$3:$E$52,3,FALSE),0)","v":0}]
[null,null,{"$f":"IFERROR(VLOOKUP($B128,Ref!$B$3:$C$52,2,FALSE),0)","v":0},null,null,{"$f":"IFERROR(VLOOKUP($B128,Ref!$B$3:$F$24,4,FALSE),0)","v":0},{"$f":"IFERROR(VLOOKUP($B128,Ref!$B$3:$E$52,3,FALSE),0)","v":0}]
[null,null,{"$f":"IFERROR(VLOOKUP($B129,Ref!$B$3:$C$52,2,FALSE),0)","v":0},null,null,{"$f":"IFERROR(VLOOKUP($B129,Ref!$B$3:$F$24,4,FALSE),0)","v":0},{"$f":"IFERROR(VLOOKUP($B129,Ref!$B$3:$E$52,3,FALSE),0)","v":0}]
[null,null,{"$f":"IFERROR(VLOOKUP($B130,Ref!$B$3:$C$52,2,FALSE),0)","v":0},null,null,{"$f":"IFERROR(VLOOKUP($B130,Ref!$B$3:$F$24,4,FALSE),0)","v":0},{"$f":"IFERROR(VLOOKUP($B130,Ref!$B$3:$E$52,3,FALSE),0)","v":0}]
[null,null,{"$f":"IFERROR(VLOOKUP($B131,Ref!$B$3:$C$52,2,FALSE),0)","v":0},null,null,{"$f":"IFERROR(VLOOKUP($B131,Ref!$B$3:$F$24,4,FALSE),0)","v":0},{"$f":"IFERROR(VLOOKUP($B131,Ref!$B$3:$E$52,3,FALSE),0)","v":0}]
[null,null,{"$f":"IFERROR(VLOOKUP($B132,Ref!$B$3:$C$52,2,FALSE),0)","v":0},null,null,{"$f":"IFERROR(VLOOKUP($B132,Ref!$B$3:$F$24,4,FALSE),0)","v":0},{"$f":"IFERROR(VLOOKUP($B132,Ref!$B$3:$E$52,3,FALSE),0)","v":0}]
[null,null,{"$f":"IFERROR(VLOOKUP($B133,Ref!$B$3:$C$52,2,FALSE),0)","v":0},null,null,{"$f":"IFERROR(VLOOKUP($B133,Ref!$B$3:$F$24,4,FALSE),0)","v":0},{"$f":"IFERROR(VLOOKUP($B133,Ref!$B$3:$E$52,3,FALSE),0)","v":0}]
[null,null,{"$f":"IFERROR(VLOOKUP($B134,Ref!$B$3:$C$52,2,FALSE),0)","v":0},null,null,{"$f":"IFERROR(VLOOKUP($B134,Ref!$B$3:$F$24,4,FALSE),0)","v":0},{"$f":"IFERROR(VLOOKUP($B134,Ref!$B$3:$E$52,3,FALSE),0)","v":0}]
[null,null,{"$f":"IFERROR(VLOOKUP($B135,Ref!$B$3:$C$52,2,FALSE),0)","v":0},null,null,{"$f":"IFERROR(VLOOKUP($B135,Ref!$B$3:$F$24,4,FALSE),0)","v":0},{"$f":"IFERROR(VLOOKUP($B135,Ref!$B$3:$E$52,3,FALSE),0)","v":0}]
[null,null,{"$f":"IFERROR(VLOOKUP($B136,Ref!$B$3:$C$52,2,FALSE),0)","v":0},null,null,{"$f":"IFERROR(VLOOKUP($B136,Ref!$B$3:$F$24,4,FALSE),0)","v":0},{"$f":"IFERROR(VLOOKUP($B136,Ref!$B$3:$E$52,3,FALSE),0)","v":0}]
[null,null,{"$f":"IFERROR(VLOOKUP($B137,Ref!$B$3:$C$52,2,FALSE),0)","v":0},null,null,{"$f":"IFERROR(VLOOKUP($B137,Ref!$B$3:$F$24,4,FALSE),0)","v":0},{"$f":"IFERROR(VLOOKUP($B137,Ref!$B$3:$E$52,3,FALSE),0)","v":0}]
[null,null,{"$f":"IFERROR(VLOOKUP($B138,Ref!$B$3:$C$52,2,FALSE),0)","v":0},null,null,{"$f":"IFERROR(VLOOKUP($B138,Ref!$B$3:$F$24,4,FALSE),0)","v":0},{"$f":"IFERROR(VLOOKUP($B138,Ref!$B$3:$E$52,3,FALSE),0)","v":0}]
[null,null,{"$f":"IFERROR(VLOOKUP($B139,Ref!$B$3:$C$52,2,FALSE),0)","v":0},null,null,{"$f":"IFERROR(VLOOKUP($B139,Ref!$B$3:$F$24,4,FALSE),0)","v":0},{"$f":"IFERROR(VLOOKUP($B139,Ref!$B$3:$E$52,3,FALSE),0)","v":0}]
[null,null,{"$f":"IFERROR(VLOOKUP($B140,Ref!$B$3:$C$52,2,FALSE),0)","v":0},null,null,{"$f":"IFERROR(VLOOKUP($B140,Ref!$B$3:$F$24,4,FALSE),0)","v":0},{"$f":"IFERROR(VLOOKUP($B140,Ref!$B$3:$E$52,3,FALSE),0)","v":0}]
[null,null,{"$f":"IFERROR(VLOOKUP($B141,Ref!$B$3:$C$52,2,FALSE),0)","v":0},null,null,{"$f":"IFERROR(VLOOKUP($B141,Ref!$B$3:$F$24,4,FALSE),0)","v":0},{"$f":"IFERROR(VLOOKUP($B141,Ref!$B$3:$E$52,3,FALSE),0)","v":0}]
[null,null,{"$f":"IFERROR(VLOOKUP($B142,Ref!$B$3:$C$52,2,FALSE),0)","v":0},null,null,{"$f":"IFERROR(VLOOKUP($B142,Ref!$B$3:$F$24,4,FALSE),0)","v":0},{"$f":"IFERROR(VLOOKUP($B142,Ref!$B$3:$E$52,3,FALSE),0)","v":0}]
[null,null,{"$f":"IFERROR(VLOOKUP($B143,Ref!$B$3:$C$52,2,FALSE),0)","v":0},null,null,{"$f":"IFERROR(VLOOKUP($B143,Ref!$B$3:$F$24,4,FALSE),0)","v":0},{"$f":"IFERROR(VLOOKUP($B143,Ref!$B$3:$E$52,3,FALSE),0)","v":0}]
[null,null,{"$f":"IFERROR(VLOOKUP($B144,Ref!$B$3:$C$52,2,FALSE),0)","v":0},null,null,{"$f":"IFERROR(VLOOKUP($B144,Ref!$B$3:$F$24,4,FALSE),0)","v":0},{"$f":"IFERROR(VLOOKUP($B144,Ref!$B$3:$E$52,3,FALSE),0)","v":0}]
[null,null,{"$f":"IFERROR(VLOOKUP($B145,Ref!$B$3:$C$52,2,FALSE),0)","v":0},null,null,{"$f":"IFERROR(VLOOKUP($B145,Ref!$B$3:$F$24,4,FALSE),0)","v":0},{"$f":"IFERROR(VLOOKUP($B145,Ref!$B$3:$E$52,3,FALSE),0)","v":0}]
[null,null,{"$f":"IFERROR(VLOOKUP($B146,Ref!$B$3:$C$52,2,FALSE),0)","v":0},null,null,{"$f":"IFERROR(VLOOKUP($B146,Ref!$B$3:$F$24,4,FALSE),0)","v":0},{"$f":"IFERROR(VLOOKUP($B146,Ref!$B$3:$E$52,3,FALSE),0)","v":0}]
[null,null,{"$f":"IFERROR(VLOOKUP($B147,Ref!$B$3:$C$52,2,FALSE),0)","v":0},null,null,{"$f":"IFERROR(VLOOKUP($B147,Ref!$B$3:$F$24,4,FALSE),0)","v":0},{"$f":"IFERROR(VLOOKUP($B147,Ref!$B$3:$E$52,3,FALSE),0)","v":0}]
[null,null,{"$f":"IFERROR(VLOOKUP($B148,Ref!$B$3:$C$52,2,FALSE),0)","v":0},null,null,{"$f":"IFERROR(VLOOKUP($B148,Ref!$B$3:$F$24,4,FALSE),0)","v":0},{"$f":"IFERROR(VLOOKUP($B148,Ref!$B$3:$E$52,3,FALSE),0)","v":0}]
[null,null,{"$f":"IFERROR(VLOOKUP($B149,Ref!$B$3:$C$52,2,FALSE),0)","v":0},null,null,{"$f":"IFERROR(VLOOKUP($B149,Ref!$B$3:$F$24,4,FALSE),0)","v":0},{"$f":"IFERROR(VLOOKUP($B149,Ref!$B$3:$E$52,3,FALSE),0)","v":0}]
[null,null,{"$f":"IFERROR(VLOOKUP($B150,Ref!$B$3:$C$52,2,FALSE),0)","v":0},null,null,{"$f":"IFERROR(VLOOKUP($B150,Ref!$B$3:$F$24,4,FALSE),0)","v":0},{"$f":"IFERROR(VLOOKUP($B150,Ref!$B$3:$E$52,3,FALSE),0)","v":0}]
[null,null,{"$f":"IFERROR(VLOOKUP($B151,Ref!$B$3:$C$52,2,FALSE),0)","v":0},null,null,{"$f":"IFERROR(VLOOKUP($B151,Ref!$B$3:$F$24,4,FALSE),0)","v":0},{"$f":"IFERROR(VLOOKUP($B151,Ref!$B$3:$E$52,3,FALSE),0)","v":0}]
[null,null,{"$f":"IFERROR(VLOOKUP($B152,Ref!$B$3:$C$52,2,FALSE),0)","v":0},null,null,{"$f":"IFERROR(VLOOKUP($B152,Ref!$B$3:$F$24,4,FALSE),0)","v":0},{"$f":"IFERROR(VLOOKUP($B152,Ref!$B$3:$E$52,3,FALSE),0)","v":0}]
[null,null,{"$f":"IFERROR(VLOOKUP($B153,Ref!$B$3:$C$52,2,FALSE),0)","v":0},null,null,{"$f":"IFERROR(VLOOKUP($B153,Ref!$B$3:$F$24,4,FALSE),0)","v":0},{"$f":"IFERROR(VLOOKUP($B153,Ref!$B$3:$E$52,3,FALSE),0)","v":0}]
[null,null,{"$f":"IFERROR(VLOOKUP($B154,Ref!$B$3:$C$52,2,FALSE),0)","v":0},null,null,{"$f":"IFERROR(VLOOKUP($B154,Ref!$B$3:$F$24,4,FALSE),0)","v":0},{"$f":"IFERROR(VLOOKUP($B154,Ref!$B$3:$E$52,3,FALSE),0)","v":0}]
[null,null,{"$f":"IFERROR(VLOOKUP($B155,Ref!$B$3:$C$52,2,FALSE),0)","v":0},null,null,{"$f":"IFERROR(VLOOKUP($B155,Ref!$B$3:$F$24,4,FALSE),0)","v":0},{"$f":"IFERROR(VLOOKUP($B155,Ref!$B$3:$E$52,3,FALSE),0)","v":0}]
[null,null,{"$f":"IFERROR(VLOOKUP($B156,Ref!$B$3:$C$52,2,FALSE),0)","v":0},null,null,{"$f":"IFERROR(VLOOKUP($B156,Ref!$B$3:$F$24,4,FALSE),0)","v":0},{"$f":"IFERROR(VLOOKUP($B156,Ref!$B$3:$E$52,3,FALSE),0)","v":0}]
[null,null,{"$f":"IFERROR(VLOOKUP($B157,Ref!$B$3:$C$52,2,FALSE),0)","v":0},null,null,{"$f":"IFERROR(VLOOKUP($B157,Ref!$B$3:$F$24,4,FALSE),0)","v":0},{"$f":"IFERROR(VLOOKUP($B157,Ref!$B$3:$E$52,3,FALSE),0)","v":0}]
[null,null,{"$f":"IFERROR(VLOOKUP($B158,Ref!$B$3:$C$52,2,FALSE),0)","v":0},null,null,{"$f":"IFERROR(VLOOKUP($B158,Ref!$B$3:$F$24,4,FALSE),0)","v":0},{"$f":"IFERROR(VLOOKUP($B158,Ref!$B$3:$E$52,3,FALSE),0)","v":0}]
[null,null,{"$f":"IFERROR(VLOOKUP($B159,Ref!$B$3:$C$52,2,FALSE),0)","v":0},null,null,{"$f":"IFERROR(VLOOKUP($B159,Ref!$B$3:$F$24,4,FALSE),0)","v":0},{"$f":"IFERROR(VLOOKUP($B159,Ref!$B$3:$E$52,3,FALSE),0)","v":0}]
[null,null,{"$f":"IFERROR(VLOOKUP($B160,Ref!$B$3:$C$52,2,FALSE),0)","v":0},null,null,{"$f":"IFERROR(VLOOKUP($B160,Ref!$B$3:$F$24,4,FALSE),0)","v":0},{"$f":"IFERROR(VLOOKUP($B160,Ref!$B$3:$E$52,3,FALSE),0)","v":0}]
[null,null,{"$f":"IFERROR(VLOOKUP($B161,Ref!$B$3:$C$52,2,FALSE),0)","v":0},null,null,{"$f":"IFERROR(VLOOKUP($B161,Ref!$B$3:$F$24,4,FALSE),0)","v":0},{"$f":"IFERROR(VLOOKUP($B161,Ref!$B$3:$E$52,3,FALSE),0)","v":0}]
[null,null,{"$f":"IFERROR(VLOOKUP($B162,Ref!$B$3:$C$52,2,FALSE),0)","v":0},null,null,{"$f":"IFERROR(VLOOKUP($B162,Ref!$B$3:$F$24,4,FALSE),0)","v":0},{"$f":"IFERROR(VLOOKUP($B162,Ref!$B$3:$E$52,3,FALSE),0)","v":0}]
[null,null,{"$f":"IFERROR(VLOOKUP($B163,Ref!$B$3:$C$52,2,FALSE),0)","v":0},null,null,{"$f":"IFERROR(VLOOKUP($B163,Ref!$B$3:$F$24,4,FALSE),0)","v":0},{"$f":"IFERROR(VLOOKUP($B163,Ref!$B$3:$E$52,3,FALSE),0)","v":0}]
[null,null,{"$f":"IFERROR(VLOOKUP($B164,Ref!$B$3:$C$52,2,FALSE),0)","v":0},null,null,{"$f":"IFERROR(VLOOKUP($B164,Ref!$B$3:$F$24,4,FALSE),0)","v":0},{"$f":"IFERROR(VLOOKUP($B164,Ref!$B$3:$E$52,3,FALSE),0)","v":0}]
[null,null,{"$f":"IFERROR(VLOOKUP($B165,Ref!$B$3:$C$52,2,FALSE),0)","v":0},null,null,{"$f":"IFERROR(VLOOKUP($B165,Ref!$B$3:$F$24,4,FALSE),0)","v":0},{"$f":"IFERROR(VLOOKUP($B165,Ref!$B$3:$E$52,3,FALSE),0)","v":0}]
[null,null,{"$f":"IFERROR(VLOOKUP($B166,Ref!$B$3:$C$52,2,FALSE),0)","v":0},null,null,{"$f":"IFERROR(VLOOKUP($B166,Ref!$B$3:$F$24,4,FALSE),0)","v":0},{"$f":"IFERROR(VLOOKUP($B166,Ref!$B$3:$E$52,3,FALSE),0)","v":0}]
[null,null,{"$f":"IFERROR(VLOOKUP($B167,Ref!$B$3:$C$52,2,FALSE),0)","v":0},null,null,{"$f":"IFERROR(VLOOKUP($B167,Ref!$B$3:$F$24,4,FALSE),0)","v":0},{"$f":"IFERROR(VLOOKUP($B167,Ref!$B$3:$E$52,3,FALSE),0)","v":0}]
[null,null,{"$f":"IFERROR(VLOOKUP($B168,Ref!$B$3:$C$52,2,FALSE),0)","v":0},null,null,{"$f":"IFERROR(VLOOKUP($B168,Ref!$B$3:$F$24,4,FALSE),0)","v":0},{"$f":"IFERROR(VLOOKUP($B168,Ref!$B$3:$E$52,3,FALSE),0)","v":0}]
[null,null,{"$f":"IFERROR(VLOOKUP($B169,Ref!$B$3:$C$52,2,FALSE),0)","v":0},null,null,{"$f":"IFERROR(VLOOKUP($B169,Ref!$B$3:$F$24,4,FALSE),0)","v":0},{"$f":"IFERROR(VLOOKUP($B169,Ref!$B$3:$E$52,3,FALSE),0)","v":0}]
[null,null,{"$f":"IFERROR(VLOOKUP($B170,Ref!$B$3:$C$52,2,FALSE),0)","v":0},null,null,{"$f":"IFERROR(VLOOKUP($B170,Ref!$B$3:$F$24,4,FALSE),0)","v":0},{"$f":"IFERROR(VLOOKUP($B170,Ref!$B$3:$E$52,3,FALSE),0)","v":0}]
[null,null,{"$f":"IFERROR(VLOOKUP($B171,Ref!$B$3:$C$52,2,FALSE),0)","v":0},null,null,{"$f":"IFERROR(VLOOKUP($B171,Ref!$B$3:$F$24,4,FALSE),0)","v":0},{"$f":"IFERROR(VLOOKUP($B171,Ref!$B$3:$E$52,3,FALSE),0)","v":0}]
[null,null,{"$f":"IFERROR(VLOOKUP($B172,Ref!$B$3:$C$52,2,FALSE),0)","v":0},null,null,{"$f":"IFERROR(VLOOKUP($B172,Ref!$B$3:$F$24,4,FALSE),0)","v":0},{"$f":"IFERROR(VLOOKUP($B172,Ref!$B$3:$E$52,3,FALSE),0)","v":0}]
[null,null,{"$f":"IFERROR(VLOOKUP($B173,Ref!$B$3:$C$52,2,FALSE),0)","v":0},null,null,{"$f":"IFERROR(VLOOKUP($B173,Ref!$B$3:$F$24,4,FALSE),0)","v":0},{"$f":"IFERROR(VLOOKUP($B173,Ref!$B$3:$E$52,3,FALSE),0)","v":0}]
[null,null,{"$f":"IFERROR(VLOOKUP($B174,Ref!$B$3:$C$52,2,FALSE),0)","v":0},null,null,{"$f":"IFERROR(VLOOKUP($B174,Ref!$B$3:$F$24,4,FALSE),0)","v":0},{"$f":"IFERROR(VLOOKUP($B174,Ref!$B$3:$E$52,3,FALSE),0)","v":0}]
[null,null,{"$f":"IFERROR(VLOOKUP($B175,Ref!$B$3:$C$52,2,FALSE),0)","v":0},null,null,{"$f":"IFERROR(VLOOKUP($B175,Ref!$B$3:$F$24,4,FALSE),0)","v":0},{"$f":"IFERROR(VLOOKUP($B175,Ref!$B$3:$E$52,3,FALSE),0)","v":0}]
[null,null,{"$f":"IFERROR(VLOOKUP($B176,Ref!$B$3:$C$52,2,FALSE),0)","v":0},null,null,{"$f":"IFERROR(VLOOKUP($B176,Ref!$B$3:$F$24,4,FALSE),0)","v":0},{"$f":"IFERROR(VLOOKUP($B176,Ref!$B$3:$E$52,3,FALSE),0)","v":0}]
[null,null,{"$f":"IFERROR(VLOOKUP($B177,Ref!$B$3:$C$52,2,FALSE),0)","v":0},null,null,{"$f":"IFERROR(VLOOKUP($B177,Ref!$B$3:$F$24,4,FALSE),0)","v":0},{"$f":"IFERROR(VLOOKUP($B177,Ref!$B$3:$E$52,3,FALSE),0)","v":0}]
[null,null,{"$f":"IFERROR(VLOOKUP($B178,Ref!$B$3:$C$52,2,FALSE),0)","v":0},null,null,{"$f":"IFERROR(VLOOKUP($B178,Ref!$B$3:$F$24,4,FALSE),0)","v":0},{"$f":"IFERROR(VLOOKUP($B178,Ref!$B$3:$E$52,3,FALSE),0)","v":0}]
[null,null,{"$f":"IFERROR(VLOOKUP($B179,Ref!$B$3:$C$52,2,FALSE),0)","v":0},null,null,{"$f":"IFERROR(VLOOKUP($B179,Ref!$B$3:$F$24,4,FALSE),0)","v":0},{"$f":"IFERROR(VLOOKUP($B179,Ref!$B$3:$E$52,3,FALSE),0)","v":0}]
[null,null,{"$f":"IFERROR(VLOOKUP($B180,Ref!$B$3:$C$52,2,FALSE),0)","v":0},null,null,{"$f":"IFERROR(VLOOKUP($B180,Ref!$B$3:$F$24,4,FALSE),0)","v":0},{"$f":"IFERROR(VLOOKUP($B180,Ref!$B$3:$E$52,3,FALSE),0)","v":0}]
[null,null,{"$f":"IFERROR(VLOOKUP($B181,Ref!$B$3:$C$52,2,FALSE),0)","v":0},null,null,{"$f":"IFERROR(VLOOKUP($B181,Ref!$B$3:$F$24,4,FALSE),0)","v":0},{"$f":"IFERROR(VLOOKUP($B181,Ref!$B$3:$E$52,3,FALSE),0)","v":0}]
[null,null,{"$f":"IFERROR(VLOOKUP($B182,Ref!$B$3:$C$52,2,FALSE),0)","v":0},null,null,{"$f":"IFERROR(VLOOKUP($B182,Ref!$B$3:$F$24,4,FALSE),0)","v":0},{"$f":"IFERROR(VLOOKUP($B182,Ref!$B$3:$E$52,3,FALSE),0)","v":0}]
[null,null,{"$f":"IFERROR(VLOOKUP($B183,Ref!$B$3:$C$52,2,FALSE),0)","v":0},null,null,{"$f":"IFERROR(VLOOKUP($B183,Ref!$B$3:$F$24,4,FALSE),0)","v":0},{"$f":"IFERROR(VLOOKUP($B183,Ref!$B$3:$E$52,3,FALSE),0)","v":0}]
[null,null,{"$f":"IFERROR(VLOOKUP($B184,Ref!$B$3:$C$52,2,FALSE),0)","v":0},null,null,{"$f":"IFERROR(VLOOKUP($B184,Ref!$B$3:$F$24,4,FALSE),0)","v":0},{"$f":"IFERROR(VLOOKUP($B184,Ref!$B$3:$E$52,3,FALSE),0)","v":0}]
[null,null,{"$f":"IFERROR(VLOOKUP($B185,Ref!$B$3:$C$52,2,FALSE),0)","v":0},null,null,{"$f":"IFERROR(VLOOKUP($B185,Ref!$B$3:$F$24,4,FALSE),0)","v":0},{"$f":"IFERROR(VLOOKUP($B185,Ref!$B$3:$E$52,3,FALSE),0)","v":0}]
[null,null,{"$f":"IFERROR(VLOOKUP($B186,Ref!$B$3:$C$52,2,FALSE),0)","v":0},null,null,{"$f":"IFERROR(VLOOKUP($B186,Ref!$B$3:$F$24,4,FALSE),0)","v":0},{"$f":"IFERROR(VLOOKUP($B186,Ref!$B$3:$E$52,3,FALSE),0)","v":0}]
[null,null,{"$f":"IFERROR(VLOOKUP($B187,Ref!$B$3:$C$52,2,FALSE),0)","v":0},null,null,{"$f":"IFERROR(VLOOKUP($B187,Ref!$B$3:$F$24,4,FALSE),0)","v":0},{"$f":"IFERROR(VLOOKUP($B187,Ref!$B$3:$E$52,3,FALSE),0)","v":0}]
[null,null,{"$f":"IFERROR(VLOOKUP($B188,Ref!$B$3:$C$52,2,FALSE),0)","v":0},null,null,{"$f":"IFERROR(VLOOKUP($B188,Ref!$B$3:$F$24,4,FALSE),0)","v":0},{"$f":"IFERROR(VLOOKUP($B188,Ref!$B$3:$E$52,3,FALSE),0)","v":0}]
[null,null,{"$f":"IFERROR(VLOOKUP($B189,Ref!$B$3:$C$52,2,FALSE),0)","v":0},null,null,{"$f":"IFERROR(VLOOKUP($B189,Ref!$B$3:$F$24,4,FALSE),0)","v":0},{"$f":"IFERROR(VLOOKUP($B189,Ref!$B$3:$E$52,3,FALSE),0)","v":0}]
[null,null,{"$f":"IFERROR(VLOOKUP($B190,Ref!$B$3:$C$52,2,FALSE),0)","v":0},null,null,{"$f":"IFERROR(VLOOKUP($B190,Ref!$B$3:$F$24,4,FALSE),0)","v":0},{"$f":"IFERROR(VLOOKUP($B190,Ref!$B$3:$E$52,3,FALSE),0)","v":0}]
[null,null,{"$f":"IFERROR(VLOOKUP($B191,Ref!$B$3:$C$52,2,FALSE),0)","v":0},null,null,{"$f":"IFERROR(VLOOKUP($B191,Ref!$B$3:$F$24,4,FALSE),0)","v":0},{"$f":"IFERROR(VLOOKUP($B191,Ref!$B$3:$E$52,3,FALSE),0)","v":0}]
[null,null,{"$f":"IFERROR(VLOOKUP($B192,Ref!$B$3:$C$52,2,FALSE),0)","v":0},null,null,{"$f":"IFERROR(VLOOKUP($B192,Ref!$B$3:$F$24,4,FALSE),0)","v":0},{"$f":"IFERROR(VLOOKUP($B192,Ref!$B$3:$E$52,3,FALSE),0)","v":0}]
[null,null,{"$f":"IFERROR(VLOOKUP($B193,Ref!$B$3:$C$52,2,FALSE),0)","v":0},null,null,{"$f":"IFERROR(VLOOKUP($B193,Ref!$B$3:$F$24,4,FALSE),0)","v":0},{"$f":"IFERROR(VLOOKUP($B193,Ref!$B$3:$E$52,3,FALSE),0)","v":0}]
[null,null,{"$f":"IFERROR(VLOOKUP($B194,Ref!$B$3:$C$52,2,FALSE),0)","v":0},null,null,{"$f":"IFERROR(VLOOKUP($B194,Ref!$B$3:$F$24,4,FALSE),0)","v":0},{"$f":"IFERROR(VLOOKUP($B194,Ref!$B$3:$E$52,3,FALSE),0)","v":0}]
[null,null,{"$f":"IFERROR(VLOOKUP($B195,Ref!$B$3:$C$52,2,FALSE),0)","v":0},null,null,{"$f":"IFERROR(VLOOKUP($B195,Ref!$B$3:$F$24,4,FALSE),0)","v":0},{"$f":"IFERROR(VLOOKUP($B195,Ref!$B$3:$E$52,3,FALSE),0)","v":0}]
[null,null,{"$f":"IFERROR(VLOOKUP($B196,Ref!$B$3:$C$52,2,FALSE),0)","v":0},null,null,{"$f":"IFERROR(VLOOKUP($B196,Ref!$B$3:$F$24,4,FALSE),0)","v":0},{"$f":"IFERROR(VLOOKUP($B196,Ref!$B$3:$E$52,3,FALSE),0)","v":0}]
[null,null,{"$f":"IFERROR(VLOOKUP($B197,Ref!$B$3:$C$52,2,FALSE),0)","v":0},null,null,{"$f":"IFERROR(VLOOKUP($B197,Ref!$B$3:$F$24,4,FALSE),0)","v":0},{"$f":"IFERROR(VLOOKUP($B197,Ref!$B$3:$E$52,3,FALSE),0)","v":0}]
[null,null,{"$f":"IFERROR(VLOOKUP($B198,Ref!$B$3:$C$52,2,FALSE),0)","v":0},null,null,{"$f":"IFERROR(VLOOKUP($B198,Ref!$B$3:$F$24,4,FALSE),0)","v":0},{"$f":"IFERROR(VLOOKUP($B198,Ref!$B$3:$E$52,3,FALSE),0)","v":0}]
[null,null,{"$f":"IFERROR(VLOOKUP($B199,Ref!$B$3:$C$52,2,FALSE),0)","v":0},null,null,{"$f":"IFERROR(VLOOKUP($B199,Ref!$B$3:$F$24,4,FALSE),0)","v":0},{"$f":"IFERROR(VLOOKUP($B199,Ref!$B$3:$E$52,3,FALSE),0)","v":0}]
[null,null,{"$f":"IFERROR(VLOOKUP($B200,Ref!$B$3:$C$52,2,FALSE),0)","v":0},null,null,{"$f":"IFERROR(VLOOKUP($B200,Ref!$B$3:$F$24,4,FALSE),0)","v":0},{"$f":"IFERROR(VLOOKUP($B200,Ref!$B$3:$E$52,3,FALSE),0)","v":0}]
[null,null,{"$f":"IFERROR(VLOOKUP($B201,Ref!$B$3:$C$52,2,FALSE),0)","v":0},null,null,{"$f":"IFERROR(VLOOKUP($B201,Ref!$B$3:$F$24,4,FALSE),0)","v":0},{"$f":"IFERROR(VLOOKUP($B201,Ref!$B$3:$E$52,3,FALSE),0)","v":0}]
[null,null,{"$f":"IFERROR(VLOOKUP($B202,Ref!$B$3:$C$52,2,FALSE),0)","v":0},null,null,{"$f":"IFERROR(VLOOKUP($B202,Ref!$B$3:$F$24,4,FALSE),0)","v":0},{"$f":"IFERROR(VLOOKUP($B202,Ref!$B$3:$E$52,3,FALSE),0)","v":0}]
[null,null,{"$f":"IFERROR(VLOOKUP($B203,Ref!$B$3:$C$52,2,FALSE),0)","v":0},null,null,{"$f":"IFERROR(VLOOKUP($B203,Ref!$B$3:$F$24,4,FALSE),0)","v":0},{"$f":"IFERROR(VLOOKUP($B203,Ref!$B$3:$E$52,3,FALSE),0)","v":0}]
[null,null,{"$f":"IFERROR(VLOOKUP($B204,Ref!$B$3:$C$52,2,FALSE),0)","v":0},null,null,{"$f":"IFERROR(VLOOKUP($B204,Ref!$B$3:$F$24,4,FALSE),0)","v":0},{"$f":"IFERROR(VLOOKUP($B204,Ref!$B$3:$E$52,3,FALSE),0)","v":0}]
[null,null,{"$f":"IFERROR(VLOOKUP($B205,Ref!$B$3:$C$52,2,FALSE),0)","v":0},null,null,{"$f":"IFERROR(VLOOKUP($B205,Ref!$B$3:$F$24,4,FALSE),0)","v":0},{"$f":"IFERROR(VLOOKUP($B205,Ref!$B$3:$E$52,3,FALSE),0)","v":0}]
[null,null,{"$f":"IFERROR(VLOOKUP($B206,Ref!$B$3:$C$52,2,FALSE),0)","v":0},null,null,{"$f":"IFERROR(VLOOKUP($B206,Ref!$B$3:$F$24,4,FALSE),0)","v":0},{"$f":"IFERROR(VLOOKUP($B206,Ref!$B$3:$E$52,3,FALSE),0)","v":0}]
[null,null,{"$f":"IFERROR(VLOOKUP($B207,Ref!$B$3:$C$52,2,FALSE),0)","v":0},null,null,{"$f":"IFERROR(VLOOKUP($B207,Ref!$B$3:$F$24,4,FALSE),0)","v":0},{"$f":"IFERROR(VLOOKUP($B207,Ref!$B$3:$E$52,3,FALSE),0)","v":0}]
[null,null,{"$f":"IFERROR(VLOOKUP($B208,Ref!$B$3:$C$52,2,FALSE),0)","v":0},null,null,{"$f":"IFERROR(VLOOKUP($B208,Ref!$B$3:$F$24,4,FALSE),0)","v":0},{"$f":"IFERROR(VLOOKUP($B208,Ref!$B$3:$E$52,3,FALSE),0)","v":0}]
[null,null,{"$f":"IFERROR(VLOOKUP($B209,Ref!$B$3:$C$52,2,FALSE),0)","v":0},null,null,{"$f":"IFERROR(VLOOKUP($B209,Ref!$B$3:$F$24,4,FALSE),0)","v":0},{"$f":"IFERROR(VLOOKUP($B209,Ref!$B$3:$E$52,3,FALSE),0)","v":0}]
[null,null,{"$f":"IFERROR(VLOOKUP($B210,Ref!$B$3:$C$52,2,FALSE),0)","v":0},null,null,{"$f":"IFERROR(VLOOKUP($B210,Ref!$B$3:$F$24,4,FALSE),0)","v":0},{"$f":"IFERROR(VLOOKUP($B210,Ref!$B$3:$E$52,3,FALSE),0)","v":0}]
[null,null,{"$f":"IFERROR(VLOOKUP($B211,Ref!$B$3:$C$52,2,FALSE),0)","v":0},null,null,{"$f":"IFERROR(VLOOKUP($B211,Ref!$B$3:$F$24,4,FALSE),0)","v":0},{"$f":"IFERROR(VLOOKUP($B211,Ref!$B$3:$E$52,3,FALSE),0)","v":0}]
[null,null,{"$f":"IFERROR(VLOOKUP($B212,Ref!$B$3:$C$52,2,FALSE),0)","v":0},null,null,{"$f":"IFERROR(VLOOKUP($B212,Ref!$B$3:$F$24,4,FALSE),0)","v":0},{"$f":"IFERROR(VLOOKUP($B212,Ref!$B$3:$E$52,3,FALSE),0)","v":0}]
[null,null,{"$f":"IFERROR(VLOOKUP($B213,Ref!$B$3:$C$52,2,FALSE),0)","v":0},null,null,{"$f":"IFERROR(VLOOKUP($B213,Ref!$B$3:$F$24,4,FALSE),0)","v":0},{"$f":"IFERROR(VLOOKUP($B213,Ref!$B$3:$E$52,3,FALSE),0)","v":0}]
[null,null,{"$f":"IFERROR(VLOOKUP($B214,Ref!$B$3:$C$52,2,FALSE),0)","v":0},null,null,{"$f":"IFERROR(VLOOKUP($B214,Ref!$B$3:$F$24,4,FALSE),0)","v":0},{"$f":"IFERROR(VLOOKUP($B214,Ref!$B$3:$E$52,3,FALSE),0)","v":0}]
[null,null,{"$f":"IFERROR(VLOOKUP($B215,Ref!$B$3:$C$52,2,FALSE),0)","v":0},null,null,{"$f":"IFERROR(VLOOKUP($B215,Ref!$B$3:$F$24,4,FALSE),0)","v":0},{"$f":"IFERROR(VLOOKUP($B215,Ref!$B$3:$E$52,3,FALSE),0)","v":0}]
[null,null,{"$f":"IFERROR(VLOOKUP($B216,Ref!$B$3:$C$52,2,FALSE),0)","v":0},null,null,{"$f":"IFERROR(VLOOKUP($B216,Ref!$B$3:$F$24,4,FALSE),0)","v":0},{"$f":"IFERROR(VLOOKUP($B216,Ref!$B$3:$E$52,3,FALSE),0)","v":0}]
[null,null,{"$f":"IFERROR(VLOOKUP($B217,Ref!$B$3:$C$52,2,FALSE),0)","v":0},null,null,{"$f":"IFERROR(VLOOKUP($B217,Ref!$B$3:$F$24,4,FALSE),0)","v":0},{"$f":"IFERROR(VLOOKUP($B217,Ref!$B$3:$E$52,3,FALSE),0)","v":0}]
[null,null,{"$f":"IFERROR(VLOOKUP($B218,Ref!$B$3:$C$52,2,FALSE),0)","v":0},null,null,{"$f":"IFERROR(VLOOKUP($B218,Ref!$B$3:$F$24,4,FALSE),0)","v":0},{"$f":"IFERROR(VLOOKUP($B218,Ref!$B$3:$E$52,3,FALSE),0)","v":0}]
[null,null,{"$f":"IFERROR(VLOOKUP($B219,Ref!$B$3:$C$52,2,FALSE),0)","v":0},null,null,{"$f":"IFERROR(VLOOKUP($B219,Ref!$B$3:$F$24,4,FALSE),0)","v":0},{"$f":"IFERROR(VLOOKUP($B219,Ref!$B$3:$E$52,3,FALSE),0)","v":0}]
[null,null,{"$f":"IFERROR(VLOOKUP($B220,Ref!$B$3:$C$52,2,FALSE),0)","v":0},null,null,{"$f":"IFERROR(VLOOKUP($B220,Ref!$B$3:$F$24,4,FALSE),0)","v":0},{"$f":"IFERROR(VLOOKUP($B220,Ref!$B$3:$E$52,3,FALSE),0)","v":0}]
[null,null,{"$f":"IFERROR(VLOOKUP($B221,Ref!$B$3:$C$52,2,FALSE),0)","v":0},null,null,{"$f":"IFERROR(VLOOKUP($B221,Ref!$B$3:$F$24,4,FALSE),0)","v":0},{"$f":"IFERROR(VLOOKUP($B221,Ref!$B$3:$E$52,3,FALSE),0)","v":0}]
[null,null,{"$f":"IFERROR(VLOOKUP($B222,Ref!$B$3:$C$52,2,FALSE),0)","v":0},null,null,{"$f":"IFERROR(VLOOKUP($B222,Ref!$B$3:$F$24,4,FALSE),0)","v":0},{"$f":"IFERROR(VLOOKUP($B222,Ref!$B$3:$E$52,3,FALSE),0)","v":0}]
[null,null,{"$f":"IFERROR(VLOOKUP($B223,Ref!$B$3:$C$52,2,FALSE),0)","v":0},null,null,{"$f":"IFERROR(VLOOKUP($B223,Ref!$B$3:$F$24,4,FALSE),0)","v":0},{"$f":"IFERROR(VLOOKUP($B223,Ref!$B$3:$E$52,3,FALSE),0)","v":0}]
[null,null,{"$f":"IFERROR(VLOOKUP($B224,Ref!$B$3:$C$52,2,FALSE),0)","v":0},null,null,{"$f":"IFERROR(VLOOKUP($B224,Ref!$B$3:$F$24,4,FALSE),0)","v":0},{"$f":"IFERROR(VLOOKUP($B224,Ref!$B$3:$E$52,3,FALSE),0)","v":0}]
[null,null,{"$f":"IFERROR(VLOOKUP($B225,Ref!$B$3:$C$52,2,FALSE),0)","v":0},null,null,{"$f":"IFERROR(VLOOKUP($B225,Ref!$B$3:$F$24,4,FALSE),0)","v":0},{"$f":"IFERROR(VLOOKUP($B225,Ref!$B$3:$E$52,3,FALSE),0)","v":0}]
[null,null,{"$f":"IFERROR(VLOOKUP($B226,Ref!$B$3:$C$52,2,FALSE),0)","v":0},null,null,{"$f":"IFERROR(VLOOKUP($B226,Ref!$B$3:$F$24,4,FALSE),0)","v":0},{"$f":"IFERROR(VLOOKUP($B226,Ref!$B$3:$E$52,3,FALSE),0)","v":0}]
[null,null,{"$f":"IFERROR(VLOOKUP($B227,Ref!$B$3:$C$52,2,FALSE),0)","v":0},null,null,{"$f":"IFERROR(VLOOKUP($B227,Ref!$B$3:$F$24,4,FALSE),0)","v":0},{"$f":"IFERROR(VLOOKUP($B227,Ref!$B$3:$E$52,3,FALSE),0)","v":0}]
[null,null,{"$f":"IFERROR(VLOOKUP($B228,Ref!$B$3:$C$52,2,FALSE),0)","v":0},null,null,{"$f":"IFERROR(VLOOKUP($B228,Ref!$B$3:$F$24,4,FALSE),0)","v":0},{"$f":"IFERROR(VLOOKUP($B228,Ref!$B$3:$E$52,3,FALSE),0)","v":0}]
[null,null,{"$f":"IFERROR(VLOOKUP($B229,Ref!$B$3:$C$52,2,FALSE),0)","v":0},null,null,{"$f":"IFERROR(VLOOKUP($B229,Ref!$B$3:$F$24,4,FALSE),0)","v":0},{"$f":"IFERROR(VLOOKUP($B229,Ref!$B$3:$E$52,3,FALSE),0)","v":0}]
[null,null,{"$f":"IFERROR(VLOOKUP($B230,Ref!$B$3:$C$52,2,FALSE),0)","v":0},null,null,{"$f":"IFERROR(VLOOKUP($B230,Ref!$B$3:$F$24,4,FALSE),0)","v":0},{"$f":"IFERROR(VLOOKUP($B230,Ref!$B$3:$E$52,3,FALSE),0)","v":0}]
[null,null,{"$f":"IFERROR(VLOOKUP($B231,Ref!$B$3:$C$52,2,FALSE),0)","v":0},null,null,{"$f":"IFERROR(VLOOKUP($B231,Ref!$B$3:$F$24,4,FALSE),0)","v":0},{"$f":"IFERROR(VLOOKUP($B231,Ref!$B$3:$E$52,3,FALSE),0)","v":0}]
[null,null,{"$f":"IFERROR(VLOOKUP($B232,Ref!$B$3:$C$52,2,FALSE),0)","v":0},null,null,{"$f":"IFERROR(VLOOKUP($B232,Ref!$B$3:$F$24,4,FALSE),0)","v":0},{"$f":"IFERROR(VLOOKUP($B232,Ref!$B$3:$E$52,3,FALSE),0)","v":0}]
[null,null,{"$f":"IFERROR(VLOOKUP($B233,Ref!$B$3:$C$52,2,FALSE),0)","v":0},null,null,{"$f":"IFERROR(VLOOKUP($B233,Ref!$B$3:$F$24,4,FALSE),0)","v":0},{"$f":"IFERROR(VLOOKUP($B233,Ref!$B$3:$E$52,3,FALSE),0)","v":0}]
[null,null,{"$f":"IFERROR(VLOOKUP($B234,Ref!$B$3:$C$52,2,FALSE),0)","v":0},null,null,{"$f":"IFERROR(VLOOKUP($B234,Ref!$B$3:$F$24,4,FALSE),0)","v":0},{"$f":"IFERROR(VLOOKUP($B234,Ref!$B$3:$E$52,3,FALSE),0)","v":0}]
[null,null,{"$f":"IFERROR(VLOOKUP($B235,Ref!$B$3:$C$52,2,FALSE),0)","v":0},null,null,{"$f":"IFERROR(VLOOKUP($B235,Ref!$B$3:$F$24,4,FALSE),0)","v":0},{"$f":"IFERROR(VLOOKUP($B235,Ref!$B$3:$E$52,3,FALSE),0)","v":0}]
[null,null,{"$f":"IFERROR(VLOOKUP($B236,Ref!$B$3:$C$52,2,FALSE),0)","v":0},null,null,{"$f":"IFERROR(VLOOKUP($B236,Ref!$B$3:$F$24,4,FALSE),0)","v":0},{"$f":"IFERROR(VLOOKUP($B236,Ref!$B$3:$E$52,3,FALSE),0)","v":0}]
[null,null,{"$f":"IFERROR(VLOOKUP($B237,Ref!$B$3:$C$52,2,FALSE),0)","v":0},null,null,{"$f":"IFERROR(VLOOKUP($B237,Ref!$B$3:$F$24,4,FALSE),0)","v":0},{"$f":"IFERROR(VLOOKUP($B237,Ref!$B$3:$E$52,3,FALSE),0)","v":0}]
[null,null,{"$f":"IFERROR(VLOOKUP($B238,Ref!$B$3:$C$52,2,FALSE),0)","v":0},null,null,{"$f":"IFERROR(VLOOKUP($B238,Ref!$B$3:$F$24,4,FALSE),0)","v":0},{"$f":"IFERROR(VLOOKUP($B238,Ref!$B$3:$E$52,3,FALSE),0)","v":0}]
[null,null,{"$f":"IFERROR(VLOOKUP($B239,Ref!$B$3:$C$52,2,FALSE),0)","v":0},null,null,{"$f":"IFERROR(VLOOKUP($B239,Ref!$B$3:$F$24,4,FALSE),0)","v":0},{"$f":"IFERROR(VLOOKUP($B239,Ref!$B$3:$E$52,3,FALSE),0)","v":0}]
[null,null,{"$f":"IFERROR(VLOOKUP($B240,Ref!$B$3:$C$52,2,FALSE),0)","v":0},null,null,{"$f":"IFERROR(VLOOKUP($B240,Ref!$B$3:$F$24,4,FALSE),0)","v":0},{"$f":"IFERROR(VLOOKUP($B240,Ref!$B$3:$E$52,3,FALSE),0)","v":0}]
[null,null,{"$f":"IFERROR(VLOOKUP($B241,Ref!$B$3:$C$52,2,FALSE),0)","v":0},null,null,{"$f":"IFERROR(VLOOKUP($B241,Ref!$B$3:$F$24,4,FALSE),0)","v":0},{"$f":"IFERROR(VLOOKUP($B241,Ref!$B$3:$E$52,3,FALSE),0)","v":0}]
[null,null,{"$f":"IFERROR(VLOOKUP($B242,Ref!$B$3:$C$52,2,FALSE),0)","v":0},null,null,{"$f":"IFERROR(VLOOKUP($B242,Ref!$B$3:$F$24,4,FALSE),0)","v":0},{"$f":"IFERROR(VLOOKUP($B242,Ref!$B$3:$E$52,3,FALSE),0)","v":0}]
[null,null,{"$f":"IFERROR(VLOOKUP($B243,Ref!$B$3:$C$52,2,FALSE),0)","v":0},null,null,{"$f":"IFERROR(VLOOKUP($B243,Ref!$B$3:$F$24,4,FALSE),0)","v":0},{"$f":"IFERROR(VLOOKUP($B243,Ref!$B$3:$E$52,3,FALSE),0)","v":0}]
[null,null,{"$f":"IFERROR(VLOOKUP($B244,Ref!$B$3:$C$52,2,FALSE),0)","v":0},null,null,{"$f":"IFERROR(VLOOKUP($B244,Ref!$B$3:$F$24,4,FALSE),0)","v":0},{"$f":"IFERROR(VLOOKUP($B244,Ref!$B$3:$E$52,3,FALSE),0)","v":0}]
[null,null,{"$f":"IFERROR(VLOOKUP($B245,Ref!$B$3:$C$52,2,FALSE),0)","v":0},null,null,{"$f":"IFERROR(VLOOKUP($B245,Ref!$B$3:$F$24,4,FALSE),0)","v":0},{"$f":"IFERROR(VLOOKUP($B245,Ref!$B$3:$E$52,3,FALSE),0)","v":0}]
[null,null,{"$f":"IFERROR(VLOOKUP($B246,Ref!$B$3:$C$52,2,FALSE),0)","v":0},null,null,{"$f":"IFERROR(VLOOKUP($B246,Ref!$B$3:$F$24,4,FALSE),0)","v":0},{"$f":"IFERROR(VLOOKUP($B246,Ref!$B$3:$E$52,3,FALSE),0)","v":0}]
[null,null,{"$f":"IFERROR(VLOOKUP($B247,Ref!$B$3:$C$52,2,FALSE),0)","v":0},null,null,{"$f":"IFERROR(VLOOKUP($B247,Ref!$B$3:$F$24,4,FALSE),0)","v":0},{"$f":"IFERROR(VLOOKUP($B247,Ref!$B$3:$E$52,3,FALSE),0)","v":0}]
[null,null,{"$f":"IFERROR(VLOOKUP($B248,Ref!$B$3:$C$52,2,FALSE),0)","v":0},null,null,{"$f":"IFERROR(VLOOKUP($B248,Ref!$B$3:$F$24,4,FALSE),0)","v":0},{"$f":"IFERROR(VLOOKUP($B248,Ref!$B$3:$E$52,3,FALSE),0)","v":0}]
[null,null,{"$f":"IFERROR(VLOOKUP($B249,Ref!$B$3:$C$52,2,FALSE),0)","v":0},null,null,{"$f":"IFERROR(VLOOKUP($B249,Ref!$B$3:$F$24,4,FALSE),0)","v":0},{"$f":"IFERROR(VLOOKUP($B249,Ref!$B$3:$E$52,3,FALSE),0)","v":0}]
[null,null,{"$f":"IFERROR(VLOOKUP($B250,Ref!$B$3:$C$52,2,FALSE),0)","v":0},null,null,{"$f":"IFERROR(VLOOKUP($B250,Ref!$B$3:$F$24,4,FALSE),0)","v":0},{"$f":"IFERROR(VLOOKUP($B250,Ref!$B$3:$E$52,3,FALSE),0)","v":0}]
[null,null,{"$f":"IFERROR(VLOOKUP($B251,Ref!$B$3:$C$52,2,FALSE),0)","v":0},null,null,{"$f":"IFERROR(VLOOKUP($B251,Ref!$B$3:$F$24,4,FALSE),0)","v":0},{"$f":"IFERROR(VLOOKUP($B251,Ref!$B$3:$E$52,3,FALSE),0)","v":0}]
[null,null,{"$f":"IFERROR(VLOOKUP($B252,Ref!$B$3:$C$52,2,FALSE),0)","v":0},null,null,{"$f":"IFERROR(VLOOKUP($B252,Ref!$B$3:$F$24,4,FALSE),0)","v":0},{"$f":"IFERROR(VLOOKUP($B252,Ref!$B$3:$E$52,3,FALSE),0)","v":0}]
[null,null,{"$f":"IFERROR(VLOOKUP($B253,Ref!$B$3:$C$52,2,FALSE),0)","v":0},null,null,{"$f":"IFERROR(VLOOKUP($B253,Ref!$B$3:$F$24,4,FALSE),0)","v":0},{"$f":"IFERROR(VLOOKUP($B253,Ref!$B$3:$E$52,3,FALSE),0)","v":0}]
[null,null,{"$f":"IFERROR(VLOOKUP($B254,Ref!$B$3:$C$52,2,FALSE),0)","v":0},null,null,{"$f":"IFERROR(VLOOKUP($B254,Ref!$B$3:$F$24,4,FALSE),0)","v":0},{"$f":"IFERROR(VLOOKUP($B254,Ref!$B$3:$E$52,3,FALSE),0)","v":0}]
[null,null,{"$f":"IFERROR(VLOOKUP($B255,Ref!$B$3:$C$52,2,FALSE),0)","v":0},null,null,{"$f":"IFERROR(VLOOKUP($B255,Ref!$B$3:$F$24,4,FALSE),0)","v":0},{"$f":"IFERROR(VLOOKUP($B255,Ref!$B$3:$E$52,3,FALSE),0)","v":0}]
[null,null,{"$f":"IFERROR(VLOOKUP($B256,Ref!$B$3:$C$52,2,FALSE),0)","v":0},null,null,{"$f":"IFERROR(VLOOKUP($B256,Ref!$B$3:$F$24,4,FALSE),0)","v":0},{"$f":"IFERROR(VLOOKUP($B256,Ref!$B$3:$E$52,3,FALSE),0)","v":0}]
[null,null,{"$f":"IFERROR(VLOOKUP($B257,Ref!$B$3:$C$52,2,FALSE),0)","v":0},null,null,{"$f":"IFERROR(VLOOKUP($B257,Ref!$B$3:$F$24,4,FALSE),0)","v":0},{"$f":"IFERROR(VLOOKUP($B257,Ref!$B$3:$E$52,3,FALSE),0)","v":0}]
[null,null,{"$f":"IFERROR(VLOOKUP($B258,Ref!$B$3:$C$52,2,FALSE),0)","v":0},null,null,{"$f":"IFERROR(VLOOKUP($B258,Ref!$B$3:$F$24,4,FALSE),0)","v":0},{"$f":"IFERROR(VLOOKUP($B258,Ref!$B$3:$E$52,3,FALSE),0)","v":0}]
[null,null,{"$f":"IFERROR(VLOOKUP($B259,Ref!$B$3:$C$52,2,FALSE),0)","v":0},null,null,{"$f":"IFERROR(VLOOKUP($B259,Ref!$B$3:$F$24,4,FALSE),0)","v":0},{"$f":"IFERROR(VLOOKUP($B259,Ref!$B$3:$E$52,3,FALSE),0)","v":0}]
[null,null,{"$f":"IFERROR(VLOOKUP($B260,Ref!$B$3:$C$52,2,FALSE),0)","v":0},null,null,{"$f":"IFERROR(VLOOKUP($B260,Ref!$B$3:$F$24,4,FALSE),0)","v":0},{"$f":"IFERROR(VLOOKUP($B260,Ref!$B$3:$E$52,3,FALSE),0)","v":0}]
[null,null,{"$f":"IFERROR(VLOOKUP($B261,Ref!$B$3:$C$52,2,FALSE),0)","v":0},null,null,{"$f":"IFERROR(VLOOKUP($B261,Ref!$B$3:$F$24,4,FALSE),0)","v":0},{"$f":"IFERROR(VLOOKUP($B261,Ref!$B$3:$E$52,3,FALSE),0)","v":0}]
[null,null,{"$f":"IFERROR(VLOOKUP($B262,Ref!$B$3:$C$52,2,FALSE),0)","v":0},null,null,{"$f":"IFERROR(VLOOKUP($B262,Ref!$B$3:$F$24,4,FALSE),0)","v":0},{"$f":"IFERROR(VLOOKUP($B262,Ref!$B$3:$E$52,3,FALSE),0)","v":0}]
[null,null,{"$f":"IFERROR(VLOOKUP($B263,Ref!$B$3:$C$52,2,FALSE),0)","v":0},null,null,{"$f":"IFERROR(VLOOKUP($B263,Ref!$B$3:$F$24,4,FALSE),0)","v":0},{"$f":"IFERROR(VLOOKUP($B263,Ref!$B$3:$E$52,3,FALSE),0)","v":0}]
[null,null,{"$f":"IFERROR(VLOOKUP($B264,Ref!$B$3:$C$52,2,FALSE),0)","v":0},null,null,{"$f":"IFERROR(VLOOKUP($B264,Ref!$B$3:$F$24,4,FALSE),0)","v":0},{"$f":"IFERROR(VLOOKUP($B264,Ref!$B$3:$E$52,3,FALSE),0)","v":0}]
[null,null,{"$f":"IFERROR(VLOOKUP($B265,Ref!$B$3:$C$52,2,FALSE),0)","v":0},null,null,{"$f":"IFERROR(VLOOKUP($B265,Ref!$B$3:$F$24,4,FALSE),0)","v":0},{"$f":"IFERROR(VLOOKUP($B265,Ref!$B$3:$E$52,3,FALSE),0)","v":0}]
[null,null,{"$f":"IFERROR(VLOOKUP($B266,Ref!$B$3:$C$52,2,FALSE),0)","v":0},null,null,{"$f":"IFERROR(VLOOKUP($B266,Ref!$B$3:$F$24,4,FALSE),0)","v":0},{"$f":"IFERROR(VLOOKUP($B266,Ref!$B$3:$E$52,3,FALSE),0)","v":0}]
[null,null,{"$f":"IFERROR(VLOOKUP($B267,Ref!$B$3:$C$52,2,FALSE),0)","v":0},null,null,{"$f":"IFERROR(VLOOKUP($B267,Ref!$B$3:$F$24,4,FALSE),0)","v":0},{"$f":"IFERROR(VLOOKUP($B267,Ref!$B$3:$E$52,3,FALSE),0)","v":0}]
[null,null,{"$f":"IFERROR(VLOOKUP($B268,Ref!$B$3:$C$52,2,FALSE),0)","v":0},null,null,{"$f":"IFERROR(VLOOKUP($B268,Ref!$B$3:$F$24,4,FALSE),0)","v":0},{"$f":"IFERROR(VLOOKUP($B268,Ref!$B$3:$E$52,3,FALSE),0)","v":0}]
[null,null,{"$f":"IFERROR(VLOOKUP($B269,Ref!$B$3:$C$52,2,FALSE),0)","v":0},null,null,{"$f":"IFERROR(VLOOKUP($B269,Ref!$B$3:$F$24,4,FALSE),0)","v":0},{"$f":"IFERROR(VLOOKUP($B269,Ref!$B$3:$E$52,3,FALSE),0)","v":0}]
[null,null,{"$f":"IFERROR(VLOOKUP($B270,Ref!$B$3:$C$52,2,FALSE),0)","v":0},null,null,{"$f":"IFERROR(VLOOKUP($B270,Ref!$B$3:$F$24,4,FALSE),0)","v":0},{"$f":"IFERROR(VLOOKUP($B270,Ref!$B$3:$E$52,3,FALSE),0)","v":0}]
[null,null,{"$f":"IFERROR(VLOOKUP($B271,Ref!$B$3:$C$52,2,FALSE),0)","v":0},null,null,{"$f":"IFERROR(VLOOKUP($B271,Ref!$B$3:$F$24,4,FALSE),0)","v":0},{"$f":"IFERROR(VLOOKUP($B271,Ref!$B$3:$E$52,3,FALSE),0)","v":0}]
[null,null,{"$f":"IFERROR(VLOOKUP($B272,Ref!$B$3:$C$52,2,FALSE),0)","v":0},null,null,{"$f":"IFERROR(VLOOKUP($B272,Ref!$B$3:$F$24,4,FALSE),0)","v":0},{"$f":"IFERROR(VLOOKUP($B272,Ref!$B$3:$E$52,3,FALSE),0)","v":0}]
[null,null,{"$f":"IFERROR(VLOOKUP($B273,Ref!$B$3:$C$52,2,FALSE),0)","v":0},null,null,{"$f":"IFERROR(VLOOKUP($B273,Ref!$B$3:$F$24,4,FALSE),0)","v":0},{"$f":"IFERROR(VLOOKUP($B273,Ref!$B$3:$E$52,3,FALSE),0)","v":0}]
[null,null,{"$f":"IFERROR(VLOOKUP($B274,Ref!$B$3:$C$52,2,FALSE),0)","v":0},null,null,{"$f":"IFERROR(VLOOKUP($B274,Ref!$B$3:$F$24,4,FALSE),0)","v":0},{"$f":"IFERROR(VLOOKUP($B274,Ref!$B$3:$E$52,3,FALSE),0)","v":0}]
[null,null,{"$f":"IFERROR(VLOOKUP($B275,Ref!$B$3:$C$52,2,FALSE),0)","v":0},null,null,{"$f":"IFERROR(VLOOKUP($B275,Ref!$B$3:$F$24,4,FALSE),0)","v":0},{"$f":"IFERROR(VLOOKUP($B275,Ref!$B$3:$E$52,3,FALSE),0)","v":0}]
[null,null,{"$f":"IFERROR(VLOOKUP($B276,Ref!$B$3:$C$52,2,FALSE),0)","v":0},null,null,{"$f":"IFERROR(VLOOKUP($B276,Ref!$B$3:$F$24,4,FALSE),0)","v":0},{"$f":"IFERROR(VLOOKUP($B276,Ref!$B$3:$E$52,3,FALSE),0)","v":0}]
[null,null,{"$f":"IFERROR(VLOOKUP($B277,Ref!$B$3:$C$52,2,FALSE),0)","v":0},null,null,{"$f":"IFERROR(VLOOKUP($B277,Ref!$B$3:$F$24,4,FALSE),0)","v":0},{"$f":"IFERROR(VLOOKUP($B277,Ref!$B$3:$E$52,3,FALSE),0)","v":0}]
[null,null,{"$f":"IFERROR(VLOOKUP($B278,Ref!$B$3:$C$52,2,FALSE),0)","v":0},null,null,{"$f":"IFERROR(VLOOKUP($B278,Ref!$B$3:$F$24,4,FALSE),0)","v":0},{"$f":"IFERROR(VLOOKUP($B278,Ref!$B$3:$E$52,3,FALSE),0)","v":0}]
[null,null,{"$f":"IFERROR(VLOOKUP($B279,Ref!$B$3:$C$52,2,FALSE),0)","v":0},null,null,{"$f":"IFERROR(VLOOKUP($B279,Ref!$B$3:$F$24,4,FALSE),0)","v":0},{"$f":"IFERROR(VLOOKUP($B279,Ref!$B$3:$E$52,3,FALSE),0)","v":0}]
[null,null,{"$f":"IFERROR(VLOOKUP($B280,Ref!$B$3:$C$52,2,FALSE),0)","v":0},null,null,{"$f":"IFERROR(VLOOKUP($B280,Ref!$B$3:$F$24,4,FALSE),0)","v":0},{"$f":"IFERROR(VLOOKUP($B280,Ref!$B$3:$E$52,3,FALSE),0)","v":0}]
[null,null,{"$f":"IFERROR(VLOOKUP($B281,Ref!$B$3:$C$52,2,FALSE),0)","v":0},null,null,{"$f":"IFERROR(VLOOKUP($B281,Ref!$B$3:$F$24,4,FALSE),0)","v":0},{"$f":"IFERROR(VLOOKUP($B281,Ref!$B$3:$E$52,3,FALSE),0)","v":0}]
[null,null,{"$f":"IFERROR(VLOOKUP($B282,Ref!$B$3:$C$52,2,FALSE),0)","v":0},null,null,{"$f":"IFERROR(VLOOKUP($B282,Ref!$B$3:$F$24,4,FALSE),0)","v":0},{"$f":"IFERROR(VLOOKUP($B282,Ref!$B$3:$E$52,3,FALSE),0)","v":0}]
[null,null,{"$f":"IFERROR(VLOOKUP($B283,Ref!$B$3:$C$52,2,FALSE),0)","v":0},null,null,{"$f":"IFERROR(VLOOKUP($B283,Ref!$B$3:$F$24,4,FALSE),0)","v":0},{"$f":"IFERROR(VLOOKUP($B283,Ref!$B$3:$E$52,3,FALSE),0)","v":0}]
[null,null,{"$f":"IFERROR(VLOOKUP($B284,Ref!$B$3:$C$52,2,FALSE),0)","v":0},null,null,{"$f":"IFERROR(VLOOKUP($B284,Ref!$B$3:$F$24,4,FALSE),0)","v":0},{"$f":"IFERROR(VLOOKUP($B284,Ref!$B$3:$E$52,3,FALSE),0)","v":0}]
[null,null,{"$f":"IFERROR(VLOOKUP($B285,Ref!$B$3:$C$52,2,FALSE),0)","v":0},null,null,{"$f":"IFERROR(VLOOKUP($B285,Ref!$B$3:$F$24,4,FALSE),0)","v":0},{"$f":"IFERROR(VLOOKUP($B285,Ref!$B$3:$E$52,3,FALSE),0)","v":0}]
[null,null,{"$f":"IFERROR(VLOOKUP($B286,Ref!$B$3:$C$52,2,FALSE),0)","v":0},null,null,{"$f":"IFERROR(VLOOKUP($B286,Ref!$B$3:$F$24,4,FALSE),0)","v":0},{"$f":"IFERROR(VLOOKUP($B286,Ref!$B$3:$E$52,3,FALSE),0)","v":0}]
[null,null,{"$f":"IFERROR(VLOOKUP($B287,Ref!$B$3:$C$52,2,FALSE),0)","v":0},null,null,{"$f":"IFERROR(VLOOKUP($B287,Ref!$B$3:$F$24,4,FALSE),0)","v":0},{"$f":"IFERROR(VLOOKUP($B287,Ref!$B$3:$E$52,3,FALSE),0)","v":0}]
[null,null,{"$f":"IFERROR(VLOOKUP($B288,Ref!$B$3:$C$52,2,FALSE),0)","v":0},null,null,{"$f":"IFERROR(VLOOKUP($B288,Ref!$B$3:$F$24,4,FALSE),0)","v":0},{"$f":"IFERROR(VLOOKUP($B288,Ref!$B$3:$E$52,3,FALSE),0)","v":0}]
[null,null,{"$f":"IFERROR(VLOOKUP($B289,Ref!$B$3:$C$52,2,FALSE),0)","v":0},null,null,{"$f":"IFERROR(VLOOKUP($B289,Ref!$B$3:$F$24,4,FALSE),0)","v":0},{"$f":"IFERROR(VLOOKUP($B289,Ref!$B$3:$E$52,3,FALSE),0)","v":0}]
[null,null,{"$f":"IFERROR(VLOOKUP($B290,Ref!$B$3:$C$52,2,FALSE),0)","v":0},null,null,{"$f":"IFERROR(VLOOKUP($B290,Ref!$B$3:$F$24,4,FALSE),0)","v":0},{"$f":"IFERROR(VLOOKUP($B290,Ref!$B$3:$E$52,3,FALSE),0)","v":0}]
[null,null,{"$f":"IFERROR(VLOOKUP($B291,Ref!$B$3:$C$52,2,FALSE),0)","v":0},null,null,{"$f":"IFERROR(VLOOKUP($B291,Ref!$B$3:$F$24,4,FALSE),0)","v":0},{"$f":"IFERROR(VLOOKUP($B291,Ref!$B$3:$E$52,3,FALSE),0)","v":0}]
[null,null,{"$f":"IFERROR(VLOOKUP($B292,Ref!$B$3:$C$52,2,FALSE),0)","v":0},null,null,{"$f":"IFERROR(VLOOKUP($B292,Ref!$B$3:$F$24,4,FALSE),0)","v":0},{"$f":"IFERROR(VLOOKUP($B292,Ref!$B$3:$E$52,3,FALSE),0)","v":0}]
[null,null,{"$f":"IFERROR(VLOOKUP($B293,Ref!$B$3:$C$52,2,FALSE),0)","v":0},null,null,{"$f":"IFERROR(VLOOKUP($B293,Ref!$B$3:$F$24,4,FALSE),0)","v":0},{"$f":"IFERROR(VLOOKUP($B293,Ref!$B$3:$E$52,3,FALSE),0)","v":0}]
[null,null,{"$f":"IFERROR(VLOOKUP($B294,Ref!$B$3:$C$52,2,FALSE),0)","v":0},null,null,{"$f":"IFERROR(VLOOKUP($B294,Ref!$B$3:$F$24,4,FALSE),0)","v":0},{"$f":"IFERROR(VLOOKUP($B294,Ref!$B$3:$E$52,3,FALSE),0)","v":0}]
[null,null,{"$f":"IFERROR(VLOOKUP($B295,Ref!$B$3:$C$52,2,FALSE),0)","v":0},null,null,{"$f":"IFERROR(VLOOKUP($B295,Ref!$B$3:$F$24,4,FALSE),0)","v":0},{"$f":"IFERROR(VLOOKUP($B295,Ref!$B$3:$E$52,3,FALSE),0)","v":0}]
[null,null,{"$f":"IFERROR(VLOOKUP($B296,Ref!$B$3:$C$52,2,FALSE),0)","v":0},null,null,{"$f":"IFERROR(VLOOKUP($B296,Ref!$B$3:$F$24,4,FALSE),0)","v":0},{"$f":"IFERROR(VLOOKUP($B296,Ref!$B$3:$E$52,3,FALSE),0)","v":0}]
[null,null,{"$f":"IFERROR(VLOOKUP($B297,Ref!$B$3:$C$52,2,FALSE),0)","v":0},null,null,{"$f":"IFERROR(VLOOKUP($B297,Ref!$B$3:$F$24,4,FALSE),0)","v":0},{"$f":"IFERROR(VLOOKUP($B297,Ref!$B$3:$E$52,3,FALSE),0)","v":0}]
[null,null,{"$f":"IFERROR(VLOOKUP($B298,Ref!$B$3:$C$52,2,FALSE),0)","v":0},null,null,{"$f":"IFERROR(VLOOKUP($B298,Ref!$B$3:$F$24,4,FALSE),0)","v":0},{"$f":"IFERROR(VLOOKUP($B298,Ref!$B$3:$E$52,3,FALSE),0)","v":0}]
[null,null,{"$f":"IFERROR(VLOOKUP($B299,Ref!$B$3:$C$52,2,FALSE),0)","v":0},null,null,{"$f":"IFERROR(VLOOKUP($B299,Ref!$B$3:$F$24,4,FALSE),0)","v":0},{"$f":"IFERROR(VLOOKUP($B299,Ref!$B$3:$E$52,3,FALSE),0)","v":0}]
[null,null,{"$f":"IFERROR(VLOOKUP($B300,Ref!$B$3:$C$52,2,FALSE),0)","v":0},null,null,{"$f":"IFERROR(VLOOKUP($B300,Ref!$B$3:$F$24,4,FALSE),0)","v":0},{"$f":"IFERROR(VLOOKUP($B300,Ref!$B$3:$E$52,3,FALSE),0)","v":0}]
[null,null,{"$f":"IFERROR(VLOOKUP($B301,Ref!$B$3:$C$52,2,FALSE),0)","v":0},null,null,{"$f":"IFERROR(VLOOKUP($B301,Ref!$B$3:$F$24,4,FALSE),0)","v":0},{"$f":"IFERROR(VLOOKUP($B301,Ref!$B$3:$E$52,3,FALSE),0)","v":0}]
[null,null,{"$f":"IFERROR(VLOOKUP($B302,Ref!$B$3:$C$52,2,FALSE),0)","v":0},null,null,{"$f":"IFERROR(VLOOKUP($B302,Ref!$B$3:$F$24,4,FALSE),0)","v":0},{"$f":"IFERROR(VLOOKUP($B302,Ref!$B$3:$E$52,3,FALSE),0)","v":0}]
[null,null,{"$f":"IFERROR(VLOOKUP($B303,Ref!$B$3:$C$52,2,FALSE),0)","v":0},null,null,{"$f":"IFERROR(VLOOKUP($B303,Ref!$B$3:$F$24,4,FALSE),0)","v":0},{"$f":"IFERROR(VLOOKUP($B303,Ref!$B$3:$E$52,3,FALSE),0)","v":0}]
[null,null,{"$f":"IFERROR(VLOOKUP($B304,Ref!$B$3:$C$52,2,FALSE),0)","v":0},null,null,{"$f":"IFERROR(VLOOKUP($B304,Ref!$B$3:$F$24,4,FALSE),0)","v":0},{"$f":"IFERROR(VLOOKUP($B304,Ref!$B$3:$E$52,3,FALSE),0)","v":0}]
[null,null,{"$f":"IFERROR(VLOOKUP($B305,Ref!$B$3:$C$52,2,FALSE),0)","v":0},null,null,{"$f":"IFERROR(VLOOKUP($B305,Ref!$B$3:$F$24,4,FALSE),0)","v":0},{"$f":"IFERROR(VLOOKUP($B305,Ref!$B$3:$E$52,3,FALSE),0)","v":0}]
[null,null,{"$f":"IFERROR(VLOOKUP($B306,Ref!$B$3:$C$52,2,FALSE),0)","v":0},null,null,{"$f":"IFERROR(VLOOKUP($B306,Ref!$B$3:$F$24,4,FALSE),0)","v":0},{"$f":"IFERROR(VLOOKUP($B306,Ref!$B$3:$E$52,3,FALSE),0)","v":0}]
[null,null,{"$f":"IFERROR(VLOOKUP($B307,Ref!$B$3:$C$52,2,FALSE),0)","v":0},null,null,{"$f":"IFERROR(VLOOKUP($B307,Ref!$B$3:$F$24,4,FALSE),0)","v":0},{"$f":"IFERROR(VLOOKUP($B307,Ref!$B$3:$E$52,3,FALSE),0)","v":0}]
[null,null,{"$f":"IFERROR(VLOOKUP($B308,Ref!$B$3:$C$52,2,FALSE),0)","v":0},null,null,{"$f":"IFERROR(VLOOKUP($B308,Ref!$B$3:$F$24,4,FALSE),0)","v":0},{"$f":"IFERROR(VLOOKUP($B308,Ref!$B$3:$E$52,3,FALSE),0)","v":0}]
[null,null,{"$f":"IFERROR(VLOOKUP($B309,Ref!$B$3:$C$52,2,FALSE),0)","v":0},null,null,{"$f":"IFERROR(VLOOKUP($B309,Ref!$B$3:$F$24,4,FALSE),0)","v":0},{"$f":"IFERROR(VLOOKUP($B309,Ref!$B$3:$E$52,3,FALSE),0)","v":0}]
[null,null,{"$f":"IFERROR(VLOOKUP($B310,Ref!$B$3:$C$52,2,FALSE),0)","v":0},null,null,{"$f":"IFERROR(VLOOKUP($B310,Ref!$B$3:$F$24,4,FALSE),0)","v":0},{"$f":"IFERROR(VLOOKUP($B310,Ref!$B$3:$E$52,3,FALSE),0)","v":0}]
[null,null,{"$f":"IFERROR(VLOOKUP($B311,Ref!$B$3:$C$52,2,FALSE),0)","v":0},null,null,{"$f":"IFERROR(VLOOKUP($B311,Ref!$B$3:$F$24,4,FALSE),0)","v":0},{"$f":"IFERROR(VLOOKUP($B311,Ref!$B$3:$E$52,3,FALSE),0)","v":0}]
[null,null,{"$f":"IFERROR(VLOOKUP($B312,Ref!$B$3:$C$52,2,FALSE),0)","v":0},null,null,{"$f":"IFERROR(VLOOKUP($B312,Ref!$B$3:$F$24,4,FALSE),0)","v":0},{"$f":"IFERROR(VLOOKUP($B312,Ref!$B$3:$E$52,3,FALSE),0)","v":0}]
[null,null,{"$f":"IFERROR(VLOOKUP($B313,Ref!$B$3:$C$52,2,FALSE),0)","v":0},null,null,{"$f":"IFERROR(VLOOKUP($B313,Ref!$B$3:$F$24,4,FALSE),0)","v":0},{"$f":"IFERROR(VLOOKUP($B313,Ref!$B$3:$E$52,3,FALSE),0)","v":0}]
[null,null,{"$f":"IFERROR(VLOOKUP($B314,Ref!$B$3:$C$52,2,FALSE),0)","v":0},null,null,{"$f":"IFERROR(VLOOKUP($B314,Ref!$B$3:$F$24,4,FALSE),0)","v":0},{"$f":"IFERROR(VLOOKUP($B314,Ref!$B$3:$E$52,3,FALSE),0)","v":0}]
[null,null,{"$f":"IFERROR(VLOOKUP($B315,Ref!$B$3:$C$52,2,FALSE),0)","v":0},null,null,{"$f":"IFERROR(VLOOKUP($B315,Ref!$B$3:$F$24,4,FALSE),0)","v":0},{"$f":"IFERROR(VLOOKUP($B315,Ref!$B$3:$E$52,3,FALSE),0)","v":0}]
[null,null,{"$f":"IFERROR(VLOOKUP($B316,Ref!$B$3:$C$52,2,FALSE),0)","v":0},null,null,{"$f":"IFERROR(VLOOKUP($B316,Ref!$B$3:$F$24,4,FALSE),0)","v":0},{"$f":"IFERROR(VLOOKUP($B316,Ref!$B$3:$E$52,3,FALSE),0)","v":0}]
[null,null,{"$f":"IFERROR(VLOOKUP($B317,Ref!$B$3:$C$52,2,FALSE),0)","v":0},null,null,{"$f":"IFERROR(VLOOKUP($B317,Ref!$B$3:$F$24,4,FALSE),0)","v":0},{"$f":"IFERROR(VLOOKUP($B317,Ref!$B$3:$E$52,3,FALSE),0)","v":0}]
[null,null,{"$f":"IFERROR(VLOOKUP($B318,Ref!$B$3:$C$52,2,FALSE),0)","v":0},null,null,{"$f":"IFERROR(VLOOKUP($B318,Ref!$B$3:$F$24,4,FALSE),0)","v":0},{"$f":"IFERROR(VLOOKUP($B318,Ref!$B$3:$E$52,3,FALSE),0)","v":0}]
[null,null,{"$f":"IFERROR(VLOOKUP($B319,Ref!$B$3:$C$52,2,FALSE),0)","v":0},null,null,{"$f":"IFERROR(VLOOKUP($B319,Ref!$B$3:$F$24,4,FALSE),0)","v":0},{"$f":"IFERROR(VLOOKUP($B319,Ref!$B$3:$E$52,3,FALSE),0)","v":0}]
[null,null,{"$f":"IFERROR(VLOOKUP($B320,Ref!$B$3:$C$52,2,FALSE),0)","v":0},null,null,{"$f":"IFERROR(VLOOKUP($B320,Ref!$B$3:$F$24,4,FALSE),0)","v":0},{"$f":"IFERROR(VLOOKUP($B320,Ref!$B$3:$E$52,3,FALSE),0)","v":0}]
[null,null,{"$f":"IFERROR(VLOOKUP($B321,Ref!$B$3:$C$52,2,FALSE),0)","v":0},null,null,{"$f":"IFERROR(VLOOKUP($B321,Ref!$B$3:$F$24,4,FALSE),0)","v":0},{"$f":"IFERROR(VLOOKUP($B321,Ref!$B$3:$E$52,3,FALSE),0)","v":0}]
[null,null,{"$f":"IFERROR(VLOOKUP($B322,Ref!$B$3:$C$52,2,FALSE),0)","v":0},null,null,{"$f":"IFERROR(VLOOKUP($B322,Ref!$B$3:$F$24,4,FALSE),0)","v":0},{"$f":"IFERROR(VLOOKUP($B322,Ref!$B$3:$E$52,3,FALSE),0)","v":0}]
[null,null,{"$f":"IFERROR(VLOOKUP($B323,Ref!$B$3:$C$52,2,FALSE),0)","v":0},null,null,{"$f":"IFERROR(VLOOKUP($B323,Ref!$B$3:$F$24,4,FALSE),0)","v":0},{"$f":"IFERROR(VLOOKUP($B323,Ref!$B$3:$E$52,3,FALSE),0)","v":0}]
[null,null,{"$f":"IFERROR(VLOOKUP($B324,Ref!$B$3:$C$52,2,FALSE),0)","v":0},null,null,{"$f":"IFERROR(VLOOKUP($B324,Ref!$B$3:$F$24,4,FALSE),0)","v":0},{"$f":"IFERROR(VLOOKUP($B324,Ref!$B$3:$E$52,3,FALSE),0)","v":0}]
[null,null,{"$f":"IFERROR(VLOOKUP($B325,Ref!$B$3:$C$52,2,FALSE),0)","v":0},null,null,{"$f":"IFERROR(VLOOKUP($B325,Ref!$B$3:$F$24,4,FALSE),0)","v":0},{"$f":"IFERROR(VLOOKUP($B325,Ref!$B$3:$E$52,3,FALSE),0)","v":0}]
[null,null,{"$f":"IFERROR(VLOOKUP($B326,Ref!$B$3:$C$52,2,FALSE),0)","v":0},null,null,{"$f":"IFERROR(VLOOKUP($B326,Ref!$B$3:$F$24,4,FALSE),0)","v":0},{"$f":"IFERROR(VLOOKUP($B326,Ref!$B$3:$E$52,3,FALSE),0)","v":0}]
[null,null,{"$f":"IFERROR(VLOOKUP($B327,Ref!$B$3:$C$52,2,FALSE),0)","v":0},null,null,{"$f":"IFERROR(VLOOKUP($B327,Ref!$B$3:$F$24,4,FALSE),0)","v":0},{"$f":"IFERROR(VLOOKUP($B327,Ref!$B$3:$E$52,3,FALSE),0)","v":0}]
[null,null,{"$f":"IFERROR(VLOOKUP($B328,Ref!$B$3:$C$52,2,FALSE),0)","v":0},null,null,{"$f":"IFERROR(VLOOKUP($B328,Ref!$B$3:$F$24,4,FALSE),0)","v":0},{"$f":"IFERROR(VLOOKUP($B328,Ref!$B$3:$E$52,3,FALSE),0)","v":0}]
[null,null,{"$f":"IFERROR(VLOOKUP($B329,Ref!$B$3:$C$52,2,FALSE),0)","v":0},null,null,{"$f":"IFERROR(VLOOKUP($B329,Ref!$B$3:$F$24,4,FALSE),0)","v":0},{"$f":"IFERROR(VLOOKUP($B329,Ref!$B$3:$E$52,3,FALSE),0)","v":0}]
[null,null,{"$f":"IFERROR(VLOOKUP($B330,Ref!$B$3:$C$52,2,FALSE),0)","v":0},null,null,{"$f":"IFERROR(VLOOKUP($B330,Ref!$B$3:$F$24,4,FALSE),0)","v":0},{"$f":"IFERROR(VLOOKUP($B330,Ref!$B$3:$E$52,3,FALSE),0)","v":0}]
[null,null,{"$f":"IFERROR(VLOOKUP($B331,Ref!$B$3:$C$52,2,FALSE),0)","v":0},null,null,{"$f":"IFERROR(VLOOKUP($B331,Ref!$B$3:$F$24,4,FALSE),0)","v":0},{"$f":"IFERROR(VLOOKUP($B331,Ref!$B$3:$E$52,3,FALSE),0)","v":0}]
[null,null,{"$f":"IFERROR(VLOOKUP($B332,Ref!$B$3:$C$52,2,FALSE),0)","v":0},null,null,{"$f":"IFERROR(VLOOKUP($B332,Ref!$B$3:$F$24,4,FALSE),0)","v":0},{"$f":"IFERROR(VLOOKUP($B332,Ref!$B$3:$E$52,3,FALSE),0)","v":0}]
[null,null,{"$f":"IFERROR(VLOOKUP($B333,Ref!$B$3:$C$52,2,FALSE),0)","v":0},null,null,{"$f":"IFERROR(VLOOKUP($B333,Ref!$B$3:$F$24,4,FALSE),0)","v":0},{"$f":"IFERROR(VLOOKUP($B333,Ref!$B$3:$E$52,3,FALSE),0)","v":0}]
[null,null,{"$f":"IFERROR(VLOOKUP($B334,Ref!$B$3:$C$52,2,FALSE),0)","v":0},null,null,{"$f":"IFERROR(VLOOKUP($B334,Ref!$B$3:$F$24,4,FALSE),0)","v":0},{"$f":"IFERROR(VLOOKUP($B334,Ref!$B$3:$E$52,3,FALSE),0)","v":0}]
[null,null,{"$f":"IFERROR(VLOOKUP($B335,Ref!$B$3:$C$52,2,FALSE),0)","v":0},null,null,{"$f":"IFERROR(VLOOKUP($B335,Ref!$B$3:$F$24,4,FALSE),0)","v":0},{"$f":"IFERROR(VLOOKUP($B335,Ref!$B$3:$E$52,3,FALSE),0)","v":0}]
[null,null,{"$f":"IFERROR(VLOOKUP($B336,Ref!$B$3:$C$52,2,FALSE),0)","v":0},null,null,{"$f":"IFERROR(VLOOKUP($B336,Ref!$B$3:$F$24,4,FALSE),0)","v":0},{"$f":"IFERROR(VLOOKUP($B336,Ref!$B$3:$E$52,3,FALSE),0)","v":0}]
[null,null,{"$f":"IFERROR(VLOOKUP($B337,Ref!$B$3:$C$52,2,FALSE),0)","v":0},null,null,{"$f":"IFERROR(VLOOKUP($B337,Ref!$B$3:$F$24,4,FALSE),0)","v":0},{"$f":"IFERROR(VLOOKUP($B337,Ref!$B$3:$E$52,3,FALSE),0)","v":0}]
[null,null,{"$f":"IFERROR(VLOOKUP($B338,Ref!$B$3:$C$52,2,FALSE),0)","v":0},null,null,{"$f":"IFERROR(VLOOKUP($B338,Ref!$B$3:$F$24,4,FALSE),0)","v":0},{"$f":"IFERROR(VLOOKUP($B338,Ref!$B$3:$E$52,3,FALSE),0)","v":0}]
[null,null,{"$f":"IFERROR(VLOOKUP($B339,Ref!$B$3:$C$52,2,FALSE),0)","v":0},null,null,{"$f":"IFERROR(VLOOKUP($B339,Ref!$B$3:$F$24,4,FALSE),0)","v":0},{"$f":"IFERROR(VLOOKUP($B339,Ref!$B$3:$E$52,3,FALSE),0)","v":0}]
[null,null,{"$f":"IFERROR(VLOOKUP($B340,Ref!$B$3:$C$52,2,FALSE),0)","v":0},null,null,{"$f":"IFERROR(VLOOKUP($B340,Ref!$B$3:$F$24,4,FALSE),0)","v":0},{"$f":"IFERROR(VLOOKUP($B340,Ref!$B$3:$E$52,3,FALSE),0)","v":0}]
[null,null,{"$f":"IFERROR(VLOOKUP($B341,Ref!$B$3:$C$52,2,FALSE),0)","v":0},null,null,{"$f":"IFERROR(VLOOKUP($B341,Ref!$B$3:$F$24,4,FALSE),0)","v":0},{"$f":"IFERROR(VLOOKUP($B341,Ref!$B$3:$E$52,3,FALSE),0)","v":0}]
[null,null,{"$f":"IFERROR(VLOOKUP($B342,Ref!$B$3:$C$52,2,FALSE),0)","v":0},null,null,{"$f":"IFERROR(VLOOKUP($B342,Ref!$B$3:$F$24,4,FALSE),0)","v":0},{"$f":"IFERROR(VLOOKUP($B342,Ref!$B$3:$E$52,3,FALSE),0)","v":0}]
[null,null,{"$f":"IFERROR(VLOOKUP($B343,Ref!$B$3:$C$52,2,FALSE),0)","v":0},null,null,{"$f":"IFERROR(VLOOKUP($B343,Ref!$B$3:$F$24,4,FALSE),0)","v":0},{"$f":"IFERROR(VLOOKUP($B343,Ref!$B$3:$E$52,3,FALSE),0)","v":0}]
[null,null,{"$f":"IFERROR(VLOOKUP($B344,Ref!$B$3:$C$52,2,FALSE),0)","v":0},null,null,{"$f":"IFERROR(VLOOKUP($B344,Ref!$B$3:$F$24,4,FALSE),0)","v":0},{"$f":"IFERROR(VLOOKUP($B344,Ref!$B$3:$E$52,3,FALSE),0)","v":0}]
[null,null,{"$f":"IFERROR(VLOOKUP($B345,Ref!$B$3:$C$52,2,FALSE),0)","v":0},null,null,{"$f":"IFERROR(VLOOKUP($B345,Ref!$B$3:$F$24,4,FALSE),0)","v":0},{"$f":"IFERROR(VLOOKUP($B345,Ref!$B$3:$E$52,3,FALSE),0)","v":0}]
[null,null,{"$f":"IFERROR(VLOOKUP($B346,Ref!$B$3:$C$52,2,FALSE),0)","v":0},null,null,{"$f":"IFERROR(VLOOKUP($B346,Ref!$B$3:$F$24,4,FALSE),0)","v":0},{"$f":"IFERROR(VLOOKUP($B346,Ref!$B$3:$E$52,3,FALSE),0)","v":0}]
[null,null,{"$f":"IFERROR(VLOOKUP($B347,Ref!$B$3:$C$52,2,FALSE),0)","v":0},null,null,{"$f":"IFERROR(VLOOKUP($B347,Ref!$B$3:$F$24,4,FALSE),0)","v":0},{"$f":"IFERROR(VLOOKUP($B347,Ref!$B$3:$E$52,3,FALSE),0)","v":0}]
[null,null,{"$f":"IFERROR(VLOOKUP($B348,Ref!$B$3:$C$52,2,FALSE),0)","v":0},null,null,{"$f":"IFERROR(VLOOKUP($B348,Ref!$B$3:$F$24,4,FALSE),0)","v":0},{"$f":"IFERROR(VLOOKUP($B348,Ref!$B$3:$E$52,3,FALSE),0)","v":0}]
[null,null,{"$f":"IFERROR(VLOOKUP($B349,Ref!$B$3:$C$52,2,FALSE),0)","v":0},null,null,{"$f":"IFERROR(VLOOKUP($B349,Ref!$B$3:$F$24,4,FALSE),0)","v":0},{"$f":"IFERROR(VLOOKUP($B349,Ref!$B$3:$E$52,3,FALSE),0)","v":0}]
[null,null,{"$f":"IFERROR(VLOOKUP($B350,Ref!$B$3:$C$52,2,FALSE),0)","v":0},null,null,{"$f":"IFERROR(VLOOKUP($B350,Ref!$B$3:$F$24,4,FALSE),0)","v":0},{"$f":"IFERROR(VLOOKUP($B350,Ref!$B$3:$E$52,3,FALSE),0)","v":0}]
[null,null,{"$f":"IFERROR(VLOOKUP($B351,Ref!$B$3:$C$52,2,FALSE),0)","v":0},null,null,{"$f":"IFERROR(VLOOKUP($B351,Ref!$B$3:$F$24,4,FALSE),0)","v":0},{"$f":"IFERROR(VLOOKUP($B351,Ref!$B$3:$E$52,3,FALSE),0)","v":0}]
[null,null,{"$f":"IFERROR(VLOOKUP($B352,Ref!$B$3:$C$52,2,FALSE),0)","v":0},null,null,{"$f":"IFERROR(VLOOKUP($B352,Ref!$B$3:$F$24,4,FALSE),0)","v":0},{"$f":"IFERROR(VLOOKUP($B352,Ref!$B$3:$E$52,3,FALSE),0)","v":0}]
[null,null,{"$f":"IFERROR(VLOOKUP($B353,Ref!$B$3:$C$52,2,FALSE),0)","v":0},null,null,{"$f":"IFERROR(VLOOKUP($B353,Ref!$B$3:$F$24,4,FALSE),0)","v":0},{"$f":"IFERROR(VLOOKUP($B353,Ref!$B$3:$E$52,3,FALSE),0)","v":0}]
[null,null,{"$f":"IFERROR(VLOOKUP($B354,Ref!$B$3:$C$52,2,FALSE),0)","v":0},null,null,{"$f":"IFERROR(VLOOKUP($B354,Ref!$B$3:$F$24,4,FALSE),0)","v":0},{"$f":"IFERROR(VLOOKUP($B354,Ref!$B$3:$E$52,3,FALSE),0)","v":0}]
[null,null,{"$f":"IFERROR(VLOOKUP($B355,Ref!$B$3:$C$52,2,FALSE),0)","v":0},null,null,{"$f":"IFERROR(VLOOKUP($B355,Ref!$B$3:$F$24,4,FALSE),0)","v":0},{"$f":"IFERROR(VLOOKUP($B355,Ref!$B$3:$E$52,3,FALSE),0)","v":0}]
[null,null,{"$f":"IFERROR(VLOOKUP($B356,Ref!$B$3:$C$52,2,FALSE),0)","v":0},null,null,{"$f":"IFERROR(VLOOKUP($B356,Ref!$B$3:$F$24,4,FALSE),0)","v":0},{"$f":"IFERROR(VLOOKUP($B356,Ref!$B$3:$E$52,3,FALSE),0)","v":0}]
[null,null,{"$f":"IFERROR(VLOOKUP($B357,Ref!$B$3:$C$52,2,FALSE),0)","v":0},null,null,{"$f":"IFERROR(VLOOKUP($B357,Ref!$B$3:$F$24,4,FALSE),0)","v":0},{"$f":"IFERROR(VLOOKUP($B357,Ref!$B$3:$E$52,3,FALSE),0)","v":0}]
[null,null,{"$f":"IFERROR(VLOOKUP($B358,Ref!$B$3:$C$52,2,FALSE),0)","v":0},null,null,{"$f":"IFERROR(VLOOKUP($B358,Ref!$B$3:$F$24,4,FALSE),0)","v":0},{"$f":"IFERROR(VLOOKUP($B358,Ref!$B$3:$E$52,3,FALSE),0)","v":0}]
[null,null,{"$f":"IFERROR(VLOOKUP($B359,Ref!$B$3:$C$52,2,FALSE),0)","v":0},null,null,{"$f":"IFERROR(VLOOKUP($B359,Ref!$B$3:$F$24,4,FALSE),0)","v":0},{"$f":"IFERROR(VLOOKUP($B359,Ref!$B$3:$E$52,3,FALSE),0)","v":0}]
[null,null,{"$f":"IFERROR(VLOOKUP($B360,Ref!$B$3:$C$52,2,FALSE),0)","v":0},null,null,{"$f":"IFERROR(VLOOKUP($B360,Ref!$B$3:$F$24,4,FALSE),0)","v":0},{"$f":"IFERROR(VLOOKUP($B360,Ref!$B$3:$E$52,3,FALSE),0)","v":0}]
[null,null,{"$f":"IFERROR(VLOOKUP($B361,Ref!$B$3:$C$52,2,FALSE),0)","v":0},null,null,{"$f":"IFERROR(VLOOKUP($B361,Ref!$B$3:$F$24,4,FALSE),0)","v":0},{"$f":"IFERROR(VLOOKUP($B361,Ref!$B$3:$E$52,3,FALSE),0)","v":0}]
[null,null,{"$f":"IFERROR(VLOOKUP($B362,Ref!$B$3:$C$52,2,FALSE),0)","v":0},null,null,{"$f":"IFERROR(VLOOKUP($B362,Ref!$B$3:$F$24,4,FALSE),0)","v":0},{"$f":"IFERROR(VLOOKUP($B362,Ref!$B$3:$E$52,3,FALSE),0)","v":0}]
[null,null,{"$f":"IFERROR(VLOOKUP($B363,Ref!$B$3:$C$52,2,FALSE),0)","v":0},null,null,{"$f":"IFERROR(VLOOKUP($B363,Ref!$B$3:$F$24,4,FALSE),0)","v":0},{"$f":"IFERROR(VLOOKUP($B363,Ref!$B$3:$E$52,3,FALSE),0)","v":0}]
[null,null,{"$f":"IFERROR(VLOOKUP($B364,Ref!$B$3:$C$52,2,FALSE),0)","v":0},null,null,{"$f":"IFERROR(VLOOKUP($B364,Ref!$B$3:$F$24,4,FALSE),0)","v":0},{"$f":"IFERROR(VLOOKUP($B364,Ref!$B$3:$E$52,3,FALSE),0)","v":0}]
[null,null,{"$f":"IFERROR(VLOOKUP($B365,Ref!$B$3:$C$52,2,FALSE),0)","v":0},null,null,{"$f":"IFERROR(VLOOKUP($B365,Ref!$B$3:$F$24,4,FALSE),0)","v":0},{"$f":"IFERROR(VLOOKUP($B365,Ref!$B$3:$E$52,3,FALSE),0)","v":0}]
[null,null,{"$f":"IFERROR(VLOOKUP($B366,Ref!$B$3:$C$52,2,FALSE),0)","v":0},null,null,{"$f":"IFERROR(VLOOKUP($B366,Ref!$B$3:$F$24,4,FALSE),0)","v":0},{"$f":"IFERROR(VLOOKUP($B366,Ref!$B$3:$E$52,3,FALSE),0)","v":0}]
[null,null,{"$f":"IFERROR(VLOOKUP($B367,Ref!$B$3:$C$52,2,FALSE),0)","v":0},null,null,{"$f":"IFERROR(VLOOKUP($B367,Ref!$B$3:$F$24,4,FALSE),0)","v":0},{"$f":"IFERROR(VLOOKUP($B367,Ref!$B$3:$E$52,3,FALSE),0)","v":0}]
[null,null,{"$f":"IFERROR(VLOOKUP($B368,Ref!$B$3:$C$52,2,FALSE),0)","v":0},null,null,{"$f":"IFERROR(VLOOKUP($B368,Ref!$B$3:$F$24,4,FALSE),0)","v":0},{"$f":"IFERROR(VLOOKUP($B368,Ref!$B$3:$E$52,3,FALSE),0)","v":0}]
[null,null,{"$f":"IFERROR(VLOOKUP($B369,Ref!$B$3:$C$52,2,FALSE),0)","v":0},null,null,{"$f":"IFERROR(VLOOKUP($B369,Ref!$B$3:$F$24,4,FALSE),0)","v":0},{"$f":"IFERROR(VLOOKUP($B369,Ref!$B$3:$E$52,3,FALSE),0)","v":0}]
[null,null,{"$f":"IFERROR(VLOOKUP($B370,Ref!$B$3:$C$52,2,FALSE),0)","v":0},null,null,{"$f":"IFERROR(VLOOKUP($B370,Ref!$B$3:$F$24,4,FALSE),0)","v":0},{"$f":"IFERROR(VLOOKUP($B370,Ref!$B$3:$E$52,3,FALSE),0)","v":0}]
[null,null,{"$f":"IFERROR(VLOOKUP($B371,Ref!$B$3:$C$52,2,FALSE),0)","v":0},null,null,{"$f":"IFERROR(VLOOKUP($B371,Ref!$B$3:$F$24,4,FALSE),0)","v":0},{"$f":"IFERROR(VLOOKUP($B371,Ref!$B$3:$E$52,3,FALSE),0)","v":0}]
[null,null,{"$f":"IFERROR(VLOOKUP($B372,Ref!$B$3:$C$52,2,FALSE),0)","v":0},null,null,{"$f":"IFERROR(VLOOKUP($B372,Ref!$B$3:$F$24,4,FALSE),0)","v":0},{"$f":"IFERROR(VLOOKUP($B372,Ref!$B$3:$E$52,3,FALSE),0)","v":0}]
[null,null,{"$f":"IFERROR(VLOOKUP($B373,Ref!$B$3:$C$52,2,FALSE),0)","v":0},null,null,{"$f":"IFERROR(VLOOKUP($B373,Ref!$B$3:$F$24,4,FALSE),0)","v":0},{"$f":"IFERROR(VLOOKUP($B373,Ref!$B$3:$E$52,3,FALSE),0)","v":0}]
[null,null,{"$f":"IFERROR(VLOOKUP($B374,Ref!$B$3:$C$52,2,FALSE),0)","v":0},null,null,{"$f":"IFERROR(VLOOKUP($B374,Ref!$B$3:$F$24,4,FALSE),0)","v":0},{"$f":"IFERROR(VLOOKUP($B374,Ref!$B$3:$E$52,3,FALSE),0)","v":0}]
[null,null,{"$f":"IFERROR(VLOOKUP($B375,Ref!$B$3:$C$52,2,FALSE),0)","v":0},null,null,{"$f":"IFERROR(VLOOKUP($B375,Ref!$B$3:$F$24,4,FALSE),0)","v":0},{"$f":"IFERROR(VLOOKUP($B375,Ref!$B$3:$E$52,3,FALSE),0)","v":0}]
[null,null,{"$f":"IFERROR(VLOOKUP($B376,Ref!$B$3:$C$52,2,FALSE),0)","v":0},null,null,{"$f":"IFERROR(VLOOKUP($B376,Ref!$B$3:$F$24,4,FALSE),0)","v":0},{"$f":"IFERROR(VLOOKUP($B376,Ref!$B$3:$E$52,3,FALSE),0)","v":0}]
[null,null,{"$f":"IFERROR(VLOOKUP($B377,Ref!$B$3:$C$52,2,FALSE),0)","v":0},null,null,{"$f":"IFERROR(VLOOKUP($B377,Ref!$B$3:$F$24,4,FALSE),0)","v":0},{"$f":"IFERROR(VLOOKUP($B377,Ref!$B$3:$E$52,3,FALSE),0)","v":0}]
[null,null,{"$f":"IFERROR(VLOOKUP($B378,Ref!$B$3:$C$52,2,FALSE),0)","v":0},null,null,{"$f":"IFERROR(VLOOKUP($B378,Ref!$B$3:$F$24,4,FALSE),0)","v":0},{"$f":"IFERROR(VLOOKUP($B378,Ref!$B$3:$E$52,3,FALSE),0)","v":0}]
[null,null,{"$f":"IFERROR(VLOOKUP($B379,Ref!$B$3:$C$52,2,FALSE),0)","v":0},null,null,{"$f":"IFERROR(VLOOKUP($B379,Ref!$B$3:$F$24,4,FALSE),0)","v":0},{"$f":"IFERROR(VLOOKUP($B379,Ref!$B$3:$E$52,3,FALSE),0)","v":0}]
[null,null,{"$f":"IFERROR(VLOOKUP($B380,Ref!$B$3:$C$52,2,FALSE),0)","v":0},null,null,{"$f":"IFERROR(VLOOKUP($B380,Ref!$B$3:$F$24,4,FALSE),0)","v":0},{"$f":"IFERROR(VLOOKUP($B380,Ref!$B$3:$E$52,3,FALSE),0)","v":0}]
[null,null,{"$f":"IFERROR(VLOOKUP($B381,Ref!$B$3:$C$52,2,FALSE),0)","v":0},null,null,{"$f":"IFERROR(VLOOKUP($B381,Ref!$B$3:$F$24,4,FALSE),0)","v":0},{"$f":"IFERROR(VLOOKUP($B381,Ref!$B$3:$E$52,3,FALSE),0)","v":0}]
[null,null,{"$f":"IFERROR(VLOOKUP($B382,Ref!$B$3:$C$52,2,FALSE),0)","v":0},null,null,{"$f":"IFERROR(VLOOKUP($B382,Ref!$B$3:$F$24,4,FALSE),0)","v":0},{"$f":"IFERROR(VLOOKUP($B382,Ref!$B$3:$E$52,3,FALSE),0)","v":0}]
[null,null,{"$f":"IFERROR(VLOOKUP($B383,Ref!$B$3:$C$52,2,FALSE),0)","v":0},null,null,{"$f":"IFERROR(VLOOKUP($B383,Ref!$B$3:$F$24,4,FALSE),0)","v":0},{"$f":"IFERROR(VLOOKUP($B383,Ref!$B$3:$E$52,3,FALSE),0)","v":0}]
[null,null,{"$f":"IFERROR(VLOOKUP($B384,Ref!$B$3:$C$52,2,FALSE),0)","v":0},null,null,{"$f":"IFERROR(VLOOKUP($B384,Ref!$B$3:$F$24,4,FALSE),0)","v":0},{"$f":"IFERROR(VLOOKUP($B384,Ref!$B$3:$E$52,3,FALSE),0)","v":0}]
[null,null,{"$f":"IFERROR(VLOOKUP($B385,Ref!$B$3:$C$52,2,FALSE),0)","v":0},null,null,{"$f":"IFERROR(VLOOKUP($B385,Ref!$B$3:$F$24,4,FALSE),0)","v":0},{"$f":"IFERROR(VLOOKUP($B385,Ref!$B$3:$E$52,3,FALSE),0)","v":0}]
[null,null,{"$f":"IFERROR(VLOOKUP($B386,Ref!$B$3:$C$52,2,FALSE),0)","v":0},null,null,{"$f":"IFERROR(VLOOKUP($B386,Ref!$B$3:$F$24,4,FALSE),0)","v":0},{"$f":"IFERROR(VLOOKUP($B386,Ref!$B$3:$E$52,3,FALSE),0)","v":0}]
[null,null,{"$f":"IFERROR(VLOOKUP($B387,Ref!$B$3:$C$52,2,FALSE),0)","v":0},null,null,{"$f":"IFERROR(VLOOKUP($B387,Ref!$B$3:$F$24,4,FALSE),0)","v":0},{"$f":"IFERROR(VLOOKUP($B387,Ref!$B$3:$E$52,3,FALSE),0)","v":0}]
[null,null,{"$f":"IFERROR(VLOOKUP($B388,Ref!$B$3:$C$52,2,FALSE),0)","v":0},null,null,{"$f":"IFERROR(VLOOKUP($B388,Ref!$B$3:$F$24,4,FALSE),0)","v":0},{"$f":"IFERROR(VLOOKUP($B388,Ref!$B$3:$E$52,3,FALSE),0)","v":0}]
[null,null,{"$f":"IFERROR(VLOOKUP($B389,Ref!$B$3:$C$52,2,FALSE),0)","v":0},null,null,{"$f":"IFERROR(VLOOKUP($B389,Ref!$B$3:$F$24,4,FALSE),0)","v":0},{"$f":"IFERROR(VLOOKUP($B389,Ref!$B$3:$E$52,3,FALSE),0)","v":0}]
[null,null,{"$f":"IFERROR(VLOOKUP($B390,Ref!$B$3:$C$52,2,FALSE),0)","v":0},null,null,{"$f":"IFERROR(VLOOKUP($B390,Ref!$B$3:$F$24,4,FALSE),0)","v":0},{"$f":"IFERROR(VLOOKUP($B390,Ref!$B$3:$E$52,3,FALSE),0)","v":0}]
[null,null,{"$f":"IFERROR(VLOOKUP($B391,Ref!$B$3:$C$52,2,FALSE),0)","v":0},null,null,{"$f":"IFERROR(VLOOKUP($B391,Ref!$B$3:$F$24,4,FALSE),0)","v":0},{"$f":"IFERROR(VLOOKUP($B391,Ref!$B$3:$E$52,3,FALSE),0)","v":0}]
[null,null,{"$f":"IFERROR(VLOOKUP($B392,Ref!$B$3:$C$52,2,FALSE),0)","v":0},null,null,{"$f":"IFERROR(VLOOKUP($B392,Ref!$B$3:$F$24,4,FALSE),0)","v":0},{"$f":"IFERROR(VLOOKUP($B392,Ref!$B$3:$E$52,3,FALSE),0)","v":0}]
[null,null,{"$f":"IFERROR(VLOOKUP($B393,Ref!$B$3:$C$52,2,FALSE),0)","v":0},null,null,{"$f":"IFERROR(VLOOKUP($B393,Ref!$B$3:$F$24,4,FALSE),0)","v":0},{"$f":"IFERROR(VLOOKUP($B393,Ref!$B$3:$E$52,3,FALSE),0)","v":0}]
[null,null,{"$f":"IFERROR(VLOOKUP($B394,Ref!$B$3:$C$52,2,FALSE),0)","v":0},null,null,{"$f":"IFERROR(VLOOKUP($B394,Ref!$B$3:$F$24,4,FALSE),0)","v":0},{"$f":"IFERROR(VLOOKUP($B394,Ref!$B$3:$E$52,3,FALSE),0)","v":0}]
[null,null,{"$f":"IFERROR(VLOOKUP($B395,Ref!$B$3:$C$52,2,FALSE),0)","v":0},null,null,{"$f":"IFERROR(VLOOKUP($B395,Ref!$B$3:$F$24,4,FALSE),0)","v":0},{"$f":"IFERROR(VLOOKUP($B395,Ref!$B$3:$E$52,3,FALSE),0)","v":0}]
[null,null,{"$f":"IFERROR(VLOOKUP($B396,Ref!$B$3:$C$52,2,FALSE),0)","v":0},null,null,{"$f":"IFERROR(VLOOKUP($B396,Ref!$B$3:$F$24,4,FALSE),0)","v":0},{"$f":"IFERROR(VLOOKUP($B396,Ref!$B$3:$E$52,3,FALSE),0)","v":0}]
[null,null,{"$f":"IFERROR(VLOOKUP($B397,Ref!$B$3:$C$52,2,FALSE),0)","v":0},null,null,{"$f":"IFERROR(VLOOKUP($B397,Ref!$B$3:$F$24,4,FALSE),0)","v":0},{"$f":"IFERROR(VLOOKUP($B397,Ref!$B$3:$E$52,3,FALSE),0)","v":0}]
[null,null,{"$f":"IFERROR(VLOOKUP($B398,Ref!$B$3:$C$52,2,FALSE),0)","v":0},null,null,{"$f":"IFERROR(VLOOKUP($B398,Ref!$B$3:$F$24,4,FALSE),0)","v":0},{"$f":"IFERROR(VLOOKUP($B398,Ref!$B$3:$E$52,3,FALSE),0)","v":0}]
[null,null,{"$f":"IFERROR(VLOOKUP($B399,Ref!$B$3:$C$52,2,FALSE),0)","v":0},null,null,{"$f":"IFERROR(VLOOKUP($B399,Ref!$B$3:$F$24,4,FALSE),0)","v":0},{"$f":"IFERROR(VLOOKUP($B399,Ref!$B$3:$E$52,3,FALSE),0)","v":0}]
[null,null,{"$f":"IFERROR(VLOOKUP($B400,Ref!$B$3:$C$52,2,FALSE),0)","v":0},null,null,{"$f":"IFERROR(VLOOKUP($B400,Ref!$B$3:$F$24,4,FALSE),0)","v":0},{"$f":"IFERROR(VLOOKUP($B400,Ref!$B$3:$E$52,3,FALSE),0)","v":0}]
[null,null,{"$f":"IFERROR(VLOOKUP($B401,Ref!$B$3:$C$52,2,FALSE),0)","v":0},null,null,{"$f":"IFERROR(VLOOKUP($B401,Ref!$B$3:$F$24,4,FALSE),0)","v":0},{"$f":"IFERROR(VLOOKUP($B401,Ref!$B$3:$E$52,3,FALSE),0)","v":0}]
[null,null,{"$f":"IFERROR(VLOOKUP($B402,Ref!$B$3:$C$52,2,FALSE),0)","v":0},null,null,{"$f":"IFERROR(VLOOKUP($B402,Ref!$B$3:$F$24,4,FALSE),0)","v":0},{"$f":"IFERROR(VLOOKUP($B402,Ref!$B$3:$E$52,3,FALSE),0)","v":0}]
[null,null,{"$f":"IFERROR(VLOOKUP($B403,Ref!$B$3:$C$52,2,FALSE),0)","v":0},null,null,{"$f":"IFERROR(VLOOKUP($B403,Ref!$B$3:$F$24,4,FALSE),0)","v":0},{"$f":"IFERROR(VLOOKUP($B403,Ref!$B$3:$E$52,3,FALSE),0)","v":0}]
[null,null,{"$f":"IFERROR(VLOOKUP($B404,Ref!$B$3:$C$52,2,FALSE),0)","v":0},null,null,{"$f":"IFERROR(VLOOKUP($B404,Ref!$B$3:$F$24,4,FALSE),0)","v":0},{"$f":"IFERROR(VLOOKUP($B404,Ref!$B$3:$E$52,3,FALSE),0)","v":0}]
[null,null,{"$f":"IFERROR(VLOOKUP($B405,Ref!$B$3:$C$52,2,FALSE),0)","v":0},null,null,{"$f":"IFERROR(VLOOKUP($B405,Ref!$B$3:$F$24,4,FALSE),0)","v":0},{"$f":"IFERROR(VLOOKUP($B405,Ref!$B$3:$E$52,3,FALSE),0)","v":0}]
[null,null,{"$f":"IFERROR(VLOOKUP($B406,Ref!$B$3:$C$52,2,FALSE),0)","v":0},null,null,{"$f":"IFERROR(VLOOKUP($B406,Ref!$B$3:$F$24,4,FALSE),0)","v":0},{"$f":"IFERROR(VLOOKUP($B406,Ref!$B$3:$E$52,3,FALSE),0)","v":0}]
[null,null,{"$f":"IFERROR(VLOOKUP($B407,Ref!$B$3:$C$52,2,FALSE),0)","v":0},null,null,{"$f":"IFERROR(VLOOKUP($B407,Ref!$B$3:$F$24,4,FALSE),0)","v":0},{"$f":"IFERROR(VLOOKUP($B407,Ref!$B$3:$E$52,3,FALSE),0)","v":0}]
[null,null,{"$f":"IFERROR(VLOOKUP($B408,Ref!$B$3:$C$52,2,FALSE),0)","v":0},null,null,{"$f":"IFERROR(VLOOKUP($B408,Ref!$B$3:$F$24,4,FALSE),0)","v":0},{"$f":"IFERROR(VLOOKUP($B408,Ref!$B$3:$E$52,3,FALSE),0)","v":0}]
[null,null,{"$f":"IFERROR(VLOOKUP($B409,Ref!$B$3:$C$52,2,FALSE),0)","v":0},null,null,{"$f":"IFERROR(VLOOKUP($B409,Ref!$B$3:$F$24,4,FALSE),0)","v":0},{"$f":"IFERROR(VLOOKUP($B409,Ref!$B$3:$E$52,3,FALSE),0)","v":0}]
[null,null,{"$f":"IFERROR(VLOOKUP($B410,Ref!$B$3:$C$52,2,FALSE),0)","v":0},null,null,{"$f":"IFERROR(VLOOKUP($B410,Ref!$B$3:$F$24,4,FALSE),0)","v":0},{"$f":"IFERROR(VLOOKUP($B410,Ref!$B$3:$E$52,3,FALSE),0)","v":0}]
[null,null,{"$f":"IFERROR(VLOOKUP($B411,Ref!$B$3:$C$52,2,FALSE),0)","v":0},null,null,{"$f":"IFERROR(VLOOKUP($B411,Ref!$B$3:$F$24,4,FALSE),0)","v":0},{"$f":"IFERROR(VLOOKUP($B411,Ref!$B$3:$E$52,3,FALSE),0)","v":0}]
[null,null,{"$f":"IFERROR(VLOOKUP($B412,Ref!$B$3:$C$52,2,FALSE),0)","v":0},null,null,{"$f":"IFERROR(VLOOKUP($B412,Ref!$B$3:$F$24,4,FALSE),0)","v":0},{"$f":"IFERROR(VLOOKUP($B412,Ref!$B$3:$E$52,3,FALSE),0)","v":0}]
[null,null,{"$f":"IFERROR(VLOOKUP($B413,Ref!$B$3:$C$52,2,FALSE),0)","v":0},null,null,{"$f":"IFERROR(VLOOKUP($B413,Ref!$B$3:$F$24,4,FALSE),0)","v":0},{"$f":"IFERROR(VLOOKUP($B413,Ref!$B$3:$E$52,3,FALSE),0)","v":0}]
[null,null,{"$f":"IFERROR(VLOOKUP($B414,Ref!$B$3:$C$52,2,FALSE),0)","v":0},null,null,{"$f":"IFERROR(VLOOKUP($B414,Ref!$B$3:$F$24,4,FALSE),0)","v":0},{"$f":"IFERROR(VLOOKUP($B414,Ref!$B$3:$E$52,3,FALSE),0)","v":0}]
[null,null,{"$f":"IFERROR(VLOOKUP($B415,Ref!$B$3:$C$52,2,FALSE),0)","v":0},null,null,{"$f":"IFERROR(VLOOKUP($B415,Ref!$B$3:$F$24,4,FALSE),0)","v":0},{"$f":"IFERROR(VLOOKUP($B415,Ref!$B$3:$E$52,3,FALSE),0)","v":0}]
[null,null,{"$f":"IFERROR(VLOOKUP($B416,Ref!$B$3:$C$52,2,FALSE),0)","v":0},null,null,{"$f":"IFERROR(VLOOKUP($B416,Ref!$B$3:$F$24,4,FALSE),0)","v":0},{"$f":"IFERROR(VLOOKUP($B416,Ref!$B$3:$E$52,3,FALSE),0)","v":0}]
[null,null,{"$f":"IFERROR(VLOOKUP($B417,Ref!$B$3:$C$52,2,FALSE),0)","v":0},null,null,{"$f":"IFERROR(VLOOKUP($B417,Ref!$B$3:$F$24,4,FALSE),0)","v":0},{"$f":"IFERROR(VLOOKUP($B417,Ref!$B$3:$E$52,3,FALSE),0)","v":0}]
[null,null,{"$f":"IFERROR(VLOOKUP($B418,Ref!$B$3:$C$52,2,FALSE),0)","v":0},null,null,{"$f":"IFERROR(VLOOKUP($B418,Ref!$B$3:$F$24,4,FALSE),0)","v":0},{"$f":"IFERROR(VLOOKUP($B418,Ref!$B$3:$E$52,3,FALSE),0)","v":0}]
[null,null,{"$f":"IFERROR(VLOOKUP($B419,Ref!$B$3:$C$52,2,FALSE),0)","v":0},null,null,{"$f":"IFERROR(VLOOKUP($B419,Ref!$B$3:$F$24,4,FALSE),0)","v":0},{"$f":"IFERROR(VLOOKUP($B419,Ref!$B$3:$E$52,3,FALSE),0)","v":0}]
[null,null,{"$f":"IFERROR(VLOOKUP($B420,Ref!$B$3:$C$52,2,FALSE),0)","v":0},null,null,{"$f":"IFERROR(VLOOKUP($B420,Ref!$B$3:$F$24,4,FALSE),0)","v":0},{"$f":"IFERROR(VLOOKUP($B420,Ref!$B$3:$E$52,3,FALSE),0)","v":0}]
[null,null,{"$f":"IFERROR(VLOOKUP($B421,Ref!$B$3:$C$52,2,FALSE),0)","v":0},null,null,{"$f":"IFERROR(VLOOKUP($B421,Ref!$B$3:$F$24,4,FALSE),0)","v":0},{"$f":"IFERROR(VLOOKUP($B421,Ref!$B$3:$E$52,3,FALSE),0)","v":0}]
[null,null,{"$f":"IFERROR(VLOOKUP($B422,Ref!$B$3:$C$52,2,FALSE),0)","v":0},null,null,{"$f":"IFERROR(VLOOKUP($B422,Ref!$B$3:$F$24,4,FALSE),0)","v":0},{"$f":"IFERROR(VLOOKUP($B422,Ref!$B$3:$E$52,3,FALSE),0)","v":0}]
[null,null,{"$f":"IFERROR(VLOOKUP($B423,Ref!$B$3:$C$52,2,FALSE),0)","v":0},null,null,{"$f":"IFERROR(VLOOKUP($B423,Ref!$B$3:$F$24,4,FALSE),0)","v":0},{"$f":"IFERROR(VLOOKUP($B423,Ref!$B$3:$E$52,3,FALSE),0)","v":0}]
[null,null,{"$f":"IFERROR(VLOOKUP($B424,Ref!$B$3:$C$52,2,FALSE),0)","v":0},null,null,{"$f":"IFERROR(VLOOKUP($B424,Ref!$B$3:$F$24,4,FALSE),0)","v":0},{"$f":"IFERROR(VLOOKUP($B424,Ref!$B$3:$E$52,3,FALSE),0)","v":0}]
[null,null,{"$f":"IFERROR(VLOOKUP($B425,Ref!$B$3:$C$52,2,FALSE),0)","v":0},null,null,{"$f":"IFERROR(VLOOKUP($B425,Ref!$B$3:$F$24,4,FALSE),0)","v":0},{"$f":"IFERROR(VLOOKUP($B425,Ref!$B$3:$E$52,3,FALSE),0)","v":0}]
[null,null,{"$f":"IFERROR(VLOOKUP($B426,Ref!$B$3:$C$52,2,FALSE),0)","v":0},null,null,{"$f":"IFERROR(VLOOKUP($B426,Ref!$B$3:$F$24,4,FALSE),0)","v":0},{"$f":"IFERROR(VLOOKUP($B426,Ref!$B$3:$E$52,3,FALSE),0)","v":0}]
[null,null,{"$f":"IFERROR(VLOOKUP($B427,Ref!$B$3:$C$52,2,FALSE),0)","v":0},null,null,{"$f":"IFERROR(VLOOKUP($B427,Ref!$B$3:$F$24,4,FALSE),0)","v":0},{"$f":"IFERROR(VLOOKUP($B427,Ref!$B$3:$E$52,3,FALSE),0)","v":0}]
[null,null,{"$f":"IFERROR(VLOOKUP($B428,Ref!$B$3:$C$52,2,FALSE),0)","v":0},null,null,{"$f":"IFERROR(VLOOKUP($B428,Ref!$B$3:$F$24,4,FALSE),0)","v":0},{"$f":"IFERROR(VLOOKUP($B428,Ref!$B$3:$E$52,3,FALSE),0)","v":0}]
[null,null,{"$f":"IFERROR(VLOOKUP($B429,Ref!$B$3:$C$52,2,FALSE),0)","v":0},null,null,{"$f":"IFERROR(VLOOKUP($B429,Ref!$B$3:$F$24,4,FALSE),0)","v":0},{"$f":"IFERROR(VLOOKUP($B429,Ref!$B$3:$E$52,3,FALSE),0)","v":0}]
[null,null,{"$f":"IFERROR(VLOOKUP($B430,Ref!$B$3:$C$52,2,FALSE),0)","v":0},null,null,{"$f":"IFERROR(VLOOKUP($B430,Ref!$B$3:$F$24,4,FALSE),0)","v":0},{"$f":"IFERROR(VLOOKUP($B430,Ref!$B$3:$E$52,3,FALSE),0)","v":0}]
[null,null,{"$f":"IFERROR(VLOOKUP($B431,Ref!$B$3:$C$52,2,FALSE),0)","v":0},null,null,{"$f":"IFERROR(VLOOKUP($B431,Ref!$B$3:$F$24,4,FALSE),0)","v":0},{"$f":"IFERROR(VLOOKUP($B431,Ref!$B$3:$E$52,3,FALSE),0)","v":0}]
[null,null,{"$f":"IFERROR(VLOOKUP($B432,Ref!$B$3:$C$52,2,FALSE),0)","v":0},null,null,{"$f":"IFERROR(VLOOKUP($B432,Ref!$B$3:$F$24,4,FALSE),0)","v":0},{"$f":"IFERROR(VLOOKUP($B432,Ref!$B$3:$E$52,3,FALSE),0)","v":0}]
[null,null,{"$f":"IFERROR(VLOOKUP($B433,Ref!$B$3:$C$52,2,FALSE),0)","v":0},null,null,{"$f":"IFERROR(VLOOKUP($B433,Ref!$B$3:$F$24,4,FALSE),0)","v":0},{"$f":"IFERROR(VLOOKUP($B433,Ref!$B$3:$E$52,3,FALSE),0)","v":0}]
[null,null,{"$f":"IFERROR(VLOOKUP($B434,Ref!$B$3:$C$52,2,FALSE),0)","v":0},null,null,{"$f":"IFERROR(VLOOKUP($B434,Ref!$B$3:$F$24,4,FALSE),0)","v":0},{"$f":"IFERROR(VLOOKUP($B434,Ref!$B$3:$E$52,3,FALSE),0)","v":0}]
[null,null,{"$f":"IFERROR(VLOOKUP($B435,Ref!$B$3:$C$52,2,FALSE),0)","v":0},null,null,{"$f":"IFERROR(VLOOKUP($B435,Ref!$B$3:$F$24,4,FALSE),0)","v":0},{"$f":"IFERROR(VLOOKUP($B435,Ref!$B$3:$E$52,3,FALSE),0)","v":0}]
[null,null,{"$f":"IFERROR(VLOOKUP($B436,Ref!$B$3:$C$52,2,FALSE),0)","v":0},null,null,{"$f":"IFERROR(VLOOKUP($B436,Ref!$B$3:$F$24,4,FALSE),0)","v":0},{"$f":"IFERROR(VLOOKUP($B436,Ref!$B$3:$E$52,3,FALSE),0)","v":0}]
[null,null,{"$f":"IFERROR(VLOOKUP($B437,Ref!$B$3:$C$52,2,FALSE),0)","v":0},null,null,{"$f":"IFERROR(VLOOKUP($B437,Ref!$B$3:$F$24,4,FALSE),0)","v":0},{"$f":"IFERROR(VLOOKUP($B437,Ref!$B$3:$E$52,3,FALSE),0)","v":0}]
[null,null,{"$f":"IFERROR(VLOOKUP($B438,Ref!$B$3:$C$52,2,FALSE),0)","v":0},null,null,{"$f":"IFERROR(VLOOKUP($B438,Ref!$B$3:$F$24,4,FALSE),0)","v":0},{"$f":"IFERROR(VLOOKUP($B438,Ref!$B$3:$E$52,3,FALSE),0)","v":0}]
[null,null,{"$f":"IFERROR(VLOOKUP($B439,Ref!$B$3:$C$52,2,FALSE),0)","v":0},null,null,{"$f":"IFERROR(VLOOKUP($B439,Ref!$B$3:$F$24,4,FALSE),0)","v":0},{"$f":"IFERROR(VLOOKUP($B439,Ref!$B$3:$E$52,3,FALSE),0)","v":0}]
[null,null,{"$f":"IFERROR(VLOOKUP($B440,Ref!$B$3:$C$52,2,FALSE),0)","v":0},null,null,{"$f":"IFERROR(VLOOKUP($B440,Ref!$B$3:$F$24,4,FALSE),0)","v":0},{"$f":"IFERROR(VLOOKUP($B440,Ref!$B$3:$E$52,3,FALSE),0)","v":0}]
[null,null,{"$f":"IFERROR(VLOOKUP($B441,Ref!$B$3:$C$52,2,FALSE),0)","v":0},null,null,{"$f":"IFERROR(VLOOKUP($B441,Ref!$B$3:$F$24,4,FALSE),0)","v":0},{"$f":"IFERROR(VLOOKUP($B441,Ref!$B$3:$E$52,3,FALSE),0)","v":0}]
[null,null,{"$f":"IFERROR(VLOOKUP($B442,Ref!$B$3:$C$52,2,FALSE),0)","v":0},null,null,{"$f":"IFERROR(VLOOKUP($B442,Ref!$B$3:$F$24,4,FALSE),0)","v":0},{"$f":"IFERROR(VLOOKUP($B442,Ref!$B$3:$E$52,3,FALSE),0)","v":0}]
[null,null,{"$f":"IFERROR(VLOOKUP($B443,Ref!$B$3:$C$52,2,FALSE),0)","v":0},null,null,{"$f":"IFERROR(VLOOKUP($B443,Ref!$B$3:$F$24,4,FALSE),0)","v":0},{"$f":"IFERROR(VLOOKUP($B443,Ref!$B$3:$E$52,3,FALSE),0)","v":0}]
[null,null,{"$f":"IFERROR(VLOOKUP($B444,Ref!$B$3:$C$52,2,FALSE),0)","v":0},null,null,{"$f":"IFERROR(VLOOKUP($B444,Ref!$B$3:$F$24,4,FALSE),0)","v":0},{"$f":"IFERROR(VLOOKUP($B444,Ref!$B$3:$E$52,3,FALSE),0)","v":0}]
[null,null,{"$f":"IFERROR(VLOOKUP($B445,Ref!$B$3:$C$52,2,FALSE),0)","v":0},null,null,{"$f":"IFERROR(VLOOKUP($B445,Ref!$B$3:$F$24,4,FALSE),0)","v":0},{"$f":"IFERROR(VLOOKUP($B445,Ref!$B$3:$E$52,3,FALSE),0)","v":0}]
[null,null,{"$f":"IFERROR(VLOOKUP($B446,Ref!$B$3:$C$52,2,FALSE),0)","v":0},null,null,{"$f":"IFERROR(VLOOKUP($B446,Ref!$B$3:$F$24,4,FALSE),0)","v":0},{"$f":"IFERROR(VLOOKUP($B446,Ref!$B$3:$E$52,3,FALSE),0)","v":0}]
[null,null,{"$f":"IFERROR(VLOOKUP($B447,Ref!$B$3:$C$52,2,FALSE),0)","v":0},null,null,{"$f":"IFERROR(VLOOKUP($B447,Ref!$B$3:$F$24,4,FALSE),0)","v":0},{"$f":"IFERROR(VLOOKUP($B447,Ref!$B$3:$E$52,3,FALSE),0)","v":0}]
[null,null,{"$f":"IFERROR(VLOOKUP($B448,Ref!$B$3:$C$52,2,FALSE),0)","v":0},null,null,{"$f":"IFERROR(VLOOKUP($B448,Ref!$B$3:$F$24,4,FALSE),0)","v":0},{"$f":"IFERROR(VLOOKUP($B448,Ref!$B$3:$E$52,3,FALSE),0)","v":0}]
[null,null,{"$f":"IFERROR(VLOOKUP($B449,Ref!$B$3:$C$52,2,FALSE),0)","v":0},null,null,{"$f":"IFERROR(VLOOKUP($B449,Ref!$B$3:$F$24,4,FALSE),0)","v":0},{"$f":"IFERROR(VLOOKUP($B449,Ref!$B$3:$E$52,3,FALSE),0)","v":0}]
[null,null,{"$f":"IFERROR(VLOOKUP($B450,Ref!$B$3:$C$52,2,FALSE),0)","v":0},null,null,{"$f":"IFERROR(VLOOKUP($B450,Ref!$B$3:$F$24,4,FALSE),0)","v":0},{"$f":"IFERROR(VLOOKUP($B450,Ref!$B$3:$E$52,3,FALSE),0)","v":0}]
[null,null,{"$f":"IFERROR(VLOOKUP($B451,Ref!$B$3:$C$52,2,FALSE),0)","v":0},null,null,{"$f":"IFERROR(VLOOKUP($B451,Ref!$B$3:$F$24,4,FALSE),0)","v":0},{"$f":"IFERROR(VLOOKUP($B451,Ref!$B$3:$E$52,3,FALSE),0)","v":0}]
[null,null,{"$f":"IFERROR(VLOOKUP($B452,Ref!$B$3:$C$52,2,FALSE),0)","v":0},null,null,{"$f":"IFERROR(VLOOKUP($B452,Ref!$B$3:$F$24,4,FALSE),0)","v":0},{"$f":"IFERROR(VLOOKUP($B452,Ref!$B$3:$E$52,3,FALSE),0)","v":0}]
[null,null,{"$f":"IFERROR(VLOOKUP($B453,Ref!$B$3:$C$52,2,FALSE),0)","v":0},null,null,{"$f":"IFERROR(VLOOKUP($B453,Ref!$B$3:$F$24,4,FALSE),0)","v":0},{"$f":"IFERROR(VLOOKUP($B453,Ref!$B$3:$E$52,3,FALSE),0)","v":0}]
[null,null,{"$f":"IFERROR(VLOOKUP($B454,Ref!$B$3:$C$52,2,FALSE),0)","v":0},null,null,{"$f":"IFERROR(VLOOKUP($B454,Ref!$B$3:$F$24,4,FALSE),0)","v":0},{"$f":"IFERROR(VLOOKUP($B454,Ref!$B$3:$E$52,3,FALSE),0)","v":0}]
[null,null,{"$f":"IFERROR(VLOOKUP($B455,Ref!$B$3:$C$52,2,FALSE),0)","v":0},null,null,{"$f":"IFERROR(VLOOKUP($B455,Ref!$B$3:$F$24,4,FALSE),0)","v":0},{"$f":"IFERROR(VLOOKUP($B455,Ref!$B$3:$E$52,3,FALSE),0)","v":0}]
[null,null,{"$f":"IFERROR(VLOOKUP($B456,Ref!$B$3:$C$52,2,FALSE),0)","v":0},null,null,{"$f":"IFERROR(VLOOKUP($B456,Ref!$B$3:$F$24,4,FALSE),0)","v":0},{"$f":"IFERROR(VLOOKUP($B456,Ref!$B$3:$E$52,3,FALSE),0)","v":0}]
[null,null,{"$f":"IFERROR(VLOOKUP($B457,Ref!$B$3:$C$52,2,FALSE),0)","v":0},null,null,{"$f":"IFERROR(VLOOKUP($B457,Ref!$B$3:$F$24,4,FALSE),0)","v":0},{"$f":"IFERROR(VLOOKUP($B457,Ref!$B$3:$E$52,3,FALSE),0)","v":0}]
[null,null,{"$f":"IFERROR(VLOOKUP($B458,Ref!$B$3:$C$52,2,FALSE),0)","v":0},null,null,{"$f":"IFERROR(VLOOKUP($B458,Ref!$B$3:$F$24,4,FALSE),0)","v":0},{"$f":"IFERROR(VLOOKUP($B458,Ref!$B$3:$E$52,3,FALSE),0)","v":0}]
[null,null,{"$f":"IFERROR(VLOOKUP($B459,Ref!$B$3:$C$52,2,FALSE),0)","v":0},null,null,{"$f":"IFERROR(VLOOKUP($B459,Ref!$B$3:$F$24,4,FALSE),0)","v":0},{"$f":"IFERROR(VLOOKUP($B459,Ref!$B$3:$E$52,3,FALSE),0)","v":0}]
[null,null,{"$f":"IFERROR(VLOOKUP($B460,Ref!$B$3:$C$52,2,FALSE),0)","v":0},null,null,{"$f":"IFERROR(VLOOKUP($B460,Ref!$B$3:$F$24,4,FALSE),0)","v":0},{"$f":"IFERROR(VLOOKUP($B460,Ref!$B$3:$E$52,3,FALSE),0)","v":0}]
[null,null,{"$f":"IFERROR(VLOOKUP($B461,Ref!$B$3:$C$52,2,FALSE),0)","v":0},null,null,{"$f":"IFERROR(VLOOKUP($B461,Ref!$B$3:$F$24,4,FALSE),0)","v":0},{"$f":"IFERROR(VLOOKUP($B461,Ref!$B$3:$E$52,3,FALSE),0)","v":0}]
[null,null,{"$f":"IFERROR(VLOOKUP($B462,Ref!$B$3:$C$52,2,FALSE),0)","v":0},null,null,{"$f":"IFERROR(VLOOKUP($B462,Ref!$B$3:$F$24,4,FALSE),0)","v":0},{"$f":"IFERROR(VLOOKUP($B462,Ref!$B$3:$E$52,3,FALSE),0)","v":0}]
[null,null,{"$f":"IFERROR(VLOOKUP($B463,Ref!$B$3:$C$52,2,FALSE),0)","v":0},null,null,{"$f":"IFERROR(VLOOKUP($B463,Ref!$B$3:$F$24,4,FALSE),0)","v":0},{"$f":"IFERROR(VLOOKUP($B463,Ref!$B$3:$E$52,3,FALSE),0)","v":0}]
[null,null,{"$f":"IFERROR(VLOOKUP($B464,Ref!$B$3:$C$52,2,FALSE),0)","v":0},null,null,{"$f":"IFERROR(VLOOKUP($B464,Ref!$B$3:$F$24,4,FALSE),0)","v":0},{"$f":"IFERROR(VLOOKUP($B464,Ref!$B$3:$E$52,3,FALSE),0)","v":0}]
[null,null,{"$f":"IFERROR(VLOOKUP($B465,Ref!$B$3:$C$52,2,FALSE),0)","v":0},null,null,{"$f":"IFERROR(VLOOKUP($B465,Ref!$B$3:$F$24,4,FALSE),0)","v":0},{"$f":"IFERROR(VLOOKUP($B465,Ref!$B$3:$E$52,3,FALSE),0)","v":0}]
[null,null,{"$f":"IFERROR(VLOOKUP($B466,Ref!$B$3:$C$52,2,FALSE),0)","v":0},null,null,{"$f":"IFERROR(VLOOKUP($B466,Ref!$B$3:$F$24,4,FALSE),0)","v":0},{"$f":"IFERROR(VLOOKUP($B466,Ref!$B$3:$E$52,3,FALSE),0)","v":0}]
[null,null,{"$f":"IFERROR(VLOOKUP($B467,Ref!$B$3:$C$52,2,FALSE),0)","v":0},null,null,{"$f":"IFERROR(VLOOKUP($B467,Ref!$B$3:$F$24,4,FALSE),0)","v":0},{"$f":"IFERROR(VLOOKUP($B467,Ref!$B$3:$E$52,3,FALSE),0)","v":0}]
[null,null,{"$f":"IFERROR(VLOOKUP($B468,Ref!$B$3:$C$52,2,FALSE),0)","v":0},null,null,{"$f":"IFERROR(VLOOKUP($B468,Ref!$B$3:$F$24,4,FALSE),0)","v":0},{"$f":"IFERROR(VLOOKUP($B468,Ref!$B$3:$E$52,3,FALSE),0)","v":0}]
[null,null,{"$f":"IFERROR(VLOOKUP($B469,Ref!$B$3:$C$52,2,FALSE),0)","v":0},null,null,{"$f":"IFERROR(VLOOKUP($B469,Ref!$B$3:$F$24,4,FALSE),0)","v":0},{"$f":"IFERROR(VLOOKUP($B469,Ref!$B$3:$E$52,3,FALSE),0)","v":0}]
[null,null,{"$f":"IFERROR(VLOOKUP($B470,Ref!$B$3:$C$52,2,FALSE),0)","v":0},null,null,{"$f":"IFERROR(VLOOKUP($B470,Ref!$B$3:$F$24,4,FALSE),0)","v":0},{"$f":"IFERROR(VLOOKUP($B470,Ref!$B$3:$E$52,3,FALSE),0)","v":0}]
[null,null,{"$f":"IFERROR(VLOOKUP($B471,Ref!$B$3:$C$52,2,FALSE),0)","v":0},null,null,{"$f":"IFERROR(VLOOKUP($B471,Ref!$B$3:$F$24,4,FALSE),0)","v":0},{"$f":"IFERROR(VLOOKUP($B471,Ref!$B$3:$E$52,3,FALSE),0)","v":0}]
[null,null,{"$f":"IFERROR(VLOOKUP($B472,Ref!$B$3:$C$52,2,FALSE),0)","v":0},null,null,{"$f":"IFERROR(VLOOKUP($B472,Ref!$B$3:$F$24,4,FALSE),0)","v":0},{"$f":"IFERROR(VLOOKUP($B472,Ref!$B$3:$E$52,3,FALSE),0)","v":0}]
[null,null,{"$f":"IFERROR(VLOOKUP($B473,Ref!$B$3:$C$52,2,FALSE),0)","v":0},null,null,{"$f":"IFERROR(VLOOKUP($B473,Ref!$B$3:$F$24,4,FALSE),0)","v":0},{"$f":"IFERROR(VLOOKUP($B473,Ref!$B$3:$E$52,3,FALSE),0)","v":0}]
[null,null,{"$f":"IFERROR(VLOOKUP($B474,Ref!$B$3:$C$52,2,FALSE),0)","v":0},null,null,{"$f":"IFERROR(VLOOKUP($B474,Ref!$B$3:$F$24,4,FALSE),0)","v":0},{"$f":"IFERROR(VLOOKUP($B474,Ref!$B$3:$E$52,3,FALSE),0)","v":0}]
[null,null,{"$f":"IFERROR(VLOOKUP($B475,Ref!$B$3:$C$52,2,FALSE),0)","v":0},null,null,{"$f":"IFERROR(VLOOKUP($B475,Ref!$B$3:$F$24,4,FALSE),0)","v":0},{"$f":"IFERROR(VLOOKUP($B475,Ref!$B$3:$E$52,3,FALSE),0)","v":0}]
[null,null,{"$f":"IFERROR(VLOOKUP($B476,Ref!$B$3:$C$52,2,FALSE),0)","v":0},null,null,{"$f":"IFERROR(VLOOKUP($B476,Ref!$B$3:$F$24,4,FALSE),0)","v":0},{"$f":"IFERROR(VLOOKUP($B476,Ref!$B$3:$E$52,3,FALSE),0)","v":0}]
[null,null,{"$f":"IFERROR(VLOOKUP($B477,Ref!$B$3:$C$52,2,FALSE),0)","v":0},null,null,{"$f":"IFERROR(VLOOKUP($B477,Ref!$B$3:$F$24,4,FALSE),0)","v":0},{"$f":"IFERROR(VLOOKUP($B477,Ref!$B$3:$E$52,3,FALSE),0)","v":0}]
[null,null,{"$f":"IFERROR(VLOOKUP($B478,Ref!$B$3:$C$52,2,FALSE),0)","v":0},null,null,{"$f":"IFERROR(VLOOKUP($B478,Ref!$B$3:$F$24,4,FALSE),0)","v":0},{"$f":"IFERROR(VLOOKUP($B478,Ref!$B$3:$E$52,3,FALSE),0)","v":0}]
[null,null,{"$f":"IFERROR(VLOOKUP($B479,Ref!$B$3:$C$52,2,FALSE),0)","v":0},null,null,{"$f":"IFERROR(VLOOKUP($B479,Ref!$B$3:$F$24,4,FALSE),0)","v":0},{"$f":"IFERROR(VLOOKUP($B479,Ref!$B$3:$E$52,3,FALSE),0)","v":0}]
[null,null,{"$f":"IFERROR(VLOOKUP($B480,Ref!$B$3:$C$52,2,FALSE),0)","v":0},null,null,{"$f":"IFERROR(VLOOKUP($B480,Ref!$B$3:$F$24,4,FALSE),0)","v":0},{"$f":"IFERROR(VLOOKUP($B480,Ref!$B$3:$E$52,3,FALSE),0)","v":0}]
[null,null,{"$f":"IFERROR(VLOOKUP($B481,Ref!$B$3:$C$52,2,FALSE),0)","v":0},null,null,{"$f":"IFERROR(VLOOKUP($B481,Ref!$B$3:$F$24,4,FALSE),0)","v":0},{"$f":"IFERROR(VLOOKUP($B481,Ref!$B$3:$E$52,3,FALSE),0)","v":0}]
[null,null,{"$f":"IFERROR(VLOOKUP($B482,Ref!$B$3:$C$52,2,FALSE),0)","v":0},null,null,{"$f":"IFERROR(VLOOKUP($B482,Ref!$B$3:$F$24,4,FALSE),0)","v":0},{"$f":"IFERROR(VLOOKUP($B482,Ref!$B$3:$E$52,3,FALSE),0)","v":0}]
[null,null,{"$f":"IFERROR(VLOOKUP($B483,Ref!$B$3:$C$52,2,FALSE),0)","v":0},null,null,{"$f":"IFERROR(VLOOKUP($B483,Ref!$B$3:$F$24,4,FALSE),0)","v":0},{"$f":"IFERROR(VLOOKUP($B483,Ref!$B$3:$E$52,3,FALSE),0)","v":0}]
[null,null,{"$f":"IFERROR(VLOOKUP($B484,Ref!$B$3:$C$52,2,FALSE),0)","v":0},null,null,{"$f":"IFERROR(VLOOKUP($B484,Ref!$B$3:$F$24,4,FALSE),0)","v":0},{"$f":"IFERROR(VLOOKUP($B484,Ref!$B$3:$E$52,3,FALSE),0)","v":0}]
[null,null,{"$f":"IFERROR(VLOOKUP($B485,Ref!$B$3:$C$52,2,FALSE),0)","v":0},null,null,{"$f":"IFERROR(VLOOKUP($B485,Ref!$B$3:$F$24,4,FALSE),0)","v":0},{"$f":"IFERROR(VLOOKUP($B485,Ref!$B$3:$E$52,3,FALSE),0)","v":0}]
[null,null,{"$f":"IFERROR(VLOOKUP($B486,Ref!$B$3:$C$52,2,FALSE),0)","v":0},null,null,{"$f":"IFERROR(VLOOKUP($B486,Ref!$B$3:$F$24,4,FALSE),0)","v":0},{"$f":"IFERROR(VLOOKUP($B486,Ref!$B$3:$E$52,3,FALSE),0)","v":0}]
[null,null,{"$f":"IFERROR(VLOOKUP($B487,Ref!$B$3:$C$52,2,FALSE),0)","v":0},null,null,{"$f":"IFERROR(VLOOKUP($B487,Ref!$B$3:$F$24,4,FALSE),0)","v":0},{"$f":"IFERROR(VLOOKUP($B487,Ref!$B$3:$E$52,3,FALSE),0)","v":0}]
[null,null,{"$f":"IFERROR(VLOOKUP($B488,Ref!$B$3:$C$52,2,FALSE),0)","v":0},null,null,{"$f":"IFERROR(VLOOKUP($B488,Ref!$B$3:$F$24,4,FALSE),0)","v":0},{"$f":"IFERROR(VLOOKUP($B488,Ref!$B$3:$E$52,3,FALSE),0)","v":0}]
[null,null,{"$f":"IFERROR(VLOOKUP($B489,Ref!$B$3:$C$52,2,FALSE),0)","v":0},null,null,{"$f":"IFERROR(VLOOKUP($B489,Ref!$B$3:$F$24,4,FALSE),0)","v":0},{"$f":"IFERROR(VLOOKUP($B489,Ref!$B$3:$E$52,3,FALSE),0)","v":0}]
[null,null,{"$f":"IFERROR(VLOOKUP($B490,Ref!$B$3:$C$52,2,FALSE),0)","v":0},null,null,{"$f":"IFERROR(VLOOKUP($B490,Ref!$B$3:$F$24,4,FALSE),0)","v":0},{"$f":"IFERROR(VLOOKUP($B490,Ref!$B$3:$E$52,3,FALSE),0)","v":0}]
[null,null,{"$f":"IFERROR(VLOOKUP($B491,Ref!$B$3:$C$52,2,FALSE),0)","v":0},null,null,{"$f":"IFERROR(VLOOKUP($B491,Ref!$B$3:$F$24,4,FALSE),0)","v":0},{"$f":"IFERROR(VLOOKUP($B491,Ref!$B$3:$E$52,3,FALSE),0)","v":0}]
[null,null,{"$f":"IFERROR(VLOOKUP($B492,Ref!$B$3:$C$52,2,FALSE),0)","v":0},null,null,{"$f":"IFERROR(VLOOKUP($B492,Ref!$B$3:$F$24,4,FALSE),0)","v":0},{"$f":"IFERROR(VLOOKUP($B492,Ref!$B$3:$E$52,3,FALSE),0)","v":0}]
[null,null,{"$f":"IFERROR(VLOOKUP($B493,Ref!$B$3:$C$52,2,FALSE),0)","v":0},null,null,{"$f":"IFERROR(VLOOKUP($B493,Ref!$B$3:$F$24,4,FALSE),0)","v":0},{"$f":"IFERROR(VLOOKUP($B493,Ref!$B$3:$E$52,3,FALSE),0)","v":0}]
[null,null,{"$f":"IFERROR(VLOOKUP($B494,Ref!$B$3:$C$52,2,FALSE),0)","v":0},null,null,{"$f":"IFERROR(VLOOKUP($B494,Ref!$B$3:$F$24,4,FALSE),0)","v":0},{"$f":"IFERROR(VLOOKUP($B494,Ref!$B$3:$E$52,3,FALSE),0)","v":0}]
[null,null,{"$f":"IFERROR(VLOOKUP($B495,Ref!$B$3:$C$52,2,FALSE),0)","v":0},null,null,{"$f":"IFERROR(VLOOKUP($B495,Ref!$B$3:$F$24,4,FALSE),0)","v":0},{"$f":"IFERROR(VLOOKUP($B495,Ref!$B$3:$E$52,3,FALSE),0)","v":0}]
[null,null,{"$f":"IFERROR(VLOOKUP($B496,Ref!$B$3:$C$52,2,FALSE),0)","v":0},null,null,{"$f":"IFERROR(VLOOKUP($B496,Ref!$B$3:$F$24,4,FALSE),0)","v":0},{"$f":"IFERROR(VLOOKUP($B496,Ref!$B$3:$E$52,3,FALSE),0)","v":0}]
[null,null,{"$f":"IFERROR(VLOOKUP($B497,Ref!$B$3:$C$52,2,FALSE),0)","v":0},null,null,{"$f":"IFERROR(VLOOKUP($B497,Ref!$B$3:$F$24,4,FALSE),0)","v":0},{"$f":"IFERROR(VLOOKUP($B497,Ref!$B$3:$E$52,3,FALSE),0)","v":0}]
[null,null,{"$f":"IFERROR(VLOOKUP($B498,Ref!$B$3:$C$52,2,FALSE),0)","v":0},null,null,{"$f":"IFERROR(VLOOKUP($B498,Ref!$B$3:$F$24,4,FALSE),0)","v":0},{"$f":"IFERROR(VLOOKUP($B498,Ref!$B$3:$E$52,3,FALSE),0)","v":0}]
[null,null,{"$f":"IFERROR(VLOOKUP($B499,Ref!$B$3:$C$52,2,FALSE),0)","v":0},null,null,{"$f":"IFERROR(VLOOKUP($B499,Ref!$B$3:$F$24,4,FALSE),0)","v":0},{"$f":"IFERROR(VLOOKUP($B499,Ref!$B$3:$E$52,3,FALSE),0)","v":0}]
[null,null,{"$f":"IFERROR(VLOOKUP($B500,Ref!$B$3:$C$52,2,FALSE),0)","v":0},null,null,{"$f":"IFERROR(VLOOKUP($B500,Ref!$B$3:$F$24,4,FALSE),0)","v":0},{"$f":"IFERROR(VLOOKUP($B500,Ref!$B$3:$E$52,3,FALSE),0)","v":0}]

{"sheet":"7-Síntese da auditoria","index":8,"n_rows":537,"n_cols":36,"rows_kept":537,"cut":false,"hidden":false,"merged":[[0,0,0,14],[12,0,12,3],[2,0,2,1],[3,0,3,1],[1,0,1,1],[8,0,10,0],[4,0,4,1],[1,2,1,4],[1,5,1,14],[5,0,5,1],[6,0,6,1],[7,0,7,1],[11,0,11,1],[12,5,13,10],[12,13,13,13],[12,11,13,11],[12,12,13,12],[13,0,13,3],[30,9,30,11],[30,12,30,14],[39,0,39,1],[35,0,36,1],[35,2,36,2],[35,5,36,5],[35,6,36,6],[35,3,36,3],[35,4,36,4],[38,0,38,1],[33,0,34,6],[29,8,29,14],[30,8,31,8],[37,0,37,1]]}
["Síntese da auditoria"]
[null,null,"Totais dos subcapítulos específicos",null,null,"Subcapítulos específicos de elementos/materiais e RCD reportados",null,null,null,null,null,null,null,null,null,null,null,null,null,null,null,null,null,null,null,null,"Material","Nature of waste","LoW Code","Quantity","Unit","Conversion factor","Estimated quantity (kg)","Best treatment recommended (auditor)","Probable treatment (waste manager)","Precautions to take"]
[null,null,"Massa (kg)","Massa por unidade de área de demolição          (kg / m2)","Fração","Betão, tijolo, ladrilhos, cerâmica","Madeira","Vidro","Plástico","Madeira, vidro, plástico perigosos","Misturas betuminosas","Metais","Materiais de isolamento","Gesso","Misturas",null,null,null,null,null,null,null,null,null,null,null,"Material","Natureza do resíduos","Código LER","Quantidade","Unidade","Fator de conversão","Quantidade estimada (kg)","Melhor tratamento recomendado (auditor)","Tratamento provável (diracao de resíduos)","Precauções a tomar"]
["Reutilização de elementos/materiais",null,{"$f":"SUM(F4:O4)","v":1500},{"$f":"C4/$E$13","v":10},{"$f":"C4/$C$12","v":9.4667087409277373E-2},{"$f":"SUMIFS(AG4:AG537,AC4:AC537,\"*17 01*\",AI4:AI537,\"*reutilização*\")","v":1500},{"$f":"SUMIFS(AG4:AG537,AC4:AC537,\"*17 02 01*\",AI4:AI537,\"*reutilização*\")","v":0},{"$f":"SUMIFS(AG4:AG537,AC4:AC537,\"*17 02 02*\",AI4:AI537,\"*reutilização*\")","v":0},{"$f":"SUMIFS(AG4:AG537,AC4:AC537,\"*17 02 03*\",AI4:AI537,\"*reutilização*\")","v":0},{"$f":"SUMIFS(AG4:AG537,AC4:AC537,\"*17 02 04*\",AI4:AI537,\"*reutilização*\")","v":0},{"$f":"SUMIFS(AG4:AG537,AC4:AC537,\"*17 03*\",AI4:AI537,\"*reutilização*\")","v":0},{"$f":"SUMIFS(AG4:AG537,AC4:AC537,\"*17 04*\",AI4:AI537,\"*reutilização*\")","v":0},{"$f":"SUMIFS(AG4:AG537,AC4:AC537,\"*17 06*\",AI4:AI537,\"*reutilização*\")","v":0},{"$f":"SUMIFS(AG4:AG537,AC4:AC537,\"*17 08*\",AI4:AI537,\"*reutilização*\")","v":0},{"$f":"SUMIFS(AG4:AG537,AC4:AC537,\"*17 09*\",AI4:AI537,\"*reutilização*\")","v":0},null,null,null,null,null,null,null,null,null,null,null,{"$f":"' 6-Inventário de recursos'!B7","v":"betão"},{"$f":"' 6-Inventário de recursos'!D7","v":"Inerte/Não perigoso"},{"$f":"' 6-Inventário de recursos'!C7","v":"17 01 01 "},{"$f":"' 6-Inventário de recursos'!E7","v":5},{"$f":"' 6-Inventário de recursos'!F7","v":"m3"},{"$f":"' 6-Inventário de recursos'!G7","v":2300},{"$f":"' 6-Inventário de recursos'!H7","v":11500},{"$f":"' 6-Inventário de recursos'!L7","v":"Reciclagem na obra"},{"$f":"' 6-Inventário de recursos'!L7","v":"Reciclagem na obra"},{"$f":"' 6-Inventário de recursos'!M7","v":0}]
["Preparação reutilização de elemento/materiais",null,2500,16.666666666666668,0.1577784790154623,{"$f":"SUMIFS(AG4:AG537,AC4:AC537,\"*17 01*\",AI4:AI537,\"*preparação*\")","v":0},{"$f":"SUMIFS(AG4:AG537,AC4:AC537,\"*17 02 01*\",AI4:AI537,\"*preparação*\")","v":0},{"$f":"SUMIFS(AG4:AG537,AC4:AC537,\"*17 02 02*\",AI4:AI537,\"*preparação*\")","v":2500},{"$f":"SUMIFS(AG4:AG537,AC4:AC537,\"*17 02 03*\",AI4:AI537,\"*preparação*\")","v":0},{"$f":"SUMIFS(AG4:AG537,AC4:AC537,\"*17 02 04*\",AI4:AI537,\"*preparação*\")","v":0},{"$f":"SUMIFS(AG4:AG537,AC4:AC537,\"*17 03*\",AI4:AI537,\"*preparação*\")","v":0},{"$f":"SUMIFS(AG4:AG537,AC4:AC537,\"*17 04*\",AI4:AI537,\"*preparação*\")","v":0},{"$f":"SUMIFS(AG4:AG537,AC4:AC537,\"*17 06*\",AI4:AI537,\"*preparação*\")","v":0},{"$f":"SUMIFS(AG4:AG537,AC4:AC537,\"*17 08*\",AI4:AI537,\"*preparação*\")","v":0},{"$f":"SUMIFS(AG4:AG537,AC4:AC537,\"*17 09*\",AI4:AI537,\"*preparação*\")","v":0},null,null,null,null,null,null,null,null,null,null,null,{"$f":"' 6-Inventário de recursos'!B8","v":"vidro"},{"$f":"' 6-Inventário de recursos'!D8","v":"Inerte/Não perigoso"},{"$f":"' 6-Inventário de recursos'!C8","v":"17 02 02 "},{"$f":"' 6-Inventário de recursos'!E8","v":1},{"$f":"' 6-Inventário de recursos'!F8","v":"m3"},{"$f":"' 6-Inventário de recursos'!G8","v":2500},{"$f":"' 6-Inventário de recursos'!H8","v":2500},{"$f":"' 6-Inventário de recursos'!L8","v":"Preparação para reutilizar elemento/material na obra"},{"$f":"' 6-Inventário de recursos'!L8","v":"Preparação para reutilizar elemento/material na obra"},{"$f":"' 6-Inventário de recursos'!M8","v":0}]
["Reciclagem",null,11500,76.666666666666671,0.72578100347112651,{"$f":"SUMIFS(AG4:AG537,AC4:AC537,\"*17 01*\",AI4:AI537,\"*Reciclagem*\")","v":11500},{"$f":"SUMIFS(AG4:AG537,AC4:AC537,\"*17 02 01*\",AI4:AI537,\"*Reciclagem*\")","v":0},{"$f":"SUMIFS(AG4:AG537,AC4:AC537,\"*17 02 02*\",AI4:AI537,\"*Reciclagem*\")","v":0},{"$f":"SUMIFS(AG4:AG537,AC4:AC537,\"*17 02 03*\",AI4:AI537,\"*Reciclagem*\")","v":0},{"$f":"SUMIFS(AG4:AG537,AC4:AC537,\"*17 02 04*\",AI4:AI537,\"*Reciclagem*\")","v":0},{"$f":"SUMIFS(AG4:AG537,AC4:AC537,\"*17 03*\",AI4:AI537,\"*Reciclagem*\")","v":0},{"$f":"SUMIFS(AG4:AG537,AC4:AC537,\"*17 04*\",AI4:AI537,\"*Reciclagem*\")","v":0},{"$f":"SUMIFS(AG4:AG537,AC4:AC537,\"*17 06*\",AI4:AI537,\"*Reciclagem*\")","v":0},{"$f":"SUMIFS(AG4:AG537,AC4:AC537,\"*17 08*\",AI4:AI537,\"*Reciclagem*\")","v":0},{"$f":"SUMIFS(AG4:AG537,AC4:AC537,\"*17 09*\",AI4:AI537,\"*Reciclagem*\")","v":0},null,null,null,null,null,null,null,null,null,null,null,{"$f":"' 6-Inventário de recursos'!B9","v":"madeira"},{"$f":"' 6-Inventário de recursos'!D9","v":"Inerte/Não perigoso"},{"$f":"' 6-Inventário de recursos'!C9","v":"17 02 01 "},{"$f":"' 6-Inventário de recursos'!E9","v":300},{"$f":"' 6-Inventário de recursos'!F9","v":"kg"},{"$f":"' 6-Inventário de recursos'!G9","v":700},{"$f":"' 6-Inventário de recursos'!H9","v":300},{"$f":"' 6-Inventário de recursos'!L9","v":"Recuperação no local como material enchimento "},{"$f":"' 6-Inventário de recursos'!L9","v":"Recuperação no local como material enchimento "},{"$f":"' 6-Inventário de recursos'!M9","v":0}]
["Valorização de material (enchimento)",null,300,2,1.8933417481855473E-2,{"$f":"SUMIFS(AG4:AG537,AC4:AC537,\"*17 01*\",AI4:AI537,\"*enchimento*\")","v":0},{"$f":"SUMIFS(AG4:AG537,AC4:AC537,\"*17 02 01*\",AI4:AI537,\"*enchimento*\")","v":300},{"$f":"SUMIFS(AG4:AG537,AC4:AC537,\"*17 02 02*\",AI4:AI537,\"*enchimento*\")","v":0},{"$f":"SUMIFS(AG4:AG537,AC4:AC537,\"*17 02 03*\",AI4:AI537,\"*enchimento*\")","v":0},{"$f":"SUMIFS(AG4:AG537,AC4:AC537,\"*17 02 04*\",AI4:AI537,\"*enchimento*\")","v":0},{"$f":"SUMIFS(AG4:AG537,AC4:AC537,\"*17 03*\",AI4:AI537,\"*enchimento*\")","v":0},{"$f":"SUMIFS(AG4:AG537,AC4:AC537,\"*17 04*\",AI4:AI537,\"*enchimento*\")","v":0},{"$f":"SUMIFS(AG4:AG537,AC4:AC537,\"*17 06*\",AI4:AI537,\"*enchimento*\")","v":0},{"$f":"SUMIFS(AG4:AG537,AC4:AC537,\"*17 08*\",AI4:AI537,\"*enchimento*\")","v":0},{"$f":"SUMIFS(AG4:AG537,AC4:AC537,\"*17 09*\",AI4:AI537,\"*enchimento*\")","v":0},null,null,null,null,null,null,null,null,null,null,null,{"$f":"' 6-Inventário de recursos'!B10","v":"ladrilhos, telhas e materiais cerâmicos"},{"$f":"' 6-Inventário de recursos'!D10","v":"Inerte/Não perigoso"},{"$f":"' 6-Inventário de recursos'!C10","v":"17 01 03 "},{"$f":"' 6-Inventário de recursos'!E10","v":1500},{"$f":"' 6-Inventário de recursos'!F10","v":"kg"},{"$f":"' 6-Inventário de recursos'!G10","v":830.6},{"$f":"' 6-Inventário de recursos'!H10","v":1500},{"$f":"' 6-Inventário de recursos'!L10","v":"Reutilização do elemento/material fora da obra"},{"$f":"' 6-Inventário de recursos'!L10","v":"Reutilização do elemento/material fora da obra"},{"$f":"' 6-Inventário de recursos'!M10","v":0}]
["Recuperação de energia",null,0,{"$f":"C8/$E$13","v":0},0,{"$f":"SUMIFS(AG4:AG537,AC4:AC537,\"*17 01*\",AI4:AI537,\"*energia*\")","v":0},{"$f":"SUMIFS(AG4:AG537,AC4:AC537,\"*17 02 01*\",AI4:AI537,\"*energia*\")","v":0},{"$f":"SUMIFS(AG4:AG537,AC4:AC537,\"*17 02 02*\",AI4:AI537,\"*energia*\")","v":0},{"$f":"SUMIFS(AG4:AG537,AC4:AC537,\"*17 02 03*\",AI4:AI537,\"*energia*\")","v":0},{"$f":"SUMIFS(AG4:AG537,AC4:AC537,\"*17 02 04*\",AI4:AI537,\"*energia*\")","v":0},{"$f":"SUMIFS(AG4:AG537,AC4:AC537,\"*17 03*\",AI4:AI537,\"*energia*\")","v":0},{"$f":"SUMIFS(AG4:AG537,AC4:AC537,\"*17 04*\",AI4:AI537,\"*energia*\")","v":0},{"$f":"SUMIFS(AG4:AG537,AC4:AC537,\"*17 06*\",AI4:AI537,\"*energia*\")","v":0},{"$f":"SUMIFS(AG4:AG537,AC4:AC537,\"*17 08*\",AI4:AI537,\"*energia*\")","v":0},{"$f":"SUMIFS(AG4:AG537,AC4:AC537,\"*17 09*\",AI4:AI537,\"*energia*\")","v":0},null,null,null,null,null,null,null,null,null,null,null,{"$f":"' 6-Inventário de recursos'!B11","v":"vidro, plástico e madeira contendo ou contaminados com substâncias perigosas"},{"$f":"' 6-Inventário de recursos'!D11","v":"Perigoso"},{"$f":"' 6-Inventário de recursos'!C11","v":"17 02 04*"},{"$f":"' 6-Inventário de recursos'!E11","v":45},{"$f":"' 6-Inventário de recursos'!F11","v":"kg"},{"$f":"' 6-Inventário de recursos'!G11","v":0},{"$f":"' 6-Inventário de recursos'!H11","v":45},{"$f":"' 6-Inventário de recursos'!L11","v":"Aterro de resíduos perigosos"},{"$f":"' 6-Inventário de recursos'!L11","v":"Aterro de resíduos perigosos"},{"$f":"' 6-Inventário de recursos'!M11","v":0}]
["Eliminação","Total",45,0.3,2.8400126222783212E-3,{"$f":"SUMIFS(AG4:AG537,AC4:AC537,\"*17 01*\",AI4:AI537,\"*incineração*\")+SUMIFS(AG4:AG537,AC4:AC537,\"*17 01*\",AI4:AI537,\"*Aterro*\")","v":0},{"$f":"SUMIFS(AG4:AG537,AC4:AC537,\"*17 02 01*\",AI4:AI537,\"*incineração*\")+SUMIFS(AG4:AG537,AC4:AC537,\"*17 02 01*\",AI4:AI537,\"*Aterro*\")","v":0},{"$f":"SUMIFS(AG4:AG537,AC4:AC537,\"*17 02 02*\",AI4:AI537,\"*incineração*\")+SUMIFS(AG4:AG537,AC4:AC537,\"*17 02 02*\",AI4:AI537,\"*Aterro*\")","v":0},{"$f":"SUMIFS(AG4:AG537,AC4:AC537,\"*17 02 03*\",AI4:AI537,\"*incineração*\")+SUMIFS(AG4:AG537,AC4:AC537,\"*17 02 03*\",AI4:AI537,\"*Aterro*\")","v":0},{"$f":"SUMIFS(AG4:AG537,AC4:AC537,\"*17 02 04*\",AI4:AI537,\"*incineração*\")+SUMIFS(AG4:AG537,AC4:AC537,\"*17 02 04*\",AI4:AI537,\"*Aterro*\")","v":45},{"$f":"SUMIFS(AG4:AG537,AC4:AC537,\"*17 03*\",AI4:AI537,\"*incineração*\")+SUMIFS(AG4:AG537,AC4:AC537,\"*17 03*\",AI4:AI537,\"*Aterro*\")","v":0},{"$f":"SUMIFS(AG4:AG537,AC4:AC537,\"*17 04*\",AI4:AI537,\"*incineração*\")+SUMIFS(AG4:AG537,AC4:AC537,\"*17 04*\",AI4:AI537,\"*Aterro*\")","v":0},{"$f":"SUMIFS(AG4:AG537,AC4:AC537,\"*17 06*\",AI4:AI537,\"*incineração*\")+SUMIFS(AG4:AG537,AC4:AC537,\"*17 06*\",AI4:AI537,\"*Aterro*\")","v":0},{"$f":"SUMIFS(AG4:AG537,AC4:AC537,\"*17 08*\",AI4:AI537,\"*incineração*\")+SUMIFS(AG4:AG537,AC4:AC537,\"*17 08*\",AI4:AI537,\"*Aterro*\")","v":0},{"$f":"SUMIFS(AG4:AG537,AC4:AC537,\"*17 09*\",AI4:AI537,\"*incineração*\")+SUMIFS(AG4:AG537,AC4:AC537,\"*17 09*\",AI4:AI537,\"*Aterro*\")","v":0},null,null,null,null,null,null,null,null,null,null,null,{"$f":"' 6-Inventário de recursos'!B12","v":"lâmpadas fluorescentes e outros resíduos contendo mercúrio"},{"$f":"' 6-Inventário de recursos'!D12","v":"Perigoso"},{"$f":"' 6-Inventário de recursos'!C12","v":"20 01 21*"},{"$f":"' 6-Inventário de recursos'!E12","v":10},{"$f":"' 6-Inventário de recursos'!F12","v":"unidade"},{"$f":"' 6-Inventário de recursos'!G12","v":0},{"$f":"' 6-Inventário de recursos'!H12","v":4},{"$f":"' 6-Inventário de recursos'!L12","v":"Entrega em instalação de gestão de REEE"},{"$f":"' 6-Inventário de recursos'!L12","v":"Entrega em instalação de gestão de REEE"},{"$f":"' 6-Inventário de recursos'!M12","v":0}]
[null,"Não perigoso / inerte",0,0,0,{"$f":"SUMIFS(AG4:AG537,AC4:AC537,\"*17 01*\",AI4:AI537,\"*incineração*\",AB4:AB537,\"*Inerte/Não perigoso*\")+SUMIFS(AG4:AG537,AC4:AC537,\"*17 01*\",AI4:AI537,\"*Aterro*\",AB4:AB537,\"*Inerte/Não perigoso*\")","v":0},{"$f":"SUMIFS(AG4:AG537,AC4:AC537,\"*17 02 01*\",AI4:AI537,\"*incineração*\",AB4:AB537,\"*Inerte/Não perigoso*\")+SUMIFS(AG4:AG537,AC4:AC537,\"*17 02 01*\",AI4:AI537,\"*aterro*\",AB4:AB537,\"*Inerte/Não perigoso*\")","v":0},{"$f":"SUMIFS(AG4:AG537,AC4:AC537,\"*17 02 02*\",AI4:AI537,\"*incineração*\",AB4:AB537,\"*Inerte/Não perigoso*\")+SUMIFS(AG4:AG537,AC4:AC537,\"*17 02 02*\",AI4:AI537,\"*Aterro*\",AB4:AB537,\"*Inert/Não perigoso*\")","v":0},{"$f":"SUMIFS(AG4:AG537,AC4:AC537,\"*17 02 03*\",AI4:AI537,\"*incineração*\",AB4:AB537,\"*Inerte/Não perigoso*\")+SUMIFS(AG4:AG537,AC4:AC537,\"*17 02 03*\",AI4:AI537,\"*Aterro*\",AB4:AB537,\"*Inerte/Não perigoso*\")","v":0},{"$f":"SUMIFS(AG4:AG537,AC4:AC537,\"*17 02 04*\",AI4:AI537,\"*incineração*\",AB4:AB537,\"*Inerte/Não perigoso*\")+SUMIFS(AG4:AG537,AC4:AC537,\"*17 02 04*\",AI4:AI537,\"*Aterro*\",AB4:AB537,\"*Inerte/Não perigoso*\")","v":0},{"$f":"SUMIFS(AG4:AG537,AC4:AC537,\"*17 03*\",AI4:AI537,\"*incineração*\",AB4:AB537,\"*Inerte/Não perigoso*\")+SUMIFS(AG4:AG537,AC4:AC537,\"*17 03*\",AI4:AI537,\"*Aterro*\",AB4:AB537,\"*Inerte/Não perigoso*\")","v":0},{"$f":"SUMIFS(AG4:AG537,AC4:AC537,\"*17 04*\",AI4:AI537,\"*incineração*\",AB4:AB537,\"*Inerte/Não perigoso*\")+SUMIFS(AG4:AG537,AC4:AC537,\"*17 04*\",AI4:AI537,\"*Aterro*\",AB4:AB537,\"*Inerte/Não perigoso*\")","v":0},{"$f":"SUMIFS(AG4:AG537,AC4:AC537,\"*17 06*\",AI4:AI537,\"*incineração*\",AB4:AB537,\"*Inerte/Não perigoso*\")+SUMIFS(AG4:AG537,AC4:AC537,\"*17 06*\",AI4:AI537,\"*Aterro*\",AB4:AB537,\"*Inerte/Não perigoso*\")","v":0},{"$f":"SUMIFS(AG4:AG537,AC4:AC537,\"*17 08*\",AI4:AI537,\"*incineração*\",AB4:AB537,\"*Inerte/Não perigoso*\")+SUMIFS(AG4:AG537,AC4:AC537,\"*17 08*\",AI4:AI537,\"*Aterro*\",AB4:AB537,\"*Inerte/Não perigoso*\")","v":0},{"$f":"SUMIFS(AG4:AG537,AC4:AC537,\"*17 09*\",AI4:AI537,\"*incineração*\",AB4:AB537,\"*Inerte/Não perigoso*\")+SUMIFS(AG4:AG537,AC4:AC537,\"*17 09*\",AI4:AI537,\"*Aterro*\",AB4:AB537,\"*Inerte/Não perigoso*\")","v":0},null,null,null,null,null,null,null,null,null,null,null,{"$f":"' 6-Inventário de recursos'!B13","v":0},{"$f":"' 6-Inventário de recursos'!D13","v":0},{"$f":"' 6-Inventário de recursos'!C13","v":0},{"$f":"' 6-Inventário de recursos'!E13","v":0},{"$f":"' 6-Inventário de recursos'!F13","v":0},{"$f":"' 6-Inventário de recursos'!G13","v":0},{"$f":"' 6-Inventário de recursos'!H13","v":0},{"$f":"' 6-Inventário de recursos'!L13","v":0},{"$f":"' 6-Inventário de recursos'!L13","v":0},{"$f":"' 6-Inventário de recursos'!M13","v":0}]
[null,"Perigoso",45,0.3,2.8400126222783212E-3,{"$f":"SUMIFS(AG4:AG537,AC4:AC537,\"*17 01*\",AI4:AI537,\"*incineração*\",AB4:AB537,\"Perigoso\")+SUMIFS(AG4:AG537,AC4:AC537,\"*17 01*\",AI4:AI537,\"*Aterro*\",AB4:AB537,\"Perigoso\")","v":0},{"$f":"SUMIFS(AG4:AG537,AC4:AC537,\"*17 02 01*\",AI4:AI537,\"*incineração*\",AB4:AB537,\"Perigoso\")+SUMIFS(AG4:AG537,AC4:AC537,\"*17 02 01*\",AI4:AI537,\"*Aterro*\",AB4:AB537,\"Perigoso\")","v":0},{"$f":"SUMIFS(AG4:AG537,AC4:AC537,\"*17 02 02*\",AI4:AI537,\"*incineração*\",AB4:AB537,\"Perigoso\")+SUMIFS(AG4:AG537,AC4:AC537,\"*17 02 02*\",AI4:AI537,\"*Aterro*\",AB4:AB537,\"Perigoso\")","v":0},{"$f":"SUMIFS(AG4:AG537,AC4:AC537,\"*17 02 03*\",AI4:AI537,\"*incineração*\",AB4:AB537,\"Perigoso\")+SUMIFS(AG4:AG537,AC4:AC537,\"*17 02 03*\",AI4:AI537,\"*Aterro*\",AB4:AB537,\"Perigoso\")","v":0},{"$f":"SUMIFS(AG4:AG537,AC4:AC537,\"*17 02 04*\",AI4:AI537,\"*incineração*\",AB4:AB537,\"Perigoso\")+SUMIFS(AG4:AG537,AC4:AC537,\"*17 02 04*\",AI4:AI537,\"*Aterro*\",AB4:AB537,\"Perigoso\")","v":45},{"$f":"SUMIFS(AG4:AG537,AC4:AC537,\"*17 03*\",AI4:AI537,\"*incineração*\",AB4:AB537,\"Perigoso\")+SUMIFS(AG4:AG537,AC4:AC537,\"*17 03*\",AI4:AI537,\"*Aterro*\",AB4:AB537,\"Perigoso\")","v":0},{"$f":"SUMIFS(AG4:AG537,AC4:AC537,\"*17 04*\",AI4:AI537,\"*incineração*\",AB4:AB537,\"Perigoso\")+SUMIFS(AG4:AG537,AC4:AC537,\"*17 04*\",AI4:AI537,\"*Aterro*\",AB4:AB537,\"Perigoso\")","v":0},{"$f":"SUMIFS(AG4:AG537,AC4:AC537,\"*17 06*\",AI4:AI537,\"*incineração*\",AB4:AB537,\"Perigoso\")+SUMIFS(AG4:AG537,AC4:AC537,\"*17 06*\",AI4:AI537,\"*Aterro*\",AB4:AB537,\"Perigoso\")","v":0},{"$f":"SUMIFS(AG4:AG537,AC4:AC537,\"*17 08*\",AI4:AI537,\"*incineração*\",AB4:AB537,\"Perigoso\")+SUMIFS(AG4:AG537,AC4:AC537,\"*17 08*\",AI4:AI537,\"*Aterro*\",AB4:AB537,\"Perigoso\")","v":0},{"$f":"SUMIFS(AG4:AG537,AC4:AC537,\"*17 09*\",AI4:AI537,\"*incineração*\",AB4:AB537,\"Perigoso\")+SUMIFS(AG4:AG537,AC4:AC537,\"*17 09*\",AI4:AI537,\"*Aterro*\",AB4:AB537,\"Perigoso\")","v":0},null,null,null,null,null,null,null,null,null,null,null,{"$f":"' 6-Inventário de recursos'!B14","v":0},{"$f":"' 6-Inventário de recursos'!D14","v":0},{"$f":"' 6-Inventário de recursos'!C14","v":0},{"$f":"' 6-Inventário de recursos'!E14","v":0},{"$f":"' 6-Inventário de recursos'!F14","v":0},{"$f":"' 6-Inventário de recursos'!G14","v":0},{"$f":"' 6-Inventário de recursos'!H14","v":0},{"$f":"' 6-Inventário de recursos'!L14","v":0},{"$f":"' 6-Inventário de recursos'!L14","v":0},{"$f":"' 6-Inventário de recursos'!M14","v":0}]
["Total ",null,{"$f":"SUM(C4:C9)","v":15845},{"$f":"SUM(D4:D9)","v":105.63333333333334},{"$f":"SUM(E4:E9)","v":1},{"$f":"SUM(F4:F9)","v":13000},300,2500,0,45,0,0,0,0,0,null,null,null,null,null,null,null,null,null,null,null,{"$f":"' 6-Inventário de recursos'!B15","v":0},{"$f":"' 6-Inventário de recursos'!D15","v":0},{"$f":"' 6-Inventário de recursos'!C15","v":0},{"$f":"' 6-Inventário de recursos'!E15","v":0},{"$f":"' 6-Inventário de recursos'!F15","v":0},{"$f":"' 6-Inventário de recursos'!G15","v":0},{"$f":"' 6-Inventário de recursos'!H15","v":0},{"$f":"' 6-Inventário de recursos'!L15","v":0},{"$f":"' 6-Inventário de recursos'!L15","v":0},{"$f":"' 6-Inventário de recursos'!M15","v":0}]
["Área de demolição(m2)",null,null,null,{"$f":"'2-Detalhes do projeto'!C9","v":150},"Taxa de reutilização",null,null,null,null,null,{"$f":"E4+E5","v":0.2524455664247397},{"$f":"E4+E5","v":0.2524455664247397},{"$f":"E4+E5","v":0.2524455664247397},null,null,null,null,null,null,null,null,null,null,null,null,{"$f":"' 6-Inventário de recursos'!B16","v":0},{"$f":"' 6-Inventário de recursos'!D16","v":0},{"$f":"' 6-Inventário de recursos'!C16","v":0},{"$f":"' 6-Inventário de recursos'!E16","v":0},{"$f":"' 6-Inventário de recursos'!F16","v":0},{"$f":"' 6-Inventário de recursos'!G16","v":0},{"$f":"' 6-Inventário de recursos'!H16","v":0},{"$f":"' 6-Inventário de recursos'!L16","v":0},{"$f":"' 6-Inventário de recursos'!L16","v":0},{"$f":"' 6-Inventário de recursos'!M16","v":0}]
["Massa de RCD por área de demolição (kg/m2)",null,null,null,{"$f":"(C5+C6+C7+C8+C9)/E13","v":95.63333333333334},null,null,null,null,null,null,null,null,null,null,null,null,null,null,null,null,null,null,null,null,null,{"$f":"' 6-Inventário de recursos'!B17","v":0},{"$f":"' 6-Inventário de recursos'!D17","v":0},{"$f":"' 6-Inventário de recursos'!C17","v":0},{"$f":"' 6-Inventário de recursos'!E17","v":0},{"$f":"' 6-Inventário de recursos'!F17","v":0},{"$f":"' 6-Inventário de recursos'!G17","v":0},{"$f":"' 6-Inventário de recursos'!H17","v":0},{"$f":"' 6-Inventário de recursos'!L17","v":0},{"$f":"' 6-Inventário de recursos'!L17","v":0},{"$f":"' 6-Inventário de recursos'!M17","v":0}]
[null,null,null,null,null,null,null,null,null,null,null,null,null,null,null,null,null,null,null,null,null,null,null,null,null,null,{"$f":"' 6-Inventário de recursos'!B18","v":0},{"$f":"' 6-Inventário de recursos'!D18","v":0},{"$f":"' 6-Inventário de recursos'!C18","v":0},{"$f":"' 6-Inventário de recursos'!E18","v":0},{"$f":"' 6-Inventário de recursos'!F18","v":0},{"$f":"' 6-Inventário de recursos'!G18","v":0},{"$f":"' 6-Inventário de recursos'!H18","v":0},{"$f":"' 6-Inventário de recursos'!L18","v":0},{"$f":"' 6-Inventário de recursos'!L18","v":0},{"$f":"' 6-Inventário de recursos'!M18","v":0}]
[null,null,null,null,null,null,null,null,null,null,null,null,null,null,null,null,null,null,null,null,null,null,null,null,null,null,{"$f":"' 6-Inventário de recursos'!B19","v":0},{"$f":"' 6-Inventário de recursos'!D19","v":0},{"$f":"' 6-Inventário de recursos'!C19","v":0},{"$f":"' 6-Inventário de recursos'!E19","v":0},{"$f":"' 6-Inventário de recursos'!F19","v":0},{"$f":"' 6-Inventário de recursos'!G19","v":0},{"$f":"' 6-Inventário de recursos'!H19","v":0},{"$f":"' 6-Inventário de recursos'!L19","v":0},{"$f":"' 6-Inventário de recursos'!L19","v":0},{"$f":"' 6-Inventário de recursos'!M19","v":0}]
[null,null,null,null,null,null,null,null,null,null,null,null,null,null,null,null,null,null,null,null,null,null,null,null,null,null,{"$f":"' 6-Inventário de recursos'!B20","v":0},{"$f":"' 6-Inventário de recursos'!D20","v":0},{"$f":"' 6-Inventário de recursos'!C20","v":0},{"$f":"' 6-Inventário de recursos'!E20","v":0},{"$f":"' 6-Inventário de recursos'!F20","v":0},{"$f":"' 6-Inventário de recursos'!G20","v":0},{"$f":"' 6-Inventário de recursos'!H20","v":0},{"$f":"' 6-Inventário de recursos'!L20","v":0},{"$f":"' 6-Inventário de recursos'!L20","v":0},{"$f":"' 6-Inventário de recursos'!M20","v":0}]
[null,null,null,null,null,null,null,null,null,null,null,null,null,null,null,null,null,null,null,null,null,null,null,null,null,null,{"$f":"' 6-Inventário de recursos'!B21","v":0},{"$f":"' 6-Inventário de recursos'!D21","v":0},{"$f":"' 6-Inventário de recursos'!C21","v":0},{"$f":"' 6-Inventário de recursos'!E21","v":0},{"$f":"' 6-Inventário de recursos'!F21","v":0},{"$f":"' 6-Inventário de recursos'!G21","v":0},{"$f":"' 6-Inventário de recursos'!H21","v":0},{"$f":"' 6-Inventário de recursos'!L21","v":0},{"$f":"' 6-Inventário de recursos'!L21","v":0},{"$f":"' 6-Inventário de recursos'!M21","v":0}]
[null,null,null,null,null,null,null,null,null,null,null,null,null,null,null,null,null,null,null,null,null,null,null,null,null,null,{"$f":"' 6-Inventário de recursos'!B22","v":0},{"$f":"' 6-Inventário de recursos'!D22","v":0},{"$f":"' 6-Inventário de recursos'!C22","v":0},{"$f":"' 6-Inventário de recursos'!E22","v":0},{"$f":"' 6-Inventário de recursos'!F22","v":0},{"$f":"' 6-Inventário de recursos'!G22","v":0},{"$f":"' 6-Inventário de recursos'!H22","v":0},{"$f":"' 6-Inventário de recursos'!L22","v":0},{"$f":"' 6-Inventário de recursos'!L22","v":0},{"$f":"' 6-Inventário de recursos'!M22","v":0}]
[null,null,null,null,null,null,null,null,null,null,null,null,null,null,null,null,null,null,null,null,null,null,null,null,null,null,{"$f":"' 6-Inventário de recursos'!B23","v":0},{"$f":"' 6-Inventário de recursos'!D23","v":0},{"$f":"' 6-Inventário de recursos'!C23","v":0},{"$f":"' 6-Inventário de recursos'!E23","v":0},{"$f":"' 6-Inventário de recursos'!F23","v":0},{"$f":"' 6-Inventário de recursos'!G23","v":0},{"$f":"' 6-Inventário de recursos'!H23","v":0},{"$f":"' 6-Inventário de recursos'!L23","v":0},{"$f":"' 6-Inventário de recursos'!L23","v":0},{"$f":"' 6-Inventário de recursos'!M23","v":0}]
[null,null,null,null,null,null,null,null,null,null,null,null,null,null,null,null,null,null,null,null,null,null,null,null,null,null,{"$f":"' 6-Inventário de recursos'!B24","v":0},{"$f":"' 6-Inventário de recursos'!D24","v":0},{"$f":"' 6-Inventário de recursos'!C24","v":0},{"$f":"' 6-Inventário de recursos'!E24","v":0},{"$f":"' 6-Inventário de recursos'!F24","v":0},{"$f":"' 6-Inventário de recursos'!G24","v":0},{"$f":"' 6-Inventário de recursos'!H24","v":0},{"$f":"' 6-Inventário de recursos'!L24","v":0},{"$f":"' 6-Inventário de recursos'!L24","v":0},{"$f":"' 6-Inventário de recursos'!M24","v":0}]
[null,null,null,null,null,null,null,null,null,null,null,null,null,null,null,null,null,null,null,null,null,null,null,null,null,null,{"$f":"' 6-Inventário de recursos'!B25","v":0},{"$f":"' 6-Inventário de recursos'!D25","v":0},{"$f":"' 6-Inventário de recursos'!C25","v":0},{"$f":"' 6-Inventário de recursos'!E25","v":0},{"$f":"' 6-Inventário de recursos'!F25","v":0},{"$f":"' 6-Inventário de recursos'!G25","v":0},{"$f":"' 6-Inventário de recursos'!H25","v":0},{"$f":"' 6-Inventário de recursos'!L25","v":0},{"$f":"' 6-Inventário de recursos'!L25","v":0},{"$f":"' 6-Inventário de recursos'!M25","v":0}]
[null,null,null,null,null,null,null,null,null,null,null,null,null,null,null,null,null,null,null,null,null,null,null,null,null,null,{"$f":"' 6-Inventário de recursos'!B26","v":0},{"$f":"' 6-Inventário de recursos'!D26","v":0},{"$f":"' 6-Inventário de recursos'!C26","v":0},{"$f":"' 6-Inventário de recursos'!E26","v":0},{"$f":"' 6-Inventário de recursos'!F26","v":0},{"$f":"' 6-Inventário de recursos'!G26","v":0},{"$f":"' 6-Inventário de recursos'!H26","v":0},{"$f":"' 6-Inventário de recursos'!L26","v":0},{"$f":"' 6-Inventário de recursos'!L26","v":0},{"$f":"' 6-Inventário de recursos'!M26","v":0}]
[null,null,null,null,null,null,null,null,null,null,null,null,null,null,null,null,null,null,null,null,null,null,null,null,null,null,{"$f":"' 6-Inventário de recursos'!B27","v":0},{"$f":"' 6-Inventário de recursos'!D27","v":0},{"$f":"' 6-Inventário de recursos'!C27","v":0},{"$f":"' 6-Inventário de recursos'!E27","v":0},{"$f":"' 6-Inventário de recursos'!F27","v":0},{"$f":"' 6-Inventário de recursos'!G27","v":0},{"$f":"' 6-Inventário de recursos'!H27","v":0},{"$f":"' 6-Inventário de recursos'!L27","v":0},{"$f":"' 6-Inventário de recursos'!L27","v":0},{"$f":"' 6-Inventário de recursos'!M27","v":0}]
[null,null,null,null,null,null,null,null,null,null,null,null,null,null,null,null,null,null,null,null,null,null,null,null,null,null,{"$f":"' 6-Inventário de recursos'!B28","v":0},{"$f":"' 6-Inventário de recursos'!D28","v":0},{"$f":"' 6-Inventário de recursos'!C28","v":0},{"$f":"' 6-Inventário de recursos'!E28","v":0},{"$f":"' 6-Inventário de recursos'!F28","v":0},{"$f":"' 6-Inventário de recursos'!G28","v":0},{"$f":"' 6-Inventário de recursos'!H28","v":0},{"$f":"' 6-Inventário de recursos'!L28","v":0},{"$f":"' 6-Inventário de recursos'!L28","v":0},{"$f":"' 6-Inventário de recursos'!M28","v":0}]
[null,null,null,null,null,null,null,null,null,null,null,null,null,null,null,null,null,null,null,null,null,null,null,null,null,null,{"$f":"' 6-Inventário de recursos'!B501","v":0},{"$f":"' 6-Inventário de recursos'!D501","v":0},{"$f":"' 6-Inventário de recursos'!C501","v":0},{"$f":"' 6-Inventário de recursos'!E501","v":0},{"$f":"' 6-Inventário de recursos'!F501","v":0},{"$f":"' 6-Inventário de recursos'!G501","v":0},{"$f":"' 6-Inventário de recursos'!H501","v":0},{"$f":"' 6-Inventário de recursos'!L29","v":0},{"$f":"' 6-Inventário de recursos'!L501","v":0},{"$f":"' 6-Inventário de recursos'!M501","v":0}]
[null,null,null,null,null,null,null,null,null,null,null,null,null,null,null,null,null,null,null,null,null,null,null,null,null,null,{"$f":"' 6-Inventário de recursos'!B502","v":0},{"$f":"' 6-Inventário de recursos'!D502","v":0},{"$f":"' 6-Inventário de recursos'!C502","v":0},{"$f":"' 6-Inventário de recursos'!E502","v":0},{"$f":"' 6-Inventário de recursos'!F502","v":0},{"$f":"' 6-Inventário de recursos'!G502","v":0},{"$f":"' 6-Inventário de recursos'!H502","v":0},{"$f":"' 6-Inventário de recursos'!L30","v":0},{"$f":"' 6-Inventário de recursos'!L502","v":0},{"$f":"' 6-Inventário de recursos'!M502","v":0}]
[null,null,null,null,null,null,null,null,null,null,null,null,null,null,null,null,null,null,null,null,null,null,null,null,null,null,{"$f":"' 6-Inventário de recursos'!B503","v":0},{"$f":"' 6-Inventário de recursos'!D503","v":0},{"$f":"' 6-Inventário de recursos'!C503","v":0},{"$f":"' 6-Inventário de recursos'!E503","v":0},{"$f":"' 6-Inventário de recursos'!F503","v":0},{"$f":"' 6-Inventário de recursos'!G503","v":0},{"$f":"' 6-Inventário de recursos'!H503","v":0},{"$f":"' 6-Inventário de recursos'!L31","v":0},{"$f":"' 6-Inventário de recursos'!L503","v":0},{"$f":"' 6-Inventário de recursos'!M503","v":0}]
[null,null,null,null,null,null,null,null,null,null,null,null,null,null,null,null,null,null,null,null,null,null,null,null,null,null,{"$f":"' 6-Inventário de recursos'!B504","v":0},{"$f":"' 6-Inventário de recursos'!D504","v":0},{"$f":"' 6-Inventário de recursos'!C504","v":0},{"$f":"' 6-Inventário de recursos'!E504","v":0},{"$f":"' 6-Inventário de recursos'!F504","v":0},{"$f":"' 6-Inventário de recursos'!G504","v":0},{"$f":"' 6-Inventário de recursos'!H504","v":0},{"$f":"' 6-Inventário de recursos'!L32","v":0},{"$f":"' 6-Inventário de recursos'!L504","v":0},{"$f":"' 6-Inventário de recursos'!M504","v":0}]
[null,null,null,null,null,null,null,null,"Total de resíduos por códigos LER",null,null,null,null,null,null,null,null,null,null,null,null,null,null,null,null,null,{"$f":"' 6-Inventário de recursos'!B505","v":0},{"$f":"' 6-Inventário de recursos'!D505","v":0},{"$f":"' 6-Inventário de recursos'!C505","v":0},{"$f":"' 6-Inventário de recursos'!E505","v":0},{"$f":"' 6-Inventário de recursos'!F505","v":0},{"$f":"' 6-Inventário de recursos'!G505","v":0},{"$f":"' 6-Inventário de recursos'!H505","v":0},{"$f":"' 6-Inventário de recursos'!L33","v":0},{"$f":"' 6-Inventário de recursos'!L505","v":0},{"$f":"' 6-Inventário de recursos'!M505","v":0}]
[null,null,null,null,null,null,null,null,null,"Massa (kg)",null,null,"Massa (%)",null,null,null,null,null,null,null,null,null,null,null,null,null,{"$f":"' 6-Inventário de recursos'!B506","v":0},{"$f":"' 6-Inventário de recursos'!D506","v":0},{"$f":"' 6-Inventário de recursos'!C506","v":0},{"$f":"' 6-Inventário de recursos'!E506","v":0},{"$f":"' 6-Inventário de recursos'!F506","v":0},{"$f":"' 6-Inventário de recursos'!G506","v":0},{"$f":"' 6-Inventário de recursos'!H506","v":0},{"$f":"' 6-Inventário de recursos'!L34","v":0},{"$f":"' 6-Inventário de recursos'!L506","v":0},{"$f":"' 6-Inventário de recursos'!M506","v":0}]
[null,null,null,null,null,null,null,null,null,"Perigoso","Inerte /Não perigoso","Total","Perigoso","Inerte /Não perigoso","Total",null,null,null,null,null,null,null,null,null,null,null,{"$f":"' 6-Inventário de recursos'!B507","v":0},{"$f":"' 6-Inventário de recursos'!D507","v":0},{"$f":"' 6-Inventário de recursos'!C507","v":0},{"$f":"' 6-Inventário de recursos'!E507","v":0},{"$f":"' 6-Inventário de recursos'!F507","v":0},{"$f":"' 6-Inventário de recursos'!G507","v":0},{"$f":"' 6-Inventário de recursos'!H507","v":0},{"$f":"' 6-Inventário de recursos'!L35","v":0},{"$f":"' 6-Inventário de recursos'!L507","v":0},{"$f":"' 6-Inventário de recursos'!M507","v":0}]
[null,null,null,null,null,null,null,null,"Capítulo 16 LER kg",{"$f":"SUMIFS(AG4:AG537,AC4:AC537,\"*16 02*\",AB4:AB537,J$32)","v":0},{"$f":"SUMIFS(AG4:AG537,AC4:AC537,\"*16 02*\",AB4:AB537,\"*Inert*\")-SUMIFS(AG4:AG537,AC4:AC537,\"*16 02*\",AI4:AI537,\"*Reutilização*\")","v":0},{"$f":"SUM(J33:K33)","v":0},{"$f":"J33/L39","v":0},{"$f":"K33/L39","v":0},{"$f":"SUM(M33:N33)","v":0},null,null,null,null,null,null,null,null,null,null,null,{"$f":"' 6-Inventário de recursos'!B508","v":0},{"$f":"' 6-Inventário de recursos'!D508","v":0},{"$f":"' 6-Inventário de recursos'!C508","v":0},{"$f":"' 6-Inventário de recursos'!E508","v":0},{"$f":"' 6-Inventário de recursos'!F508","v":0},{"$f":"' 6-Inventário de recursos'!G508","v":0},{"$f":"' 6-Inventário de recursos'!H508","v":0},{"$f":"' 6-Inventário de recursos'!L36","v":0},{"$f":"' 6-Inventário de recursos'!L508","v":0},{"$f":"' 6-Inventário de recursos'!M508","v":0}]
["Custo para deposição em aterro da totalidade dos RCD do capítulo 17 LER",null,null,null,null,null,null,null,"kg/m2",{"$f":"J33/$E$13","v":0},{"$f":"K33/$E$13","v":0},{"$f":"L33/$E$13","v":0},null,null,null,null,null,null,null,null,null,null,null,null,null,null,null,null,null,null,null,null,null,{"$f":"' 6-Inventário de recursos'!L37","v":0}]
[null,null,null,null,null,null,null,null,"Capítulo 17 LER kg",{"$f":"SUMIFS(AG4:AG558,AC4:AC558,\"*17 *\",AB4:AB558,J$32)","v":45},{"$f":"SUMIFS(AG4:AG558,AC4:AC558,\"*17 *\",AB4:AB558,\"*Inert*\")-SUMIFS(AG4:AG537,AC4:AC537,\"*17*\",AI4:AI537,\"*Reutilização*\")","v":14300},{"$f":"SUM(J35:K35)","v":14345},{"$f":"J35/L39","v":3.1361070457871631E-3},{"$f":"K35/L39","v":0.9965851278834762},0.99972123492926335,null,null,null,null,null,null,null,null,null,null,null,{"$f":"' 6-Inventário de recursos'!B509","v":0},{"$f":"' 6-Inventário de recursos'!D509","v":0},{"$f":"' 6-Inventário de recursos'!C509","v":0},{"$f":"' 6-Inventário de recursos'!E509","v":0},{"$f":"' 6-Inventário de recursos'!F509","v":0},{"$f":"' 6-Inventário de recursos'!G509","v":0},{"$f":"' 6-Inventário de recursos'!H509","v":0},{"$f":"' 6-Inventário de recursos'!L38","v":0},{"$f":"' 6-Inventário de recursos'!L509","v":0},{"$f":"' 6-Inventário de recursos'!M509","v":0}]
["Natureza do RCD",null,"Massa  (kg)","Fração (%)","Massa por unidade de área de construção (kg / m2)","Custo unitário do aterro               (€ / ton)","Custo total do aterro (€)",null,"kg/m2",{"$f":"J35/$E$13","v":0.3},{"$f":"K35/$E$13","v":95.333333333333329},{"$f":"L35/$E$13","v":95.63333333333334},null,null,null,null,null,null,null,null,null,null,null,null,null,null,null,null,null,null,null,null,null,{"$f":"' 6-Inventário de recursos'!L39","v":0}]
[null,null,null,null,null,null,null,null,"Capítulo 20 LER kg",{"$f":"SUMIFS(AG4:AG558,AC4:AC558,\"*20 01*\",AB4:AB558,J$32)","v":4},{"$f":"SUMIFS(AG4:AG537,AC4:AC537,\"*20 01*\",AB4:AB537,\"*Inert*\")-SUMIFS(AG4:AG537,AC4:AC537,\"*20*\",AI4:AI537,\"*Reutilização*\")","v":0},{"$f":"SUM(J37:K37)","v":4},{"$f":"J37/L39","v":2.787650707366367E-4},{"$f":"K37/L39","v":0},2.787650707366367E-4,null,null,null,null,null,null,null,null,null,null,null,{"$f":"' 6-Inventário de recursos'!B510","v":0},{"$f":"' 6-Inventário de recursos'!D510","v":0},{"$f":"' 6-Inventário de recursos'!C510","v":0},{"$f":"' 6-Inventário de recursos'!E510","v":0},{"$f":"' 6-Inventário de recursos'!F510","v":0},{"$f":"' 6-Inventário de recursos'!G510","v":0},{"$f":"' 6-Inventário de recursos'!H510","v":0},{"$f":"' 6-Inventário de recursos'!L40","v":0},{"$f":"' 6-Inventário de recursos'!L510","v":0},{"$f":"' 6-Inventário de recursos'!M510","v":0}]
["Não perigoso / inerte",null,{"$f":"SUMIFS(AG4:AG537,AC4:AC537,\"*17 01*\",AB4:AB537,\"*Inert*\")+SUMIFS(AG4:AG537,AC4:AC537,\"*17 02*\",AB4:AB537,\"*Inert*\")+SUMIFS(AG4:AG537,AC4:AC537,\"*17 03*\",AB4:AB537,\"*Inert*\")+SUMIFS(AG4:AG537,AC4:AC537,\"*17 04*\",AB4:AB537,\"*Inert*\")+SUMIFS(AG4:AG537,AC4:AC537,\"*17 06*\",AB4:AB537,\"*Inert*\")+SUMIFS(AG4:AG537,AC4:AC537,\"*17 08*\",AB4:AB537,\"*Inert*\")+SUMIFS(AG4:AG537,AC4:AC537,\"*17 09*\",AB4:AB537,\"*Inert*\")-SUMIFS(AG4:AG537,AI4:AI537,\"*Reutilização*\")","v":14300},{"$f":"C38/C40","v":0.99686301847333569},{"$f":"C38/E13","v":95.333333333333329},null,{"$f":"(C38/1000)*F38","v":0},null,"kg/m2",{"$f":"J37/$E$13","v":2.6666666666666668E-2},{"$f":"K37/$E$13","v":0},{"$f":"L37/$E$13","v":2.6666666666666668E-2},null,null,null,null,null,null,null,null,null,null,null,null,null,null,null,null,null,null,null,null,null,{"$f":"' 6-Inventário de recursos'!L41","v":0}]
["Perigoso",null,{"$f":"SUMIFS(AG4:AG537,AC4:AC537,\"*17 01*\",AB4:AB537,\"Perigoso\")+SUMIFS(AG4:AG537,AC4:AC537,\"*17 02*\",AB4:AB537,\"Perigoso\")+SUMIFS(AG4:AG537,AC4:AC537,\"*17 03*\",AB4:AB537,\"Perigoso\")+SUMIFS(AG4:AG537,AC4:AC537,\"*17 04*\",AB4:AB537,\"Perigoso\")+SUMIFS(AG4:AG537,AC4:AC537,\"*17 06*\",AB4:AB537,\"Perigoso\")+SUMIFS(AG4:AG537,AC4:AC537,\"*17 08*\",AB4:AB537,\"Perigoso\")+SUMIFS(AG4:AG537,AC4:AC537,\"*17 09*\",AB4:AB537,\"Perigoso\")","v":45},{"$f":"C39/C40","v":3.1369815266643428E-3},{"$f":"C39/E13","v":0.3},null,{"$f":"(C39/1000)*F39","v":0},null,"Total kg",{"$f":"SUM(J33,J35,J37)","v":49},{"$f":"SUM(K33,K35,K37)","v":14300},{"$f":"SUM(L33,L35,L37)","v":14349},{"$f":"J39/L39","v":3.4148721165237995E-3},{"$f":"K39/L39","v":0.9965851278834762},{"$f":"M39+N39","v":1},null,null,null,null,null,null,null,null,null,null,null,{"$f":"' 6-Inventário de recursos'!B511","v":0},{"$f":"' 6-Inventário de recursos'!D511","v":0},{"$f":"' 6-Inventário de recursos'!C511","v":0},{"$f":"' 6-Inventário de recursos'!E511","v":0},{"$f":"' 6-Inventário de recursos'!F511","v":0},{"$f":"' 6-Inventário de recursos'!G511","v":0},{"$f":"' 6-Inventário de recursos'!H511","v":0},{"$f":"' 6-Inventário de recursos'!L42","v":0},{"$f":"' 6-Inventário de recursos'!L511","v":0},{"$f":"' 6-Inventário de recursos'!M511","v":0}]
["Total  ",null,{"$f":"SUM(C38:C39)","v":14345},{"$f":"SUM(D38:D39)","v":1},null,null,{"$f":"SUM(G38:G39)","v":0},null,"Total kg/m2",{"$f":"J39/$E$13","v":0.32666666666666666},{"$f":"K39/$E$13","v":95.333333333333329},{"$f":"L39/$E$13","v":95.66},null,null,null,null,null,null,null,null,null,null,null,null,null,null,{"$f":"' 6-Inventário de recursos'!B512","v":0},{"$f":"' 6-Inventário de recursos'!D512","v":0},{"$f":"' 6-Inventário de recursos'!C512","v":0},{"$f":"' 6-Inventário de recursos'!E512","v":0},{"$f":"' 6-Inventário de recursos'!F512","v":0},{"$f":"' 6-Inventário de recursos'!G512","v":0},{"$f":"' 6-Inventário de recursos'!H512","v":0},{"$f":"' 6-Inventário de recursos'!L43","v":0},{"$f":"' 6-Inventário de recursos'!L512","v":0},{"$f":"' 6-Inventário de recursos'!M512","v":0}]
[null,null,null,null,null,null,null,null,null,null,null,null,null,null,null,null,null,null,null,null,null,null,null,null,null,null,{"$f":"' 6-Inventário de recursos'!B513","v":0},{"$f":"' 6-Inventário de recursos'!D513","v":0},{"$f":"' 6-Inventário de recursos'!C513","v":0},{"$f":"' 6-Inventário de recursos'!E513","v":0},{"$f":"' 6-Inventário de recursos'!F513","v":0},{"$f":"' 6-Inventário de recursos'!G513","v":0},{"$f":"' 6-Inventário de recursos'!H513","v":0},{"$f":"' 6-Inventário de recursos'!L44","v":0},{"$f":"' 6-Inventário de recursos'!L513","v":0},{"$f":"' 6-Inventário de recursos'!M513","v":0}]
[null,null,null,null,null,null,null,null,null,null,null,null,null,null,null,null,null,null,null,null,null,null,null,null,null,null,{"$f":"' 6-Inventário de recursos'!B514","v":0},{"$f":"' 6-Inventário de recursos'!D514","v":0},{"$f":"' 6-Inventário de recursos'!C514","v":0},{"$f":"' 6-Inventário de recursos'!E514","v":0},{"$f":"' 6-Inventário de recursos'!F514","v":0},{"$f":"' 6-Inventário de recursos'!G514","v":0},{"$f":"' 6-Inventário de recursos'!H514","v":0},{"$f":"' 6-Inventário de recursos'!L45","v":0},{"$f":"' 6-Inventário de recursos'!L514","v":0},{"$f":"' 6-Inventário de recursos'!M514","v":0}]
[null,null,null,null,null,null,null,null,null,null,null,null,null,null,null,null,null,null,null,null,null,null,null,null,null,null,{"$f":"' 6-Inventário de recursos'!B515","v":0},{"$f":"' 6-Inventário de recursos'!D515","v":0},{"$f":"' 6-Inventário de recursos'!C515","v":0},{"$f":"' 6-Inventário de recursos'!E515","v":0},{"$f":"' 6-Inventário de recursos'!F515","v":0},{"$f":"' 6-Inventário de recursos'!G515","v":0},{"$f":"' 6-Inventário de recursos'!H515","v":0},{"$f":"' 6-Inventário de recursos'!L46","v":0},{"$f":"' 6-Inventário de recursos'!L515","v":0},{"$f":"' 6-Inventário de recursos'!M515","v":0}]
[null,null,null,null,null,null,null,null,null,null,null,null,null,null,null,null,null,null,null,null,null,null,null,null,null,null,{"$f":"' 6-Inventário de recursos'!B516","v":0},{"$f":"' 6-Inventário de recursos'!D516","v":0},{"$f":"' 6-Inventário de recursos'!C516","v":0},{"$f":"' 6-Inventário de recursos'!E516","v":0},{"$f":"' 6-Inventário de recursos'!F516","v":0},{"$f":"' 6-Inventário de recursos'!G516","v":0},{"$f":"' 6-Inventário de recursos'!H516","v":0},{"$f":"' 6-Inventário de recursos'!L47","v":0},{"$f":"' 6-Inventário de recursos'!L516","v":0},{"$f":"' 6-Inventário de recursos'!M516","v":0}]
[null,null,null,null,null,null,null,null,null,null,null,null,null,null,null,null,null,null,null,null,null,null,null,null,null,null,{"$f":"' 6-Inventário de recursos'!B517","v":0},{"$f":"' 6-Inventário de recursos'!D517","v":0},{"$f":"' 6-Inventário de recursos'!C517","v":0},{"$f":"' 6-Inventário de recursos'!E517","v":0},{"$f":"' 6-Inventário de recursos'!F517","v":0},{"$f":"' 6-Inventário de recursos'!G517","v":0},{"$f":"' 6-Inventário de recursos'!H517","v":0},{"$f":"' 6-Inventário de recursos'!L48","v":0},{"$f":"' 6-Inventário de recursos'!L517","v":0},{"$f":"' 6-Inventário de recursos'!M517","v":0}]
[null,null,null,null,null,null,null,null,null,null,null,null,null,null,null,null,null,null,null,null,null,null,null,null,null,null,{"$f":"' 6-Inventário de recursos'!B518","v":0},{"$f":"' 6-Inventário de recursos'!D518","v":0},{"$f":"' 6-Inventário de recursos'!C518","v":0},{"$f":"' 6-Inventário de recursos'!E518","v":0},{"$f":"' 6-Inventário de recursos'!F518","v":0},{"$f":"' 6-Inventário de recursos'!G518","v":0},{"$f":"' 6-Inventário de recursos'!H518","v":0},{"$f":"' 6-Inventário de recursos'!L49","v":0},{"$f":"' 6-Inventário de recursos'!L518","v":0},{"$f":"' 6-Inventário de recursos'!M518","v":0}]
[null,null,null,null,null,null,null,null,null,null,null,null,null,null,null,null,null,null,null,null,null,null,null,null,null,null,{"$f":"' 6-Inventário de recursos'!B519","v":0},{"$f":"' 6-Inventário de recursos'!D519","v":0},{"$f":"' 6-Inventário de recursos'!C519","v":0},{"$f":"' 6-Inventário de recursos'!E519","v":0},{"$f":"' 6-Inventário de recursos'!F519","v":0},{"$f":"' 6-Inventário de recursos'!G519","v":0},{"$f":"' 6-Inventário de recursos'!H519","v":0},{"$f":"' 6-Inventário de recursos'!L50","v":0},{"$f":"' 6-Inventário de recursos'!L519","v":0},{"$f":"' 6-Inventário de recursos'!M519","v":0}]
[null,null,null,null,null,null,null,null,null,null,null,null,null,null,null,null,null,null,null,null,null,null,null,null,null,null,{"$f":"' 6-Inventário de recursos'!B520","v":0},{"$f":"' 6-Inventário de recursos'!D520","v":0},{"$f":"' 6-Inventário de recursos'!C520","v":0},{"$f":"' 6-Inventário de recursos'!E520","v":0},{"$f":"' 6-Inventário de recursos'!F520","v":0},{"$f":"' 6-Inventário de recursos'!G520","v":0},{"$f":"' 6-Inventário de recursos'!H520","v":0},{"$f":"' 6-Inventário de recursos'!L51","v":0},{"$f":"' 6-Inventário de recursos'!L520","v":0},{"$f":"' 6-Inventário de recursos'!M520","v":0}]
[null,null,null,null,null,null,null,null,null,null,null,null,null,null,null,null,null,null,null,null,null,null,null,null,null,null,{"$f":"' 6-Inventário de recursos'!B521","v":0},{"$f":"' 6-Inventário de recursos'!D521","v":0},{"$f":"' 6-Inventário de recursos'!C521","v":0},{"$f":"' 6-Inventário de recursos'!E521","v":0},{"$f":"' 6-Inventário de recursos'!F521","v":0},{"$f":"' 6-Inventário de recursos'!G521","v":0},{"$f":"' 6-Inventário de recursos'!H521","v":0},{"$f":"' 6-Inventário de recursos'!L52","v":0},{"$f":"' 6-Inventário de recursos'!L521","v":0},{"$f":"' 6-Inventário de recursos'!M521","v":0}]
[null,null,null,null,null,null,null,null,null,null,null,null,null,null,null,null,null,null,null,null,null,null,null,null,null,null,{"$f":"' 6-Inventário de recursos'!B522","v":0},{"$f":"' 6-Inventário de recursos'!D522","v":0},{"$f":"' 6-Inventário de recursos'!C522","v":0},{"$f":"' 6-Inventário de recursos'!E522","v":0},{"$f":"' 6-Inventário de recursos'!F522","v":0},{"$f":"' 6-Inventário de recursos'!G522","v":0},{"$f":"' 6-Inventário de recursos'!H522","v":0},{"$f":"' 6-Inventário de recursos'!L53","v":0},{"$f":"' 6-Inventário de recursos'!L522","v":0},{"$f":"' 6-Inventário de recursos'!M522","v":0}]
[null,null,null,null,null,null,null,null,null,null,null,null,null,null,null,null,null,null,null,null,null,null,null,null,null,null,{"$f":"' 6-Inventário de recursos'!B523","v":0},{"$f":"' 6-Inventário de recursos'!D523","v":0},{"$f":"' 6-Inventário de recursos'!C523","v":0},{"$f":"' 6-Inventário de recursos'!E523","v":0},{"$f":"' 6-Inventário de recursos'!F523","v":0},{"$f":"' 6-Inventário de recursos'!G523","v":0},{"$f":"' 6-Inventário de recursos'!H523","v":0},{"$f":"' 6-Inventário de recursos'!L54","v":0},{"$f":"' 6-Inventário de recursos'!L523","v":0},{"$f":"' 6-Inventário de recursos'!M523","v":0}]
[null,null,null,null,null,null,null,null,null,null,null,null,null,null,null,null,null,null,null,null,null,null,null,null,null,null,{"$f":"' 6-Inventário de recursos'!B524","v":0},{"$f":"' 6-Inventário de recursos'!D524","v":0},{"$f":"' 6-Inventário de recursos'!C524","v":0},{"$f":"' 6-Inventário de recursos'!E524","v":0},{"$f":"' 6-Inventário de recursos'!F524","v":0},{"$f":"' 6-Inventário de recursos'!G524","v":0},{"$f":"' 6-Inventário de recursos'!H524","v":0},{"$f":"' 6-Inventário de recursos'!L55","v":0},{"$f":"' 6-Inventário de recursos'!L524","v":0},{"$f":"' 6-Inventário de recursos'!M524","v":0}]
[null,null,null,null,null,null,null,null,null,null,null,null,null,null,null,null,null,null,null,null,null,null,null,null,null,null,{"$f":"' 6-Inventário de recursos'!B525","v":0},{"$f":"' 6-Inventário de recursos'!D525","v":0},{"$f":"' 6-Inventário de recursos'!C525","v":0},{"$f":"' 6-Inventário de recursos'!E525","v":0},{"$f":"' 6-Inventário de recursos'!F525","v":0},{"$f":"' 6-Inventário de recursos'!G525","v":0},{"$f":"' 6-Inventário de recursos'!H525","v":0},{"$f":"' 6-Inventário de recursos'!L56","v":0},{"$f":"' 6-Inventário de recursos'!L525","v":0},{"$f":"' 6-Inventário de recursos'!M525","v":0}]
[null,null,null,null,null,null,null,null,null,null,null,null,null,null,null,null,null,null,null,null,null,null,null,null,null,null,null,null,{"$f":"' 6-Inventário de recursos'!B526","v":0},{"$f":"' 6-Inventário de recursos'!D526","v":0},{"$f":"' 6-Inventário de recursos'!C526","v":0},{"$f":"' 6-Inventário de recursos'!E526","v":0},{"$f":"' 6-Inventário de recursos'!F526","v":0},{"$f":"' 6-Inventário de recursos'!L57","v":0},{"$f":"' 6-Inventário de recursos'!H526","v":0},{"$f":"' 6-Inventário de recursos'!#REF!","v":{"$error":"#REF!"}}]
[null,null,null,null,null,null,null,null,null,null,null,null,null,null,null,null,null,null,null,null,null,null,null,null,null,null,null,null,{"$f":"' 6-Inventário de recursos'!B527","v":0},{"$f":"' 6-Inventário de recursos'!D527","v":0},{"$f":"' 6-Inventário de recursos'!C527","v":0},{"$f":"' 6-Inventário de recursos'!E527","v":0},{"$f":"' 6-Inventário de recursos'!F527","v":0},{"$f":"' 6-Inventário de recursos'!L58","v":0},{"$f":"' 6-Inventário de recursos'!H527","v":0},{"$f":"' 6-Inventário de recursos'!#REF!","v":{"$error":"#REF!"}}]
[null,null,null,null,null,null,null,null,null,null,null,null,null,null,null,null,null,null,null,null,null,null,null,null,null,null,null,null,{"$f":"' 6-Inventário de recursos'!B528","v":0},{"$f":"' 6-Inventário de recursos'!D528","v":0},{"$f":"' 6-Inventário de recursos'!C528","v":0},{"$f":"' 6-Inventário de recursos'!E528","v":0},{"$f":"' 6-Inventário de recursos'!F528","v":0},{"$f":"' 6-Inventário de recursos'!L59","v":0},{"$f":"' 6-Inventário de recursos'!H528","v":0},{"$f":"' 6-Inventário de recursos'!#REF!","v":{"$error":"#REF!"}}]
[null,null,null,null,null,null,null,null,null,null,null,null,null,null,null,null,null,null,null,null,null,null,null,null,null,null,null,null,{"$f":"' 6-Inventário de recursos'!B529","v":0},{"$f":"' 6-Inventário de recursos'!D529","v":0},{"$f":"' 6-Inventário de recursos'!C529","v":0},{"$f":"' 6-Inventário de recursos'!E529","v":0},{"$f":"' 6-Inventário de recursos'!F529","v":0},{"$f":"' 6-Inventário de recursos'!L60","v":0},{"$f":"' 6-Inventário de recursos'!H529","v":0},{"$f":"' 6-Inventário de recursos'!#REF!","v":{"$error":"#REF!"}}]
[null,null,null,null,null,null,null,null,null,null,null,null,null,null,null,null,null,null,null,null,null,null,null,null,null,null,null,null,{"$f":"' 6-Inventário de recursos'!B530","v":0},{"$f":"' 6-Inventário de recursos'!D530","v":0},{"$f":"' 6-Inventário de recursos'!C530","v":0},{"$f":"' 6-Inventário de recursos'!E530","v":0},{"$f":"' 6-Inventário de recursos'!F530","v":0},{"$f":"' 6-Inventário de recursos'!L61","v":0},{"$f":"' 6-Inventário de recursos'!H530","v":0},{"$f":"' 6-Inventário de recursos'!#REF!","v":{"$error":"#REF!"}}]
[null,null,null,null,null,null,null,null,null,null,null,null,null,null,null,null,null,null,null,null,null,null,null,null,null,null,null,null,{"$f":"' 6-Inventário de recursos'!B531","v":0},{"$f":"' 6-Inventário de recursos'!D531","v":0},{"$f":"' 6-Inventário de recursos'!C531","v":0},{"$f":"' 6-Inventário de recursos'!E531","v":0},{"$f":"' 6-Inventário de recursos'!F531","v":0},{"$f":"' 6-Inventário de recursos'!L62","v":0},{"$f":"' 6-Inventário de recursos'!H531","v":0},{"$f":"' 6-Inventário de recursos'!#REF!","v":{"$error":"#REF!"}}]
[null,null,null,null,null,null,null,null,null,null,null,null,null,null,null,null,null,null,null,null,null,null,null,null,null,null,null,null,{"$f":"' 6-Inventário de recursos'!B532","v":0},{"$f":"' 6-Inventário de recursos'!D532","v":0},{"$f":"' 6-Inventário de recursos'!C532","v":0},{"$f":"' 6-Inventário de recursos'!E532","v":0},{"$f":"' 6-Inventário de recursos'!F532","v":0},{"$f":"' 6-Inventário de recursos'!L63","v":0},{"$f":"' 6-Inventário de recursos'!H532","v":0},{"$f":"' 6-Inventário de recursos'!#REF!","v":{"$error":"#REF!"}}]
[null,null,null,null,null,null,null,null,null,null,null,null,null,null,null,null,null,null,null,null,null,null,null,null,null,null,null,null,{"$f":"' 6-Inventário de recursos'!B533","v":0},{"$f":"' 6-Inventário de recursos'!D533","v":0},{"$f":"' 6-Inventário de recursos'!C533","v":0},{"$f":"' 6-Inventário de recursos'!E533","v":0},{"$f":"' 6-Inventário de recursos'!F533","v":0},{"$f":"' 6-Inventário de recursos'!L64","v":0},{"$f":"' 6-Inventário de recursos'!H533","v":0},{"$f":"' 6-Inventário de recursos'!#REF!","v":{"$error":"#REF!"}}]
[null,null,null,null,null,null,null,null,null,null,null,null,null,null,null,null,null,null,null,null,null,null,null,null,null,null,null,null,{"$f":"' 6-Inventário de recursos'!B534","v":0},{"$f":"' 6-Inventário de recursos'!D534","v":0},{"$f":"' 6-Inventário de recursos'!C534","v":0},{"$f":"' 6-Inventário de recursos'!E534","v":0},{"$f":"' 6-Inventário de recursos'!F534","v":0},{"$f":"' 6-Inventário de recursos'!L65","v":0},{"$f":"' 6-Inventário de recursos'!H534","v":0},{"$f":"' 6-Inventário de recursos'!#REF!","v":{"$error":"#REF!"}}]
[null,null,null,null,null,null,null,null,null,null,null,null,null,null,null,null,null,null,null,null,null,null,null,null,null,null,null,null,{"$f":"' 6-Inventário de recursos'!B535","v":0},{"$f":"' 6-Inventário de recursos'!D535","v":0},{"$f":"' 6-Inventário de recursos'!C535","v":0},{"$f":"' 6-Inventário de recursos'!E535","v":0},{"$f":"' 6-Inventário de recursos'!F535","v":0},{"$f":"' 6-Inventário de recursos'!L66","v":0},{"$f":"' 6-Inventário de recursos'!H535","v":0},{"$f":"' 6-Inventário de recursos'!#REF!","v":{"$error":"#REF!"}}]
[null,null,null,null,null,null,null,null,null,null,null,null,null,null,null,null,null,null,null,null,null,null,null,null,null,null,null,null,{"$f":"' 6-Inventário de recursos'!B536","v":0},{"$f":"' 6-Inventário de recursos'!D536","v":0},{"$f":"' 6-Inventário de recursos'!C536","v":0},{"$f":"' 6-Inventário de recursos'!E536","v":0},{"$f":"' 6-Inventário de recursos'!F536","v":0},{"$f":"' 6-Inventário de recursos'!L67","v":0},{"$f":"' 6-Inventário de recursos'!H536","v":0},{"$f":"' 6-Inventário de recursos'!#REF!","v":{"$error":"#REF!"}}]
[null,null,null,null,null,null,null,null,null,null,null,null,null,null,null,null,null,null,null,null,null,null,null,null,null,null,null,null,{"$f":"' 6-Inventário de recursos'!B537","v":0},{"$f":"' 6-Inventário de recursos'!D537","v":0},{"$f":"' 6-Inventário de recursos'!C537","v":0},{"$f":"' 6-Inventário de recursos'!E537","v":0},{"$f":"' 6-Inventário de recursos'!F537","v":0},{"$f":"' 6-Inventário de recursos'!L68","v":0},{"$f":"' 6-Inventário de recursos'!H537","v":0},{"$f":"' 6-Inventário de recursos'!#REF!","v":{"$error":"#REF!"}}]
[null,null,null,null,null,null,null,null,null,null,null,null,null,null,null,null,null,null,null,null,null,null,null,null,null,null,null,null,{"$f":"' 6-Inventário de recursos'!B538","v":0},{"$f":"' 6-Inventário de recursos'!D538","v":0},{"$f":"' 6-Inventário de recursos'!C538","v":0},{"$f":"' 6-Inventário de recursos'!E538","v":0},{"$f":"' 6-Inventário de recursos'!F538","v":0},{"$f":"' 6-Inventário de recursos'!L69","v":0},{"$f":"' 6-Inventário de recursos'!H538","v":0},{"$f":"' 6-Inventário de recursos'!#REF!","v":{"$error":"#REF!"}}]
[null,null,null,null,null,null,null,null,null,null,null,null,null,null,null,null,null,null,null,null,null,null,null,null,null,null,null,null,{"$f":"' 6-Inventário de recursos'!B539","v":0},{"$f":"' 6-Inventário de recursos'!D539","v":0},{"$f":"' 6-Inventário de recursos'!C539","v":0},{"$f":"' 6-Inventário de recursos'!E539","v":0},{"$f":"' 6-Inventário de recursos'!F539","v":0},{"$f":"' 6-Inventário de recursos'!L70","v":0},{"$f":"' 6-Inventário de recursos'!H539","v":0},{"$f":"' 6-Inventário de recursos'!#REF!","v":{"$error":"#REF!"}}]
[null,null,null,null,null,null,null,null,null,null,null,null,null,null,null,null,null,null,null,null,null,null,null,null,null,null,null,null,{"$f":"' 6-Inventário de recursos'!B540","v":0},{"$f":"' 6-Inventário de recursos'!D540","v":0},{"$f":"' 6-Inventário de recursos'!C540","v":0},{"$f":"' 6-Inventário de recursos'!E540","v":0},{"$f":"' 6-Inventário de recursos'!F540","v":0},{"$f":"' 6-Inventário de recursos'!L71","v":0},{"$f":"' 6-Inventário de recursos'!H540","v":0},{"$f":"' 6-Inventário de recursos'!#REF!","v":{"$error":"#REF!"}}]
[null,null,null,null,null,null,null,null,null,null,null,null,null,null,null,null,null,null,null,null,null,null,null,null,null,null,null,null,{"$f":"' 6-Inventário de recursos'!B541","v":0},{"$f":"' 6-Inventário de recursos'!D541","v":0},{"$f":"' 6-Inventário de recursos'!C541","v":0},{"$f":"' 6-Inventário de recursos'!E541","v":0},{"$f":"' 6-Inventário de recursos'!F541","v":0},{"$f":"' 6-Inventário de recursos'!L72","v":0},{"$f":"' 6-Inventário de recursos'!H541","v":0},{"$f":"' 6-Inventário de recursos'!#REF!","v":{"$error":"#REF!"}}]
[null,null,null,null,null,null,null,null,null,null,null,null,null,null,null,null,null,null,null,null,null,null,null,null,null,null,null,null,{"$f":"' 6-Inventário de recursos'!B542","v":0},{"$f":"' 6-Inventário de recursos'!D542","v":0},{"$f":"' 6-Inventário de recursos'!C542","v":0},{"$f":"' 6-Inventário de recursos'!E542","v":0},{"$f":"' 6-Inventário de recursos'!F542","v":0},{"$f":"' 6-Inventário de recursos'!L73","v":0},{"$f":"' 6-Inventário de recursos'!H542","v":0},{"$f":"' 6-Inventário de recursos'!#REF!","v":{"$error":"#REF!"}}]
[null,null,null,null,null,null,null,null,null,null,null,null,null,null,null,null,null,null,null,null,null,null,null,null,null,null,null,null,{"$f":"' 6-Inventário de recursos'!B543","v":0},{"$f":"' 6-Inventário de recursos'!D543","v":0},{"$f":"' 6-Inventário de recursos'!C543","v":0},{"$f":"' 6-Inventário de recursos'!E543","v":0},{"$f":"' 6-Inventário de recursos'!F543","v":0},{"$f":"' 6-Inventário de recursos'!L74","v":0},{"$f":"' 6-Inventário de recursos'!H543","v":0},{"$f":"' 6-Inventário de recursos'!#REF!","v":{"$error":"#REF!"}}]
[null,null,null,null,null,null,null,null,null,null,null,null,null,null,null,null,null,null,null,null,null,null,null,null,null,null,null,null,{"$f":"' 6-Inventário de recursos'!B544","v":0},{"$f":"' 6-Inventário de recursos'!D544","v":0},{"$f":"' 6-Inventário de recursos'!C544","v":0},{"$f":"' 6-Inventário de recursos'!E544","v":0},{"$f":"' 6-Inventário de recursos'!F544","v":0},{"$f":"' 6-Inventário de recursos'!L75","v":0},{"$f":"' 6-Inventário de recursos'!H544","v":0},{"$f":"' 6-Inventário de recursos'!#REF!","v":{"$error":"#REF!"}}]
[null,null,null,null,null,null,null,null,null,null,null,null,null,null,null,null,null,null,null,null,null,null,null,null,null,null,null,null,{"$f":"' 6-Inventário de recursos'!B545","v":0},{"$f":"' 6-Inventário de recursos'!D545","v":0},{"$f":"' 6-Inventário de recursos'!C545","v":0},{"$f":"' 6-Inventário de recursos'!E545","v":0},{"$f":"' 6-Inventário de recursos'!F545","v":0},{"$f":"' 6-Inventário de recursos'!L76","v":0},{"$f":"' 6-Inventário de recursos'!H545","v":0},{"$f":"' 6-Inventário de recursos'!#REF!","v":{"$error":"#REF!"}}]
[null,null,null,null,null,null,null,null,null,null,null,null,null,null,null,null,null,null,null,null,null,null,null,null,null,null,null,null,{"$f":"' 6-Inventário de recursos'!B546","v":0},{"$f":"' 6-Inventário de recursos'!D546","v":0},{"$f":"' 6-Inventário de recursos'!C546","v":0},{"$f":"' 6-Inventário de recursos'!E546","v":0},{"$f":"' 6-Inventário de recursos'!F546","v":0},{"$f":"' 6-Inventário de recursos'!L77","v":0},{"$f":"' 6-Inventário de recursos'!H546","v":0},{"$f":"' 6-Inventário de recursos'!#REF!","v":{"$error":"#REF!"}}]
[null,null,null,null,null,null,null,null,null,null,null,null,null,null,null,null,null,null,null,null,null,null,null,null,null,null,null,null,{"$f":"' 6-Inventário de recursos'!B547","v":0},{"$f":"' 6-Inventário de recursos'!D547","v":0},{"$f":"' 6-Inventário de recursos'!C547","v":0},{"$f":"' 6-Inventário de recursos'!E547","v":0},{"$f":"' 6-Inventário de recursos'!F547","v":0},{"$f":"' 6-Inventário de recursos'!L78","v":0},{"$f":"' 6-Inventário de recursos'!H547","v":0},{"$f":"' 6-Inventário de recursos'!#REF!","v":{"$error":"#REF!"}}]
[null,null,null,null,null,null,null,null,null,null,null,null,null,null,null,null,null,null,null,null,null,null,null,null,null,null,null,null,{"$f":"' 6-Inventário de recursos'!B548","v":0},{"$f":"' 6-Inventário de recursos'!D548","v":0},{"$f":"' 6-Inventário de recursos'!C548","v":0},{"$f":"' 6-Inventário de recursos'!E548","v":0},{"$f":"' 6-Inventário de recursos'!F548","v":0},{"$f":"' 6-Inventário de recursos'!L79","v":0},{"$f":"' 6-Inventário de recursos'!H548","v":0},{"$f":"' 6-Inventário de recursos'!#REF!","v":{"$error":"#REF!"}}]
[null,null,null,null,null,null,null,null,null,null,null,null,null,null,null,null,null,null,null,null,null,null,null,null,null,null,null,null,{"$f":"' 6-Inventário de recursos'!B549","v":0},{"$f":"' 6-Inventário de recursos'!D549","v":0},{"$f":"' 6-Inventário de recursos'!C549","v":0},{"$f":"' 6-Inventário de recursos'!E549","v":0},{"$f":"' 6-Inventário de recursos'!F549","v":0},{"$f":"' 6-Inventário de recursos'!L80","v":0},{"$f":"' 6-Inventário de recursos'!H549","v":0},{"$f":"' 6-Inventário de recursos'!#REF!","v":{"$error":"#REF!"}}]
[null,null,null,null,null,null,null,null,null,null,null,null,null,null,null,null,null,null,null,null,null,null,null,null,null,null,null,null,{"$f":"' 6-Inventário de recursos'!B550","v":0},{"$f":"' 6-Inventário de recursos'!D550","v":0},{"$f":"' 6-Inventário de recursos'!C550","v":0},{"$f":"' 6-Inventário de recursos'!E550","v":0},{"$f":"' 6-Inventário de recursos'!F550","v":0},{"$f":"' 6-Inventário de recursos'!L81","v":0},{"$f":"' 6-Inventário de recursos'!H550","v":0},{"$f":"' 6-Inventário de recursos'!#REF!","v":{"$error":"#REF!"}}]
[null,null,null,null,null,null,null,null,null,null,null,null,null,null,null,null,null,null,null,null,null,null,null,null,null,null,null,null,{"$f":"' 6-Inventário de recursos'!B551","v":0},{"$f":"' 6-Inventário de recursos'!D551","v":0},{"$f":"' 6-Inventário de recursos'!C551","v":0},{"$f":"' 6-Inventário de recursos'!E551","v":0},{"$f":"' 6-Inventário de recursos'!F551","v":0},{"$f":"' 6-Inventário de recursos'!L82","v":0},{"$f":"' 6-Inventário de recursos'!H551","v":0},{"$f":"' 6-Inventário de recursos'!#REF!","v":{"$error":"#REF!"}}]
[null,null,null,null,null,null,null,null,null,null,null,null,null,null,null,null,null,null,null,null,null,null,null,null,null,null,null,null,{"$f":"' 6-Inventário de recursos'!B552","v":0},{"$f":"' 6-Inventário de recursos'!D552","v":0},{"$f":"' 6-Inventário de recursos'!C552","v":0},{"$f":"' 6-Inventário de recursos'!E552","v":0},{"$f":"' 6-Inventário de recursos'!F552","v":0},{"$f":"' 6-Inventário de recursos'!L83","v":0},{"$f":"' 6-Inventário de recursos'!H552","v":0},{"$f":"' 6-Inventário de recursos'!#REF!","v":{"$error":"#REF!"}}]
[null,null,null,null,null,null,null,null,null,null,null,null,null,null,null,null,null,null,null,null,null,null,null,null,null,null,null,null,{"$f":"' 6-Inventário de recursos'!B553","v":0},{"$f":"' 6-Inventário de recursos'!D553","v":0},{"$f":"' 6-Inventário de recursos'!C553","v":0},{"$f":"' 6-Inventário de recursos'!E553","v":0},{"$f":"' 6-Inventário de recursos'!F553","v":0},{"$f":"' 6-Inventário de recursos'!L84","v":0},{"$f":"' 6-Inventário de recursos'!H553","v":0},{"$f":"' 6-Inventário de recursos'!#REF!","v":{"$error":"#REF!"}}]
[null,null,null,null,null,null,null,null,null,null,null,null,null,null,null,null,null,null,null,null,null,null,null,null,null,null,null,null,{"$f":"' 6-Inventário de recursos'!B554","v":0},{"$f":"' 6-Inventário de recursos'!D554","v":0},{"$f":"' 6-Inventário de recursos'!C554","v":0},{"$f":"' 6-Inventário de recursos'!E554","v":0},{"$f":"' 6-Inventário de recursos'!F554","v":0},{"$f":"' 6-Inventário de recursos'!L85","v":0},{"$f":"' 6-Inventário de recursos'!H554","v":0},{"$f":"' 6-Inventário de recursos'!#REF!","v":{"$error":"#REF!"}}]
[null,null,null,null,null,null,null,null,null,null,null,null,null,null,null,null,null,null,null,null,null,null,null,null,null,null,null,null,{"$f":"' 6-Inventário de recursos'!B555","v":0},{"$f":"' 6-Inventário de recursos'!D555","v":0},{"$f":"' 6-Inventário de recursos'!C555","v":0},{"$f":"' 6-Inventário de recursos'!E555","v":0},{"$f":"' 6-Inventário de recursos'!F555","v":0},{"$f":"' 6-Inventário de recursos'!L86","v":0},{"$f":"' 6-Inventário de recursos'!H555","v":0},{"$f":"' 6-Inventário de recursos'!#REF!","v":{"$error":"#REF!"}}]
[null,null,null,null,null,null,null,null,null,null,null,null,null,null,null,null,null,null,null,null,null,null,null,null,null,null,null,null,{"$f":"' 6-Inventário de recursos'!B556","v":0},{"$f":"' 6-Inventário de recursos'!D556","v":0},{"$f":"' 6-Inventário de recursos'!C556","v":0},{"$f":"' 6-Inventário de recursos'!E556","v":0},{"$f":"' 6-Inventário de recursos'!F556","v":0},{"$f":"' 6-Inventário de recursos'!L87","v":0},{"$f":"' 6-Inventário de recursos'!H556","v":0},{"$f":"' 6-Inventário de recursos'!#REF!","v":{"$error":"#REF!"}}]
[null,null,null,null,null,null,null,null,null,null,null,null,null,null,null,null,null,null,null,null,null,null,null,null,null,null,null,null,{"$f":"' 6-Inventário de recursos'!B557","v":0},{"$f":"' 6-Inventário de recursos'!D557","v":0},{"$f":"' 6-Inventário de recursos'!C557","v":0},{"$f":"' 6-Inventário de recursos'!E557","v":0},{"$f":"' 6-Inventário de recursos'!F557","v":0},{"$f":"' 6-Inventário de recursos'!L88","v":0},{"$f":"' 6-Inventário de recursos'!H557","v":0},{"$f":"' 6-Inventário de recursos'!#REF!","v":{"$error":"#REF!"}}]
[null,null,null,null,null,null,null,null,null,null,null,null,null,null,null,null,null,null,null,null,null,null,null,null,null,null,null,null,{"$f":"' 6-Inventário de recursos'!B558","v":0},{"$f":"' 6-Inventário de recursos'!D558","v":0},{"$f":"' 6-Inventário de recursos'!C558","v":0},{"$f":"' 6-Inventário de recursos'!E558","v":0},{"$f":"' 6-Inventário de recursos'!F558","v":0},{"$f":"' 6-Inventário de recursos'!L89","v":0},{"$f":"' 6-Inventário de recursos'!H558","v":0},{"$f":"' 6-Inventário de recursos'!#REF!","v":{"$error":"#REF!"}}]
[null,null,null,null,null,null,null,null,null,null,null,null,null,null,null,null,null,null,null,null,null,null,null,null,null,null,null,null,{"$f":"' 6-Inventário de recursos'!B559","v":0},{"$f":"' 6-Inventário de recursos'!D559","v":0},{"$f":"' 6-Inventário de recursos'!C559","v":0},{"$f":"' 6-Inventário de recursos'!E559","v":0},{"$f":"' 6-Inventário de recursos'!F559","v":0},{"$f":"' 6-Inventário de recursos'!L90","v":0},{"$f":"' 6-Inventário de recursos'!H559","v":0},{"$f":"' 6-Inventário de recursos'!#REF!","v":{"$error":"#REF!"}}]
[null,null,null,null,null,null,null,null,null,null,null,null,null,null,null,null,null,null,null,null,null,null,null,null,null,null,null,null,{"$f":"' 6-Inventário de recursos'!B560","v":0},{"$f":"' 6-Inventário de recursos'!D560","v":0},{"$f":"' 6-Inventário de recursos'!C560","v":0},{"$f":"' 6-Inventário de recursos'!E560","v":0},{"$f":"' 6-Inventário de recursos'!F560","v":0},{"$f":"' 6-Inventário de recursos'!L91","v":0},{"$f":"' 6-Inventário de recursos'!H560","v":0},{"$f":"' 6-Inventário de recursos'!#REF!","v":{"$error":"#REF!"}}]
[null,null,null,null,null,null,null,null,null,null,null,null,null,null,null,null,null,null,null,null,null,null,null,null,null,null,null,null,{"$f":"' 6-Inventário de recursos'!B561","v":0},{"$f":"' 6-Inventário de recursos'!D561","v":0},{"$f":"' 6-Inventário de recursos'!C561","v":0},{"$f":"' 6-Inventário de recursos'!E561","v":0},{"$f":"' 6-Inventário de recursos'!F561","v":0},{"$f":"' 6-Inventário de recursos'!L92","v":0},{"$f":"' 6-Inventário de recursos'!H561","v":0},{"$f":"' 6-Inventário de recursos'!#REF!","v":{"$error":"#REF!"}}]
[null,null,null,null,null,null,null,null,null,null,null,null,null,null,null,null,null,null,null,null,null,null,null,null,null,null,null,null,{"$f":"' 6-Inventário de recursos'!B562","v":0},{"$f":"' 6-Inventário de recursos'!D562","v":0},{"$f":"' 6-Inventário de recursos'!C562","v":0},{"$f":"' 6-Inventário de recursos'!E562","v":0},{"$f":"' 6-Inventário de recursos'!F562","v":0},{"$f":"' 6-Inventário de recursos'!L93","v":0},{"$f":"' 6-Inventário de recursos'!H562","v":0},{"$f":"' 6-Inventário de recursos'!#REF!","v":{"$error":"#REF!"}}]
[null,null,null,null,null,null,null,null,null,null,null,null,null,null,null,null,null,null,null,null,null,null,null,null,null,null,null,null,{"$f":"' 6-Inventário de recursos'!B563","v":0},{"$f":"' 6-Inventário de recursos'!D563","v":0},{"$f":"' 6-Inventário de recursos'!C563","v":0},{"$f":"' 6-Inventário de recursos'!E563","v":0},{"$f":"' 6-Inventário de recursos'!F563","v":0},{"$f":"' 6-Inventário de recursos'!L94","v":0},{"$f":"' 6-Inventário de recursos'!H563","v":0},{"$f":"' 6-Inventário de recursos'!#REF!","v":{"$error":"#REF!"}}]
[null,null,null,null,null,null,null,null,null,null,null,null,null,null,null,null,null,null,null,null,null,null,null,null,null,null,null,null,{"$f":"' 6-Inventário de recursos'!B564","v":0},{"$f":"' 6-Inventário de recursos'!D564","v":0},{"$f":"' 6-Inventário de recursos'!C564","v":0},{"$f":"' 6-Inventário de recursos'!E564","v":0},{"$f":"' 6-Inventário de recursos'!F564","v":0},{"$f":"' 6-Inventário de recursos'!L95","v":0},{"$f":"' 6-Inventário de recursos'!H564","v":0},{"$f":"' 6-Inventário de recursos'!#REF!","v":{"$error":"#REF!"}}]
[null,null,null,null,null,null,null,null,null,null,null,null,null,null,null,null,null,null,null,null,null,null,null,null,null,null,null,null,{"$f":"' 6-Inventário de recursos'!B565","v":0},{"$f":"' 6-Inventário de recursos'!D565","v":0},{"$f":"' 6-Inventário de recursos'!C565","v":0},{"$f":"' 6-Inventário de recursos'!E565","v":0},{"$f":"' 6-Inventário de recursos'!F565","v":0},{"$f":"' 6-Inventário de recursos'!L96","v":0},{"$f":"' 6-Inventário de recursos'!H565","v":0},{"$f":"' 6-Inventário de recursos'!#REF!","v":{"$error":"#REF!"}}]
[null,null,null,null,null,null,null,null,null,null,null,null,null,null,null,null,null,null,null,null,null,null,null,null,null,null,null,null,{"$f":"' 6-Inventário de recursos'!B566","v":0},{"$f":"' 6-Inventário de recursos'!D566","v":0},{"$f":"' 6-Inventário de recursos'!C566","v":0},{"$f":"' 6-Inventário de recursos'!E566","v":0},{"$f":"' 6-Inventário de recursos'!F566","v":0},{"$f":"' 6-Inventário de recursos'!L97","v":0},{"$f":"' 6-Inventário de recursos'!H566","v":0},{"$f":"' 6-Inventário de recursos'!#REF!","v":{"$error":"#REF!"}}]
[null,null,null,null,null,null,null,null,null,null,null,null,null,null,null,null,null,null,null,null,null,null,null,null,null,null,null,null,{"$f":"' 6-Inventário de recursos'!B567","v":0},{"$f":"' 6-Inventário de recursos'!D567","v":0},{"$f":"' 6-Inventário de recursos'!C567","v":0},{"$f":"' 6-Inventário de recursos'!E567","v":0},{"$f":"' 6-Inventário de recursos'!F567","v":0},{"$f":"' 6-Inventário de recursos'!L98","v":0},{"$f":"' 6-Inventário de recursos'!H567","v":0},{"$f":"' 6-Inventário de recursos'!#REF!","v":{"$error":"#REF!"}}]
[null,null,null,null,null,null,null,null,null,null,null,null,null,null,null,null,null,null,null,null,null,null,null,null,null,null,null,null,{"$f":"' 6-Inventário de recursos'!B568","v":0},{"$f":"' 6-Inventário de recursos'!D568","v":0},{"$f":"' 6-Inventário de recursos'!C568","v":0},{"$f":"' 6-Inventário de recursos'!E568","v":0},{"$f":"' 6-Inventário de recursos'!F568","v":0},{"$f":"' 6-Inventário de recursos'!L99","v":0},{"$f":"' 6-Inventário de recursos'!H568","v":0},{"$f":"' 6-Inventário de recursos'!#REF!","v":{"$error":"#REF!"}}]
[null,null,null,null,null,null,null,null,null,null,null,null,null,null,null,null,null,null,null,null,null,null,null,null,null,null,null,null,{"$f":"' 6-Inventário de recursos'!B569","v":0},{"$f":"' 6-Inventário de recursos'!D569","v":0},{"$f":"' 6-Inventário de recursos'!C569","v":0},{"$f":"' 6-Inventário de recursos'!E569","v":0},{"$f":"' 6-Inventário de recursos'!F569","v":0},{"$f":"' 6-Inventário de recursos'!L100","v":0},{"$f":"' 6-Inventário de recursos'!H569","v":0},{"$f":"' 6-Inventário de recursos'!#REF!","v":{"$error":"#REF!"}}]
[null,null,null,null,null,null,null,null,null,null,null,null,null,null,null,null,null,null,null,null,null,null,null,null,null,null,null,null,{"$f":"' 6-Inventário de recursos'!B570","v":0},{"$f":"' 6-Inventário de recursos'!D570","v":0},{"$f":"' 6-Inventário de recursos'!C570","v":0},{"$f":"' 6-Inventário de recursos'!E570","v":0},{"$f":"' 6-Inventário de recursos'!F570","v":0},{"$f":"' 6-Inventário de recursos'!L101","v":0},{"$f":"' 6-Inventário de recursos'!H570","v":0},{"$f":"' 6-Inventário de recursos'!#REF!","v":{"$error":"#REF!"}}]
[null,null,null,null,null,null,null,null,null,null,null,null,null,null,null,null,null,null,null,null,null,null,null,null,null,null,null,null,{"$f":"' 6-Inventário de recursos'!B571","v":0},{"$f":"' 6-Inventário de recursos'!D571","v":0},{"$f":"' 6-Inventário de recursos'!C571","v":0},{"$f":"' 6-Inventário de recursos'!E571","v":0},{"$f":"' 6-Inventário de recursos'!F571","v":0},{"$f":"' 6-Inventário de recursos'!L102","v":0},{"$f":"' 6-Inventário de recursos'!H571","v":0},{"$f":"' 6-Inventário de recursos'!#REF!","v":{"$error":"#REF!"}}]
[null,null,null,null,null,null,null,null,null,null,null,null,null,null,null,null,null,null,null,null,null,null,null,null,null,null,null,null,{"$f":"' 6-Inventário de recursos'!B572","v":0},{"$f":"' 6-Inventário de recursos'!D572","v":0},{"$f":"' 6-Inventário de recursos'!C572","v":0},{"$f":"' 6-Inventário de recursos'!E572","v":0},{"$f":"' 6-Inventário de recursos'!F572","v":0},{"$f":"' 6-Inventário de recursos'!L103","v":0},{"$f":"' 6-Inventário de recursos'!H572","v":0},{"$f":"' 6-Inventário de recursos'!#REF!","v":{"$error":"#REF!"}}]
[null,null,null,null,null,null,null,null,null,null,null,null,null,null,null,null,null,null,null,null,null,null,null,null,null,null,null,null,{"$f":"' 6-Inventário de recursos'!B573","v":0},{"$f":"' 6-Inventário de recursos'!D573","v":0},{"$f":"' 6-Inventário de recursos'!C573","v":0},{"$f":"' 6-Inventário de recursos'!E573","v":0},{"$f":"' 6-Inventário de recursos'!F573","v":0},{"$f":"' 6-Inventário de recursos'!L104","v":0},{"$f":"' 6-Inventário de recursos'!H573","v":0},{"$f":"' 6-Inventário de recursos'!#REF!","v":{"$error":"#REF!"}}]
[null,null,null,null,null,null,null,null,null,null,null,null,null,null,null,null,null,null,null,null,null,null,null,null,null,null,null,null,{"$f":"' 6-Inventário de recursos'!B574","v":0},{"$f":"' 6-Inventário de recursos'!D574","v":0},{"$f":"' 6-Inventário de recursos'!C574","v":0},{"$f":"' 6-Inventário de recursos'!E574","v":0},{"$f":"' 6-Inventário de recursos'!F574","v":0},{"$f":"' 6-Inventário de recursos'!L105","v":0},{"$f":"' 6-Inventário de recursos'!H574","v":0},{"$f":"' 6-Inventário de recursos'!#REF!","v":{"$error":"#REF!"}}]
[null,null,null,null,null,null,null,null,null,null,null,null,null,null,null,null,null,null,null,null,null,null,null,null,null,null,null,null,{"$f":"' 6-Inventário de recursos'!B575","v":0},{"$f":"' 6-Inventário de recursos'!D575","v":0},{"$f":"' 6-Inventário de recursos'!C575","v":0},{"$f":"' 6-Inventário de recursos'!E575","v":0},{"$f":"' 6-Inventário de recursos'!F575","v":0},{"$f":"' 6-Inventário de recursos'!L106","v":0},{"$f":"' 6-Inventário de recursos'!H575","v":0},{"$f":"' 6-Inventário de recursos'!#REF!","v":{"$error":"#REF!"}}]
[null,null,null,null,null,null,null,null,null,null,null,null,null,null,null,null,null,null,null,null,null,null,null,null,null,null,null,null,{"$f":"' 6-Inventário de recursos'!B576","v":0},{"$f":"' 6-Inventário de recursos'!D576","v":0},{"$f":"' 6-Inventário de recursos'!C576","v":0},{"$f":"' 6-Inventário de recursos'!E576","v":0},{"$f":"' 6-Inventário de recursos'!F576","v":0},{"$f":"' 6-Inventário de recursos'!L107","v":0},{"$f":"' 6-Inventário de recursos'!H576","v":0},{"$f":"' 6-Inventário de recursos'!#REF!","v":{"$error":"#REF!"}}]
[null,null,null,null,null,null,null,null,null,null,null,null,null,null,null,null,null,null,null,null,null,null,null,null,null,null,null,null,{"$f":"' 6-Inventário de recursos'!B577","v":0},{"$f":"' 6-Inventário de recursos'!D577","v":0},{"$f":"' 6-Inventário de recursos'!C577","v":0},{"$f":"' 6-Inventário de recursos'!E577","v":0},{"$f":"' 6-Inventário de recursos'!F577","v":0},{"$f":"' 6-Inventário de recursos'!L108","v":0},{"$f":"' 6-Inventário de recursos'!H577","v":0},{"$f":"' 6-Inventário de recursos'!#REF!","v":{"$error":"#REF!"}}]
[null,null,null,null,null,null,null,null,null,null,null,null,null,null,null,null,null,null,null,null,null,null,null,null,null,null,null,null,{"$f":"' 6-Inventário de recursos'!B578","v":0},{"$f":"' 6-Inventário de recursos'!D578","v":0},{"$f":"' 6-Inventário de recursos'!C578","v":0},{"$f":"' 6-Inventário de recursos'!E578","v":0},{"$f":"' 6-Inventário de recursos'!F578","v":0},{"$f":"' 6-Inventário de recursos'!L109","v":0},{"$f":"' 6-Inventário de recursos'!H578","v":0},{"$f":"' 6-Inventário de recursos'!#REF!","v":{"$error":"#REF!"}}]
[null,null,null,null,null,null,null,null,null,null,null,null,null,null,null,null,null,null,null,null,null,null,null,null,null,null,null,null,{"$f":"' 6-Inventário de recursos'!B579","v":0},{"$f":"' 6-Inventário de recursos'!D579","v":0},{"$f":"' 6-Inventário de recursos'!C579","v":0},{"$f":"' 6-Inventário de recursos'!E579","v":0},{"$f":"' 6-Inventário de recursos'!F579","v":0},{"$f":"' 6-Inventário de recursos'!L110","v":0},{"$f":"' 6-Inventário de recursos'!H579","v":0},{"$f":"' 6-Inventário de recursos'!#REF!","v":{"$error":"#REF!"}}]
[null,null,null,null,null,null,null,null,null,null,null,null,null,null,null,null,null,null,null,null,null,null,null,null,null,null,null,null,{"$f":"' 6-Inventário de recursos'!B580","v":0},{"$f":"' 6-Inventário de recursos'!D580","v":0},{"$f":"' 6-Inventário de recursos'!C580","v":0},{"$f":"' 6-Inventário de recursos'!E580","v":0},{"$f":"' 6-Inventário de recursos'!F580","v":0},{"$f":"' 6-Inventário de recursos'!L111","v":0},{"$f":"' 6-Inventário de recursos'!H580","v":0},{"$f":"' 6-Inventário de recursos'!#REF!","v":{"$error":"#REF!"}}]
[null,null,null,null,null,null,null,null,null,null,null,null,null,null,null,null,null,null,null,null,null,null,null,null,null,null,null,null,{"$f":"' 6-Inventário de recursos'!B581","v":0},{"$f":"' 6-Inventário de recursos'!D581","v":0},{"$f":"' 6-Inventário de recursos'!C581","v":0},{"$f":"' 6-Inventário de recursos'!E581","v":0},{"$f":"' 6-Inventário de recursos'!F581","v":0},{"$f":"' 6-Inventário de recursos'!L112","v":0},{"$f":"' 6-Inventário de recursos'!H581","v":0},{"$f":"' 6-Inventário de recursos'!#REF!","v":{"$error":"#REF!"}}]
[null,null,null,null,null,null,null,null,null,null,null,null,null,null,null,null,null,null,null,null,null,null,null,null,null,null,null,null,{"$f":"' 6-Inventário de recursos'!B582","v":0},{"$f":"' 6-Inventário de recursos'!D582","v":0},{"$f":"' 6-Inventário de recursos'!C582","v":0},{"$f":"' 6-Inventário de recursos'!E582","v":0},{"$f":"' 6-Inventário de recursos'!F582","v":0},{"$f":"' 6-Inventário de recursos'!L113","v":0},{"$f":"' 6-Inventário de recursos'!H582","v":0},{"$f":"' 6-Inventário de recursos'!#REF!","v":{"$error":"#REF!"}}]
[null,null,null,null,null,null,null,null,null,null,null,null,null,null,null,null,null,null,null,null,null,null,null,null,null,null,null,null,{"$f":"' 6-Inventário de recursos'!B583","v":0},{"$f":"' 6-Inventário de recursos'!D583","v":0},{"$f":"' 6-Inventário de recursos'!C583","v":0},{"$f":"' 6-Inventário de recursos'!E583","v":0},{"$f":"' 6-Inventário de recursos'!F583","v":0},{"$f":"' 6-Inventário de recursos'!L114","v":0},{"$f":"' 6-Inventário de recursos'!H583","v":0},{"$f":"' 6-Inventário de recursos'!#REF!","v":{"$error":"#REF!"}}]
[null,null,null,null,null,null,null,null,null,null,null,null,null,null,null,null,null,null,null,null,null,null,null,null,null,null,null,null,{"$f":"' 6-Inventário de recursos'!B584","v":0},{"$f":"' 6-Inventário de recursos'!D584","v":0},{"$f":"' 6-Inventário de recursos'!C584","v":0},{"$f":"' 6-Inventário de recursos'!E584","v":0},{"$f":"' 6-Inventário de recursos'!F584","v":0},{"$f":"' 6-Inventário de recursos'!L115","v":0},{"$f":"' 6-Inventário de recursos'!H584","v":0},{"$f":"' 6-Inventário de recursos'!#REF!","v":{"$error":"#REF!"}}]
[null,null,null,null,null,null,null,null,null,null,null,null,null,null,null,null,null,null,null,null,null,null,null,null,null,null,null,null,{"$f":"' 6-Inventário de recursos'!B585","v":0},{"$f":"' 6-Inventário de recursos'!D585","v":0},{"$f":"' 6-Inventário de recursos'!C585","v":0},{"$f":"' 6-Inventário de recursos'!E585","v":0},{"$f":"' 6-Inventário de recursos'!F585","v":0},{"$f":"' 6-Inventário de recursos'!L116","v":0},{"$f":"' 6-Inventário de recursos'!H585","v":0},{"$f":"' 6-Inventário de recursos'!#REF!","v":{"$error":"#REF!"}}]
[null,null,null,null,null,null,null,null,null,null,null,null,null,null,null,null,null,null,null,null,null,null,null,null,null,null,null,null,{"$f":"' 6-Inventário de recursos'!B586","v":0},{"$f":"' 6-Inventário de recursos'!D586","v":0},{"$f":"' 6-Inventário de recursos'!C586","v":0},{"$f":"' 6-Inventário de recursos'!E586","v":0},{"$f":"' 6-Inventário de recursos'!F586","v":0},{"$f":"' 6-Inventário de recursos'!L117","v":0},{"$f":"' 6-Inventário de recursos'!H586","v":0},{"$f":"' 6-Inventário de recursos'!#REF!","v":{"$error":"#REF!"}}]
[null,null,null,null,null,null,null,null,null,null,null,null,null,null,null,null,null,null,null,null,null,null,null,null,null,null,null,null,{"$f":"' 6-Inventário de recursos'!B587","v":0},{"$f":"' 6-Inventário de recursos'!D587","v":0},{"$f":"' 6-Inventário de recursos'!C587","v":0},{"$f":"' 6-Inventário de recursos'!E587","v":0},{"$f":"' 6-Inventário de recursos'!F587","v":0},{"$f":"' 6-Inventário de recursos'!L118","v":0},{"$f":"' 6-Inventário de recursos'!H587","v":0},{"$f":"' 6-Inventário de recursos'!#REF!","v":{"$error":"#REF!"}}]
[null,null,null,null,null,null,null,null,null,null,null,null,null,null,null,null,null,null,null,null,null,null,null,null,null,null,null,null,{"$f":"' 6-Inventário de recursos'!B588","v":0},{"$f":"' 6-Inventário de recursos'!D588","v":0},{"$f":"' 6-Inventário de recursos'!C588","v":0},{"$f":"' 6-Inventário de recursos'!E588","v":0},{"$f":"' 6-Inventário de recursos'!F588","v":0},{"$f":"' 6-Inventário de recursos'!L119","v":0},{"$f":"' 6-Inventário de recursos'!H588","v":0},{"$f":"' 6-Inventário de recursos'!#REF!","v":{"$error":"#REF!"}}]
[null,null,null,null,null,null,null,null,null,null,null,null,null,null,null,null,null,null,null,null,null,null,null,null,null,null,null,null,{"$f":"' 6-Inventário de recursos'!B589","v":0},{"$f":"' 6-Inventário de recursos'!D589","v":0},{"$f":"' 6-Inventário de recursos'!C589","v":0},{"$f":"' 6-Inventário de recursos'!E589","v":0},{"$f":"' 6-Inventário de recursos'!F589","v":0},{"$f":"' 6-Inventário de recursos'!L120","v":0},{"$f":"' 6-Inventário de recursos'!H589","v":0},{"$f":"' 6-Inventário de recursos'!#REF!","v":{"$error":"#REF!"}}]
[null,null,null,null,null,null,null,null,null,null,null,null,null,null,null,null,null,null,null,null,null,null,null,null,null,null,null,null,{"$f":"' 6-Inventário de recursos'!B590","v":0},{"$f":"' 6-Inventário de recursos'!D590","v":0},{"$f":"' 6-Inventário de recursos'!C590","v":0},{"$f":"' 6-Inventário de recursos'!E590","v":0},{"$f":"' 6-Inventário de recursos'!F590","v":0},{"$f":"' 6-Inventário de recursos'!L121","v":0},{"$f":"' 6-Inventário de recursos'!H590","v":0},{"$f":"' 6-Inventário de recursos'!#REF!","v":{"$error":"#REF!"}}]
[null,null,null,null,null,null,null,null,null,null,null,null,null,null,null,null,null,null,null,null,null,null,null,null,null,null,null,null,{"$f":"' 6-Inventário de recursos'!B591","v":0},{"$f":"' 6-Inventário de recursos'!D591","v":0},{"$f":"' 6-Inventário de recursos'!C591","v":0},{"$f":"' 6-Inventário de recursos'!E591","v":0},{"$f":"' 6-Inventário de recursos'!F591","v":0},{"$f":"' 6-Inventário de recursos'!L122","v":0},{"$f":"' 6-Inventário de recursos'!H591","v":0},{"$f":"' 6-Inventário de recursos'!#REF!","v":{"$error":"#REF!"}}]
[null,null,null,null,null,null,null,null,null,null,null,null,null,null,null,null,null,null,null,null,null,null,null,null,null,null,null,null,{"$f":"' 6-Inventário de recursos'!B592","v":0},{"$f":"' 6-Inventário de recursos'!D592","v":0},{"$f":"' 6-Inventário de recursos'!C592","v":0},{"$f":"' 6-Inventário de recursos'!E592","v":0},{"$f":"' 6-Inventário de recursos'!F592","v":0},{"$f":"' 6-Inventário de recursos'!L123","v":0},{"$f":"' 6-Inventário de recursos'!H592","v":0},{"$f":"' 6-Inventário de recursos'!#REF!","v":{"$error":"#REF!"}}]
[null,null,null,null,null,null,null,null,null,null,null,null,null,null,null,null,null,null,null,null,null,null,null,null,null,null,null,null,{"$f":"' 6-Inventário de recursos'!B593","v":0},{"$f":"' 6-Inventário de recursos'!D593","v":0},{"$f":"' 6-Inventário de recursos'!C593","v":0},{"$f":"' 6-Inventário de recursos'!E593","v":0},{"$f":"' 6-Inventário de recursos'!F593","v":0},{"$f":"' 6-Inventário de recursos'!L124","v":0},{"$f":"' 6-Inventário de recursos'!H593","v":0},{"$f":"' 6-Inventário de recursos'!#REF!","v":{"$error":"#REF!"}}]
[null,null,null,null,null,null,null,null,null,null,null,null,null,null,null,null,null,null,null,null,null,null,null,null,null,null,null,null,{"$f":"' 6-Inventário de recursos'!B594","v":0},{"$f":"' 6-Inventário de recursos'!D594","v":0},{"$f":"' 6-Inventário de recursos'!C594","v":0},{"$f":"' 6-Inventário de recursos'!E594","v":0},{"$f":"' 6-Inventário de recursos'!F594","v":0},{"$f":"' 6-Inventário de recursos'!L125","v":0},{"$f":"' 6-Inventário de recursos'!H594","v":0},{"$f":"' 6-Inventário de recursos'!#REF!","v":{"$error":"#REF!"}}]
[null,null,null,null,null,null,null,null,null,null,null,null,null,null,null,null,null,null,null,null,null,null,null,null,null,null,null,null,{"$f":"' 6-Inventário de recursos'!B595","v":0},{"$f":"' 6-Inventário de recursos'!D595","v":0},{"$f":"' 6-Inventário de recursos'!C595","v":0},{"$f":"' 6-Inventário de recursos'!E595","v":0},{"$f":"' 6-Inventário de recursos'!F595","v":0},{"$f":"' 6-Inventário de recursos'!L126","v":0},{"$f":"' 6-Inventário de recursos'!H595","v":0},{"$f":"' 6-Inventário de recursos'!#REF!","v":{"$error":"#REF!"}}]
[null,null,null,null,null,null,null,null,null,null,null,null,null,null,null,null,null,null,null,null,null,null,null,null,null,null,null,null,{"$f":"' 6-Inventário de recursos'!B596","v":0},{"$f":"' 6-Inventário de recursos'!D596","v":0},{"$f":"' 6-Inventário de recursos'!C596","v":0},{"$f":"' 6-Inventário de recursos'!E596","v":0},{"$f":"' 6-Inventário de recursos'!F596","v":0},{"$f":"' 6-Inventário de recursos'!L127","v":0},{"$f":"' 6-Inventário de recursos'!H596","v":0},{"$f":"' 6-Inventário de recursos'!#REF!","v":{"$error":"#REF!"}}]
[null,null,null,null,null,null,null,null,null,null,null,null,null,null,null,null,null,null,null,null,null,null,null,null,null,null,null,null,{"$f":"' 6-Inventário de recursos'!B597","v":0},{"$f":"' 6-Inventário de recursos'!D597","v":0},{"$f":"' 6-Inventário de recursos'!C597","v":0},{"$f":"' 6-Inventário de recursos'!E597","v":0},{"$f":"' 6-Inventário de recursos'!F597","v":0},{"$f":"' 6-Inventário de recursos'!L128","v":0},{"$f":"' 6-Inventário de recursos'!H597","v":0},{"$f":"' 6-Inventário de recursos'!#REF!","v":{"$error":"#REF!"}}]
[null,null,null,null,null,null,null,null,null,null,null,null,null,null,null,null,null,null,null,null,null,null,null,null,null,null,null,null,{"$f":"' 6-Inventário de recursos'!B598","v":0},{"$f":"' 6-Inventário de recursos'!D598","v":0},{"$f":"' 6-Inventário de recursos'!C598","v":0},{"$f":"' 6-Inventário de recursos'!E598","v":0},{"$f":"' 6-Inventário de recursos'!F598","v":0},{"$f":"' 6-Inventário de recursos'!L129","v":0},{"$f":"' 6-Inventário de recursos'!H598","v":0},{"$f":"' 6-Inventário de recursos'!#REF!","v":{"$error":"#REF!"}}]
[null,null,null,null,null,null,null,null,null,null,null,null,null,null,null,null,null,null,null,null,null,null,null,null,null,null,null,null,{"$f":"' 6-Inventário de recursos'!B599","v":0},{"$f":"' 6-Inventário de recursos'!D599","v":0},{"$f":"' 6-Inventário de recursos'!C599","v":0},{"$f":"' 6-Inventário de recursos'!E599","v":0},{"$f":"' 6-Inventário de recursos'!F599","v":0},{"$f":"' 6-Inventário de recursos'!L130","v":0},{"$f":"' 6-Inventário de recursos'!H599","v":0},{"$f":"' 6-Inventário de recursos'!#REF!","v":{"$error":"#REF!"}}]
[null,null,null,null,null,null,null,null,null,null,null,null,null,null,null,null,null,null,null,null,null,null,null,null,null,null,null,null,{"$f":"' 6-Inventário de recursos'!B600","v":0},{"$f":"' 6-Inventário de recursos'!D600","v":0},{"$f":"' 6-Inventário de recursos'!C600","v":0},{"$f":"' 6-Inventário de recursos'!E600","v":0},{"$f":"' 6-Inventário de recursos'!F600","v":0},{"$f":"' 6-Inventário de recursos'!L131","v":0},{"$f":"' 6-Inventário de recursos'!H600","v":0},{"$f":"' 6-Inventário de recursos'!#REF!","v":{"$error":"#REF!"}}]
[null,null,null,null,null,null,null,null,null,null,null,null,null,null,null,null,null,null,null,null,null,null,null,null,null,null,null,null,{"$f":"' 6-Inventário de recursos'!B601","v":0},{"$f":"' 6-Inventário de recursos'!D601","v":0},{"$f":"' 6-Inventário de recursos'!C601","v":0},{"$f":"' 6-Inventário de recursos'!E601","v":0},{"$f":"' 6-Inventário de recursos'!F601","v":0},{"$f":"' 6-Inventário de recursos'!L132","v":0},{"$f":"' 6-Inventário de recursos'!H601","v":0},{"$f":"' 6-Inventário de recursos'!#REF!","v":{"$error":"#REF!"}}]
[null,null,null,null,null,null,null,null,null,null,null,null,null,null,null,null,null,null,null,null,null,null,null,null,null,null,null,null,{"$f":"' 6-Inventário de recursos'!B602","v":0},{"$f":"' 6-Inventário de recursos'!D602","v":0},{"$f":"' 6-Inventário de recursos'!C602","v":0},{"$f":"' 6-Inventário de recursos'!E602","v":0},{"$f":"' 6-Inventário de recursos'!F602","v":0},{"$f":"' 6-Inventário de recursos'!L133","v":0},{"$f":"' 6-Inventário de recursos'!H602","v":0},{"$f":"' 6-Inventário de recursos'!#REF!","v":{"$error":"#REF!"}}]
[null,null,null,null,null,null,null,null,null,null,null,null,null,null,null,null,null,null,null,null,null,null,null,null,null,null,null,null,{"$f":"' 6-Inventário de recursos'!B603","v":0},{"$f":"' 6-Inventário de recursos'!D603","v":0},{"$f":"' 6-Inventário de recursos'!C603","v":0},{"$f":"' 6-Inventário de recursos'!E603","v":0},{"$f":"' 6-Inventário de recursos'!F603","v":0},{"$f":"' 6-Inventário de recursos'!L134","v":0},{"$f":"' 6-Inventário de recursos'!H603","v":0},{"$f":"' 6-Inventário de recursos'!#REF!","v":{"$error":"#REF!"}}]
[null,null,null,null,null,null,null,null,null,null,null,null,null,null,null,null,null,null,null,null,null,null,null,null,null,null,null,null,{"$f":"' 6-Inventário de recursos'!B604","v":0},{"$f":"' 6-Inventário de recursos'!D604","v":0},{"$f":"' 6-Inventário de recursos'!C604","v":0},{"$f":"' 6-Inventário de recursos'!E604","v":0},{"$f":"' 6-Inventário de recursos'!F604","v":0},{"$f":"' 6-Inventário de recursos'!L135","v":0},{"$f":"' 6-Inventário de recursos'!H604","v":0},{"$f":"' 6-Inventário de recursos'!#REF!","v":{"$error":"#REF!"}}]
[null,null,null,null,null,null,null,null,null,null,null,null,null,null,null,null,null,null,null,null,null,null,null,null,null,null,null,null,{"$f":"' 6-Inventário de recursos'!B605","v":0},{"$f":"' 6-Inventário de recursos'!D605","v":0},{"$f":"' 6-Inventário de recursos'!C605","v":0},{"$f":"' 6-Inventário de recursos'!E605","v":0},{"$f":"' 6-Inventário de recursos'!F605","v":0},{"$f":"' 6-Inventário de recursos'!L136","v":0},{"$f":"' 6-Inventário de recursos'!H605","v":0},{"$f":"' 6-Inventário de recursos'!#REF!","v":{"$error":"#REF!"}}]
[null,null,null,null,null,null,null,null,null,null,null,null,null,null,null,null,null,null,null,null,null,null,null,null,null,null,null,null,{"$f":"' 6-Inventário de recursos'!B606","v":0},{"$f":"' 6-Inventário de recursos'!D606","v":0},{"$f":"' 6-Inventário de recursos'!C606","v":0},{"$f":"' 6-Inventário de recursos'!E606","v":0},{"$f":"' 6-Inventário de recursos'!F606","v":0},{"$f":"' 6-Inventário de recursos'!L137","v":0},{"$f":"' 6-Inventário de recursos'!H606","v":0},{"$f":"' 6-Inventário de recursos'!#REF!","v":{"$error":"#REF!"}}]
[null,null,null,null,null,null,null,null,null,null,null,null,null,null,null,null,null,null,null,null,null,null,null,null,null,null,null,null,{"$f":"' 6-Inventário de recursos'!B607","v":0},{"$f":"' 6-Inventário de recursos'!D607","v":0},{"$f":"' 6-Inventário de recursos'!C607","v":0},{"$f":"' 6-Inventário de recursos'!E607","v":0},{"$f":"' 6-Inventário de recursos'!F607","v":0},{"$f":"' 6-Inventário de recursos'!L138","v":0},{"$f":"' 6-Inventário de recursos'!H607","v":0},{"$f":"' 6-Inventário de recursos'!#REF!","v":{"$error":"#REF!"}}]
[null,null,null,null,null,null,null,null,null,null,null,null,null,null,null,null,null,null,null,null,null,null,null,null,null,null,null,null,{"$f":"' 6-Inventário de recursos'!B608","v":0},{"$f":"' 6-Inventário de recursos'!D608","v":0},{"$f":"' 6-Inventário de recursos'!C608","v":0},{"$f":"' 6-Inventário de recursos'!E608","v":0},{"$f":"' 6-Inventário de recursos'!F608","v":0},{"$f":"' 6-Inventário de recursos'!L139","v":0},{"$f":"' 6-Inventário de recursos'!H608","v":0},{"$f":"' 6-Inventário de recursos'!#REF!","v":{"$error":"#REF!"}}]
[null,null,null,null,null,null,null,null,null,null,null,null,null,null,null,null,null,null,null,null,null,null,null,null,null,null,null,null,{"$f":"' 6-Inventário de recursos'!B609","v":0},{"$f":"' 6-Inventário de recursos'!D609","v":0},{"$f":"' 6-Inventário de recursos'!C609","v":0},{"$f":"' 6-Inventário de recursos'!E609","v":0},{"$f":"' 6-Inventário de recursos'!F609","v":0},{"$f":"' 6-Inventário de recursos'!L140","v":0},{"$f":"' 6-Inventário de recursos'!H609","v":0},{"$f":"' 6-Inventário de recursos'!#REF!","v":{"$error":"#REF!"}}]
[null,null,null,null,null,null,null,null,null,null,null,null,null,null,null,null,null,null,null,null,null,null,null,null,null,null,null,null,{"$f":"' 6-Inventário de recursos'!B610","v":0},{"$f":"' 6-Inventário de recursos'!D610","v":0},{"$f":"' 6-Inventário de recursos'!C610","v":0},{"$f":"' 6-Inventário de recursos'!E610","v":0},{"$f":"' 6-Inventário de recursos'!F610","v":0},{"$f":"' 6-Inventário de recursos'!L141","v":0},{"$f":"' 6-Inventário de recursos'!H610","v":0},{"$f":"' 6-Inventário de recursos'!#REF!","v":{"$error":"#REF!"}}]
[null,null,null,null,null,null,null,null,null,null,null,null,null,null,null,null,null,null,null,null,null,null,null,null,null,null,null,null,{"$f":"' 6-Inventário de recursos'!B611","v":0},{"$f":"' 6-Inventário de recursos'!D611","v":0},{"$f":"' 6-Inventário de recursos'!C611","v":0},{"$f":"' 6-Inventário de recursos'!E611","v":0},{"$f":"' 6-Inventário de recursos'!F611","v":0},{"$f":"' 6-Inventário de recursos'!L142","v":0},{"$f":"' 6-Inventário de recursos'!H611","v":0},{"$f":"' 6-Inventário de recursos'!#REF!","v":{"$error":"#REF!"}}]
[null,null,null,null,null,null,null,null,null,null,null,null,null,null,null,null,null,null,null,null,null,null,null,null,null,null,null,null,{"$f":"' 6-Inventário de recursos'!B612","v":0},{"$f":"' 6-Inventário de recursos'!D612","v":0},{"$f":"' 6-Inventário de recursos'!C612","v":0},{"$f":"' 6-Inventário de recursos'!E612","v":0},{"$f":"' 6-Inventário de recursos'!F612","v":0},{"$f":"' 6-Inventário de recursos'!L143","v":0},{"$f":"' 6-Inventário de recursos'!H612","v":0},{"$f":"' 6-Inventário de recursos'!#REF!","v":{"$error":"#REF!"}}]
[null,null,null,null,null,null,null,null,null,null,null,null,null,null,null,null,null,null,null,null,null,null,null,null,null,null,null,null,{"$f":"' 6-Inventário de recursos'!B613","v":0},{"$f":"' 6-Inventário de recursos'!D613","v":0},{"$f":"' 6-Inventário de recursos'!C613","v":0},{"$f":"' 6-Inventário de recursos'!E613","v":0},{"$f":"' 6-Inventário de recursos'!F613","v":0},{"$f":"' 6-Inventário de recursos'!L144","v":0},{"$f":"' 6-Inventário de recursos'!H613","v":0},{"$f":"' 6-Inventário de recursos'!#REF!","v":{"$error":"#REF!"}}]
[null,null,null,null,null,null,null,null,null,null,null,null,null,null,null,null,null,null,null,null,null,null,null,null,null,null,null,null,{"$f":"' 6-Inventário de recursos'!B614","v":0},{"$f":"' 6-Inventário de recursos'!D614","v":0},{"$f":"' 6-Inventário de recursos'!C614","v":0},{"$f":"' 6-Inventário de recursos'!E614","v":0},{"$f":"' 6-Inventário de recursos'!F614","v":0},{"$f":"' 6-Inventário de recursos'!L145","v":0},{"$f":"' 6-Inventário de recursos'!H614","v":0},{"$f":"' 6-Inventário de recursos'!#REF!","v":{"$error":"#REF!"}}]
[null,null,null,null,null,null,null,null,null,null,null,null,null,null,null,null,null,null,null,null,null,null,null,null,null,null,null,null,{"$f":"' 6-Inventário de recursos'!B615","v":0},{"$f":"' 6-Inventário de recursos'!D615","v":0},{"$f":"' 6-Inventário de recursos'!C615","v":0},{"$f":"' 6-Inventário de recursos'!E615","v":0},{"$f":"' 6-Inventário de recursos'!F615","v":0},{"$f":"' 6-Inventário de recursos'!L146","v":0},{"$f":"' 6-Inventário de recursos'!H615","v":0},{"$f":"' 6-Inventário de recursos'!#REF!","v":{"$error":"#REF!"}}]
[null,null,null,null,null,null,null,null,null,null,null,null,null,null,null,null,null,null,null,null,null,null,null,null,null,null,null,null,{"$f":"' 6-Inventário de recursos'!B616","v":0},{"$f":"' 6-Inventário de recursos'!D616","v":0},{"$f":"' 6-Inventário de recursos'!C616","v":0},{"$f":"' 6-Inventário de recursos'!E616","v":0},{"$f":"' 6-Inventário de recursos'!F616","v":0},{"$f":"' 6-Inventário de recursos'!L147","v":0},{"$f":"' 6-Inventário de recursos'!H616","v":0},{"$f":"' 6-Inventário de recursos'!#REF!","v":{"$error":"#REF!"}}]
[null,null,null,null,null,null,null,null,null,null,null,null,null,null,null,null,null,null,null,null,null,null,null,null,null,null,null,null,{"$f":"' 6-Inventário de recursos'!B617","v":0},{"$f":"' 6-Inventário de recursos'!D617","v":0},{"$f":"' 6-Inventário de recursos'!C617","v":0},{"$f":"' 6-Inventário de recursos'!E617","v":0},{"$f":"' 6-Inventário de recursos'!F617","v":0},{"$f":"' 6-Inventário de recursos'!L148","v":0},{"$f":"' 6-Inventário de recursos'!H617","v":0},{"$f":"' 6-Inventário de recursos'!#REF!","v":{"$error":"#REF!"}}]
[null,null,null,null,null,null,null,null,null,null,null,null,null,null,null,null,null,null,null,null,null,null,null,null,null,null,null,null,{"$f":"' 6-Inventário de recursos'!B618","v":0},{"$f":"' 6-Inventário de recursos'!D618","v":0},{"$f":"' 6-Inventário de recursos'!C618","v":0},{"$f":"' 6-Inventário de recursos'!E618","v":0},{"$f":"' 6-Inventário de recursos'!F618","v":0},{"$f":"' 6-Inventário de recursos'!L149","v":0},{"$f":"' 6-Inventário de recursos'!H618","v":0},{"$f":"' 6-Inventário de recursos'!#REF!","v":{"$error":"#REF!"}}]
[null,null,null,null,null,null,null,null,null,null,null,null,null,null,null,null,null,null,null,null,null,null,null,null,null,null,null,null,{"$f":"' 6-Inventário de recursos'!B619","v":0},{"$f":"' 6-Inventário de recursos'!D619","v":0},{"$f":"' 6-Inventário de recursos'!C619","v":0},{"$f":"' 6-Inventário de recursos'!E619","v":0},{"$f":"' 6-Inventário de recursos'!F619","v":0},{"$f":"' 6-Inventário de recursos'!L150","v":0},{"$f":"' 6-Inventário de recursos'!H619","v":0},{"$f":"' 6-Inventário de recursos'!#REF!","v":{"$error":"#REF!"}}]
[null,null,null,null,null,null,null,null,null,null,null,null,null,null,null,null,null,null,null,null,null,null,null,null,null,null,null,null,{"$f":"' 6-Inventário de recursos'!B620","v":0},{"$f":"' 6-Inventário de recursos'!D620","v":0},{"$f":"' 6-Inventário de recursos'!C620","v":0},{"$f":"' 6-Inventário de recursos'!E620","v":0},{"$f":"' 6-Inventário de recursos'!F620","v":0},{"$f":"' 6-Inventário de recursos'!L151","v":0},{"$f":"' 6-Inventário de recursos'!H620","v":0},{"$f":"' 6-Inventário de recursos'!#REF!","v":{"$error":"#REF!"}}]
[null,null,null,null,null,null,null,null,null,null,null,null,null,null,null,null,null,null,null,null,null,null,null,null,null,null,null,null,{"$f":"' 6-Inventário de recursos'!B621","v":0},{"$f":"' 6-Inventário de recursos'!D621","v":0},{"$f":"' 6-Inventário de recursos'!C621","v":0},{"$f":"' 6-Inventário de recursos'!E621","v":0},{"$f":"' 6-Inventário de recursos'!F621","v":0},{"$f":"' 6-Inventário de recursos'!L152","v":0},{"$f":"' 6-Inventário de recursos'!H621","v":0},{"$f":"' 6-Inventário de recursos'!#REF!","v":{"$error":"#REF!"}}]
[null,null,null,null,null,null,null,null,null,null,null,null,null,null,null,null,null,null,null,null,null,null,null,null,null,null,null,null,{"$f":"' 6-Inventário de recursos'!B622","v":0},{"$f":"' 6-Inventário de recursos'!D622","v":0},{"$f":"' 6-Inventário de recursos'!C622","v":0},{"$f":"' 6-Inventário de recursos'!E622","v":0},{"$f":"' 6-Inventário de recursos'!F622","v":0},{"$f":"' 6-Inventário de recursos'!L153","v":0},{"$f":"' 6-Inventário de recursos'!H622","v":0},{"$f":"' 6-Inventário de recursos'!#REF!","v":{"$error":"#REF!"}}]
[null,null,null,null,null,null,null,null,null,null,null,null,null,null,null,null,null,null,null,null,null,null,null,null,null,null,null,null,{"$f":"' 6-Inventário de recursos'!B623","v":0},{"$f":"' 6-Inventário de recursos'!D623","v":0},{"$f":"' 6-Inventário de recursos'!C623","v":0},{"$f":"' 6-Inventário de recursos'!E623","v":0},{"$f":"' 6-Inventário de recursos'!F623","v":0},{"$f":"' 6-Inventário de recursos'!L154","v":0},{"$f":"' 6-Inventário de recursos'!H623","v":0},{"$f":"' 6-Inventário de recursos'!#REF!","v":{"$error":"#REF!"}}]
[null,null,null,null,null,null,null,null,null,null,null,null,null,null,null,null,null,null,null,null,null,null,null,null,null,null,null,null,{"$f":"' 6-Inventário de recursos'!B624","v":0},{"$f":"' 6-Inventário de recursos'!D624","v":0},{"$f":"' 6-Inventário de recursos'!C624","v":0},{"$f":"' 6-Inventário de recursos'!E624","v":0},{"$f":"' 6-Inventário de recursos'!F624","v":0},{"$f":"' 6-Inventário de recursos'!L155","v":0},{"$f":"' 6-Inventário de recursos'!H624","v":0},{"$f":"' 6-Inventário de recursos'!#REF!","v":{"$error":"#REF!"}}]
[null,null,null,null,null,null,null,null,null,null,null,null,null,null,null,null,null,null,null,null,null,null,null,null,null,null,null,null,{"$f":"' 6-Inventário de recursos'!B625","v":0},{"$f":"' 6-Inventário de recursos'!D625","v":0},{"$f":"' 6-Inventário de recursos'!C625","v":0},{"$f":"' 6-Inventário de recursos'!E625","v":0},{"$f":"' 6-Inventário de recursos'!F625","v":0},{"$f":"' 6-Inventário de recursos'!L156","v":0},{"$f":"' 6-Inventário de recursos'!H625","v":0},{"$f":"' 6-Inventário de recursos'!#REF!","v":{"$error":"#REF!"}}]
[null,null,null,null,null,null,null,null,null,null,null,null,null,null,null,null,null,null,null,null,null,null,null,null,null,null,null,null,{"$f":"' 6-Inventário de recursos'!B626","v":0},{"$f":"' 6-Inventário de recursos'!D626","v":0},{"$f":"' 6-Inventário de recursos'!C626","v":0},{"$f":"' 6-Inventário de recursos'!E626","v":0},{"$f":"' 6-Inventário de recursos'!F626","v":0},{"$f":"' 6-Inventário de recursos'!L157","v":0},{"$f":"' 6-Inventário de recursos'!H626","v":0},{"$f":"' 6-Inventário de recursos'!#REF!","v":{"$error":"#REF!"}}]
[null,null,null,null,null,null,null,null,null,null,null,null,null,null,null,null,null,null,null,null,null,null,null,null,null,null,null,null,{"$f":"' 6-Inventário de recursos'!B627","v":0},{"$f":"' 6-Inventário de recursos'!D627","v":0},{"$f":"' 6-Inventário de recursos'!C627","v":0},{"$f":"' 6-Inventário de recursos'!E627","v":0},{"$f":"' 6-Inventário de recursos'!F627","v":0},{"$f":"' 6-Inventário de recursos'!L158","v":0},{"$f":"' 6-Inventário de recursos'!H627","v":0},{"$f":"' 6-Inventário de recursos'!#REF!","v":{"$error":"#REF!"}}]
[null,null,null,null,null,null,null,null,null,null,null,null,null,null,null,null,null,null,null,null,null,null,null,null,null,null,null,null,{"$f":"' 6-Inventário de recursos'!B628","v":0},{"$f":"' 6-Inventário de recursos'!D628","v":0},{"$f":"' 6-Inventário de recursos'!C628","v":0},{"$f":"' 6-Inventário de recursos'!E628","v":0},{"$f":"' 6-Inventário de recursos'!F628","v":0},{"$f":"' 6-Inventário de recursos'!L159","v":0},{"$f":"' 6-Inventário de recursos'!H628","v":0},{"$f":"' 6-Inventário de recursos'!#REF!","v":{"$error":"#REF!"}}]
[null,null,null,null,null,null,null,null,null,null,null,null,null,null,null,null,null,null,null,null,null,null,null,null,null,null,null,null,{"$f":"' 6-Inventário de recursos'!B629","v":0},{"$f":"' 6-Inventário de recursos'!D629","v":0},{"$f":"' 6-Inventário de recursos'!C629","v":0},{"$f":"' 6-Inventário de recursos'!E629","v":0},{"$f":"' 6-Inventário de recursos'!F629","v":0},{"$f":"' 6-Inventário de recursos'!L160","v":0},{"$f":"' 6-Inventário de recursos'!H629","v":0},{"$f":"' 6-Inventário de recursos'!#REF!","v":{"$error":"#REF!"}}]
[null,null,null,null,null,null,null,null,null,null,null,null,null,null,null,null,null,null,null,null,null,null,null,null,null,null,null,null,{"$f":"' 6-Inventário de recursos'!B630","v":0},{"$f":"' 6-Inventário de recursos'!D630","v":0},{"$f":"' 6-Inventário de recursos'!C630","v":0},{"$f":"' 6-Inventário de recursos'!E630","v":0},{"$f":"' 6-Inventário de recursos'!F630","v":0},{"$f":"' 6-Inventário de recursos'!L161","v":0},{"$f":"' 6-Inventário de recursos'!H630","v":0},{"$f":"' 6-Inventário de recursos'!#REF!","v":{"$error":"#REF!"}}]
[null,null,null,null,null,null,null,null,null,null,null,null,null,null,null,null,null,null,null,null,null,null,null,null,null,null,null,null,{"$f":"' 6-Inventário de recursos'!B631","v":0},{"$f":"' 6-Inventário de recursos'!D631","v":0},{"$f":"' 6-Inventário de recursos'!C631","v":0},{"$f":"' 6-Inventário de recursos'!E631","v":0},{"$f":"' 6-Inventário de recursos'!F631","v":0},{"$f":"' 6-Inventário de recursos'!L162","v":0},{"$f":"' 6-Inventário de recursos'!H631","v":0},{"$f":"' 6-Inventário de recursos'!#REF!","v":{"$error":"#REF!"}}]
[null,null,null,null,null,null,null,null,null,null,null,null,null,null,null,null,null,null,null,null,null,null,null,null,null,null,null,null,{"$f":"' 6-Inventário de recursos'!B632","v":0},{"$f":"' 6-Inventário de recursos'!D632","v":0},{"$f":"' 6-Inventário de recursos'!C632","v":0},{"$f":"' 6-Inventário de recursos'!E632","v":0},{"$f":"' 6-Inventário de recursos'!F632","v":0},{"$f":"' 6-Inventário de recursos'!L163","v":0},{"$f":"' 6-Inventário de recursos'!H632","v":0},{"$f":"' 6-Inventário de recursos'!#REF!","v":{"$error":"#REF!"}}]
[null,null,null,null,null,null,null,null,null,null,null,null,null,null,null,null,null,null,null,null,null,null,null,null,null,null,null,null,{"$f":"' 6-Inventário de recursos'!B633","v":0},{"$f":"' 6-Inventário de recursos'!D633","v":0},{"$f":"' 6-Inventário de recursos'!C633","v":0},{"$f":"' 6-Inventário de recursos'!E633","v":0},{"$f":"' 6-Inventário de recursos'!F633","v":0},{"$f":"' 6-Inventário de recursos'!L164","v":0},{"$f":"' 6-Inventário de recursos'!H633","v":0},{"$f":"' 6-Inventário de recursos'!#REF!","v":{"$error":"#REF!"}}]
[null,null,null,null,null,null,null,null,null,null,null,null,null,null,null,null,null,null,null,null,null,null,null,null,null,null,null,null,{"$f":"' 6-Inventário de recursos'!B634","v":0},{"$f":"' 6-Inventário de recursos'!D634","v":0},{"$f":"' 6-Inventário de recursos'!C634","v":0},{"$f":"' 6-Inventário de recursos'!E634","v":0},{"$f":"' 6-Inventário de recursos'!F634","v":0},{"$f":"' 6-Inventário de recursos'!L165","v":0},{"$f":"' 6-Inventário de recursos'!H634","v":0},{"$f":"' 6-Inventário de recursos'!#REF!","v":{"$error":"#REF!"}}]
[null,null,null,null,null,null,null,null,null,null,null,null,null,null,null,null,null,null,null,null,null,null,null,null,null,null,null,null,{"$f":"' 6-Inventário de recursos'!B635","v":0},{"$f":"' 6-Inventário de recursos'!D635","v":0},{"$f":"' 6-Inventário de recursos'!C635","v":0},{"$f":"' 6-Inventário de recursos'!E635","v":0},{"$f":"' 6-Inventário de recursos'!F635","v":0},{"$f":"' 6-Inventário de recursos'!L166","v":0},{"$f":"' 6-Inventário de recursos'!H635","v":0},{"$f":"' 6-Inventário de recursos'!#REF!","v":{"$error":"#REF!"}}]
[null,null,null,null,null,null,null,null,null,null,null,null,null,null,null,null,null,null,null,null,null,null,null,null,null,null,null,null,{"$f":"' 6-Inventário de recursos'!B636","v":0},{"$f":"' 6-Inventário de recursos'!D636","v":0},{"$f":"' 6-Inventário de recursos'!C636","v":0},{"$f":"' 6-Inventário de recursos'!E636","v":0},{"$f":"' 6-Inventário de recursos'!F636","v":0},{"$f":"' 6-Inventário de recursos'!L167","v":0},{"$f":"' 6-Inventário de recursos'!H636","v":0},{"$f":"' 6-Inventário de recursos'!#REF!","v":{"$error":"#REF!"}}]
[null,null,null,null,null,null,null,null,null,null,null,null,null,null,null,null,null,null,null,null,null,null,null,null,null,null,null,null,{"$f":"' 6-Inventário de recursos'!B637","v":0},{"$f":"' 6-Inventário de recursos'!D637","v":0},{"$f":"' 6-Inventário de recursos'!C637","v":0},{"$f":"' 6-Inventário de recursos'!E637","v":0},{"$f":"' 6-Inventário de recursos'!F637","v":0},{"$f":"' 6-Inventário de recursos'!L168","v":0},{"$f":"' 6-Inventário de recursos'!H637","v":0},{"$f":"' 6-Inventário de recursos'!#REF!","v":{"$error":"#REF!"}}]
[null,null,null,null,null,null,null,null,null,null,null,null,null,null,null,null,null,null,null,null,null,null,null,null,null,null,null,null,{"$f":"' 6-Inventário de recursos'!B638","v":0},{"$f":"' 6-Inventário de recursos'!D638","v":0},{"$f":"' 6-Inventário de recursos'!C638","v":0},{"$f":"' 6-Inventário de recursos'!E638","v":0},{"$f":"' 6-Inventário de recursos'!F638","v":0},{"$f":"' 6-Inventário de recursos'!L169","v":0},{"$f":"' 6-Inventário de recursos'!H638","v":0},{"$f":"' 6-Inventário de recursos'!#REF!","v":{"$error":"#REF!"}}]
[null,null,null,null,null,null,null,null,null,null,null,null,null,null,null,null,null,null,null,null,null,null,null,null,null,null,null,null,{"$f":"' 6-Inventário de recursos'!B639","v":0},{"$f":"' 6-Inventário de recursos'!D639","v":0},{"$f":"' 6-Inventário de recursos'!C639","v":0},{"$f":"' 6-Inventário de recursos'!E639","v":0},{"$f":"' 6-Inventário de recursos'!F639","v":0},{"$f":"' 6-Inventário de recursos'!L170","v":0},{"$f":"' 6-Inventário de recursos'!H639","v":0},{"$f":"' 6-Inventário de recursos'!#REF!","v":{"$error":"#REF!"}}]
[null,null,null,null,null,null,null,null,null,null,null,null,null,null,null,null,null,null,null,null,null,null,null,null,null,null,null,null,{"$f":"' 6-Inventário de recursos'!B640","v":0},{"$f":"' 6-Inventário de recursos'!D640","v":0},{"$f":"' 6-Inventário de recursos'!C640","v":0},{"$f":"' 6-Inventário de recursos'!E640","v":0},{"$f":"' 6-Inventário de recursos'!F640","v":0},{"$f":"' 6-Inventário de recursos'!L171","v":0},{"$f":"' 6-Inventário de recursos'!H640","v":0},{"$f":"' 6-Inventário de recursos'!#REF!","v":{"$error":"#REF!"}}]
[null,null,null,null,null,null,null,null,null,null,null,null,null,null,null,null,null,null,null,null,null,null,null,null,null,null,null,null,{"$f":"' 6-Inventário de recursos'!B641","v":0},{"$f":"' 6-Inventário de recursos'!D641","v":0},{"$f":"' 6-Inventário de recursos'!C641","v":0},{"$f":"' 6-Inventário de recursos'!E641","v":0},{"$f":"' 6-Inventário de recursos'!F641","v":0},{"$f":"' 6-Inventário de recursos'!L172","v":0},{"$f":"' 6-Inventário de recursos'!H641","v":0},{"$f":"' 6-Inventário de recursos'!#REF!","v":{"$error":"#REF!"}}]
[null,null,null,null,null,null,null,null,null,null,null,null,null,null,null,null,null,null,null,null,null,null,null,null,null,null,null,null,{"$f":"' 6-Inventário de recursos'!B642","v":0},{"$f":"' 6-Inventário de recursos'!D642","v":0},{"$f":"' 6-Inventário de recursos'!C642","v":0},{"$f":"' 6-Inventário de recursos'!E642","v":0},{"$f":"' 6-Inventário de recursos'!F642","v":0},{"$f":"' 6-Inventário de recursos'!L173","v":0},{"$f":"' 6-Inventário de recursos'!H642","v":0},{"$f":"' 6-Inventário de recursos'!#REF!","v":{"$error":"#REF!"}}]
[null,null,null,null,null,null,null,null,null,null,null,null,null,null,null,null,null,null,null,null,null,null,null,null,null,null,null,null,{"$f":"' 6-Inventário de recursos'!B643","v":0},{"$f":"' 6-Inventário de recursos'!D643","v":0},{"$f":"' 6-Inventário de recursos'!C643","v":0},{"$f":"' 6-Inventário de recursos'!E643","v":0},{"$f":"' 6-Inventário de recursos'!F643","v":0},{"$f":"' 6-Inventário de recursos'!L174","v":0},{"$f":"' 6-Inventário de recursos'!H643","v":0},{"$f":"' 6-Inventário de recursos'!#REF!","v":{"$error":"#REF!"}}]
[null,null,null,null,null,null,null,null,null,null,null,null,null,null,null,null,null,null,null,null,null,null,null,null,null,null,null,null,{"$f":"' 6-Inventário de recursos'!B644","v":0},{"$f":"' 6-Inventário de recursos'!D644","v":0},{"$f":"' 6-Inventário de recursos'!C644","v":0},{"$f":"' 6-Inventário de recursos'!E644","v":0},{"$f":"' 6-Inventário de recursos'!F644","v":0},{"$f":"' 6-Inventário de recursos'!L175","v":0},{"$f":"' 6-Inventário de recursos'!H644","v":0},{"$f":"' 6-Inventário de recursos'!#REF!","v":{"$error":"#REF!"}}]
[null,null,null,null,null,null,null,null,null,null,null,null,null,null,null,null,null,null,null,null,null,null,null,null,null,null,null,null,{"$f":"' 6-Inventário de recursos'!B645","v":0},{"$f":"' 6-Inventário de recursos'!D645","v":0},{"$f":"' 6-Inventário de recursos'!C645","v":0},{"$f":"' 6-Inventário de recursos'!E645","v":0},{"$f":"' 6-Inventário de recursos'!F645","v":0},{"$f":"' 6-Inventário de recursos'!L176","v":0},{"$f":"' 6-Inventário de recursos'!H645","v":0},{"$f":"' 6-Inventário de recursos'!#REF!","v":{"$error":"#REF!"}}]
[null,null,null,null,null,null,null,null,null,null,null,null,null,null,null,null,null,null,null,null,null,null,null,null,null,null,null,null,{"$f":"' 6-Inventário de recursos'!B646","v":0},{"$f":"' 6-Inventário de recursos'!D646","v":0},{"$f":"' 6-Inventário de recursos'!C646","v":0},{"$f":"' 6-Inventário de recursos'!E646","v":0},{"$f":"' 6-Inventário de recursos'!F646","v":0},{"$f":"' 6-Inventário de recursos'!L177","v":0},{"$f":"' 6-Inventário de recursos'!H646","v":0},{"$f":"' 6-Inventário de recursos'!#REF!","v":{"$error":"#REF!"}}]
[null,null,null,null,null,null,null,null,null,null,null,null,null,null,null,null,null,null,null,null,null,null,null,null,null,null,null,null,{"$f":"' 6-Inventário de recursos'!B647","v":0},{"$f":"' 6-Inventário de recursos'!D647","v":0},{"$f":"' 6-Inventário de recursos'!C647","v":0},{"$f":"' 6-Inventário de recursos'!E647","v":0},{"$f":"' 6-Inventário de recursos'!F647","v":0},{"$f":"' 6-Inventário de recursos'!L178","v":0},{"$f":"' 6-Inventário de recursos'!H647","v":0},{"$f":"' 6-Inventário de recursos'!#REF!","v":{"$error":"#REF!"}}]
[null,null,null,null,null,null,null,null,null,null,null,null,null,null,null,null,null,null,null,null,null,null,null,null,null,null,null,null,{"$f":"' 6-Inventário de recursos'!B648","v":0},{"$f":"' 6-Inventário de recursos'!D648","v":0},{"$f":"' 6-Inventário de recursos'!C648","v":0},{"$f":"' 6-Inventário de recursos'!E648","v":0},{"$f":"' 6-Inventário de recursos'!F648","v":0},{"$f":"' 6-Inventário de recursos'!L179","v":0},{"$f":"' 6-Inventário de recursos'!H648","v":0},{"$f":"' 6-Inventário de recursos'!#REF!","v":{"$error":"#REF!"}}]
[null,null,null,null,null,null,null,null,null,null,null,null,null,null,null,null,null,null,null,null,null,null,null,null,null,null,null,null,{"$f":"' 6-Inventário de recursos'!B649","v":0},{"$f":"' 6-Inventário de recursos'!D649","v":0},{"$f":"' 6-Inventário de recursos'!C649","v":0},{"$f":"' 6-Inventário de recursos'!E649","v":0},{"$f":"' 6-Inventário de recursos'!F649","v":0},{"$f":"' 6-Inventário de recursos'!L180","v":0},{"$f":"' 6-Inventário de recursos'!H649","v":0},{"$f":"' 6-Inventário de recursos'!#REF!","v":{"$error":"#REF!"}}]
[null,null,null,null,null,null,null,null,null,null,null,null,null,null,null,null,null,null,null,null,null,null,null,null,null,null,null,null,{"$f":"' 6-Inventário de recursos'!B650","v":0},{"$f":"' 6-Inventário de recursos'!D650","v":0},{"$f":"' 6-Inventário de recursos'!C650","v":0},{"$f":"' 6-Inventário de recursos'!E650","v":0},{"$f":"' 6-Inventário de recursos'!F650","v":0},{"$f":"' 6-Inventário de recursos'!L181","v":0},{"$f":"' 6-Inventário de recursos'!H650","v":0},{"$f":"' 6-Inventário de recursos'!#REF!","v":{"$error":"#REF!"}}]
[null,null,null,null,null,null,null,null,null,null,null,null,null,null,null,null,null,null,null,null,null,null,null,null,null,null,null,null,{"$f":"' 6-Inventário de recursos'!B651","v":0},{"$f":"' 6-Inventário de recursos'!D651","v":0},{"$f":"' 6-Inventário de recursos'!C651","v":0},{"$f":"' 6-Inventário de recursos'!E651","v":0},{"$f":"' 6-Inventário de recursos'!F651","v":0},{"$f":"' 6-Inventário de recursos'!L182","v":0},{"$f":"' 6-Inventário de recursos'!H651","v":0},{"$f":"' 6-Inventário de recursos'!#REF!","v":{"$error":"#REF!"}}]
[null,null,null,null,null,null,null,null,null,null,null,null,null,null,null,null,null,null,null,null,null,null,null,null,null,null,null,null,{"$f":"' 6-Inventário de recursos'!B652","v":0},{"$f":"' 6-Inventário de recursos'!D652","v":0},{"$f":"' 6-Inventário de recursos'!C652","v":0},{"$f":"' 6-Inventário de recursos'!E652","v":0},{"$f":"' 6-Inventário de recursos'!F652","v":0},{"$f":"' 6-Inventário de recursos'!L183","v":0},{"$f":"' 6-Inventário de recursos'!H652","v":0},{"$f":"' 6-Inventário de recursos'!#REF!","v":{"$error":"#REF!"}}]
[null,null,null,null,null,null,null,null,null,null,null,null,null,null,null,null,null,null,null,null,null,null,null,null,null,null,null,null,{"$f":"' 6-Inventário de recursos'!B653","v":0},{"$f":"' 6-Inventário de recursos'!D653","v":0},{"$f":"' 6-Inventário de recursos'!C653","v":0},{"$f":"' 6-Inventário de recursos'!E653","v":0},{"$f":"' 6-Inventário de recursos'!F653","v":0},{"$f":"' 6-Inventário de recursos'!L184","v":0},{"$f":"' 6-Inventário de recursos'!H653","v":0},{"$f":"' 6-Inventário de recursos'!#REF!","v":{"$error":"#REF!"}}]
[null,null,null,null,null,null,null,null,null,null,null,null,null,null,null,null,null,null,null,null,null,null,null,null,null,null,null,null,{"$f":"' 6-Inventário de recursos'!B654","v":0},{"$f":"' 6-Inventário de recursos'!D654","v":0},{"$f":"' 6-Inventário de recursos'!C654","v":0},{"$f":"' 6-Inventário de recursos'!E654","v":0},{"$f":"' 6-Inventário de recursos'!F654","v":0},{"$f":"' 6-Inventário de recursos'!L185","v":0},{"$f":"' 6-Inventário de recursos'!H654","v":0},{"$f":"' 6-Inventário de recursos'!#REF!","v":{"$error":"#REF!"}}]
[null,null,null,null,null,null,null,null,null,null,null,null,null,null,null,null,null,null,null,null,null,null,null,null,null,null,null,null,{"$f":"' 6-Inventário de recursos'!B655","v":0},{"$f":"' 6-Inventário de recursos'!D655","v":0},{"$f":"' 6-Inventário de recursos'!C655","v":0},{"$f":"' 6-Inventário de recursos'!E655","v":0},{"$f":"' 6-Inventário de recursos'!F655","v":0},{"$f":"' 6-Inventário de recursos'!L186","v":0},{"$f":"' 6-Inventário de recursos'!H655","v":0},{"$f":"' 6-Inventário de recursos'!#REF!","v":{"$error":"#REF!"}}]
[null,null,null,null,null,null,null,null,null,null,null,null,null,null,null,null,null,null,null,null,null,null,null,null,null,null,null,null,{"$f":"' 6-Inventário de recursos'!B656","v":0},{"$f":"' 6-Inventário de recursos'!D656","v":0},{"$f":"' 6-Inventário de recursos'!C656","v":0},{"$f":"' 6-Inventário de recursos'!E656","v":0},{"$f":"' 6-Inventário de recursos'!F656","v":0},{"$f":"' 6-Inventário de recursos'!L187","v":0},{"$f":"' 6-Inventário de recursos'!H656","v":0},{"$f":"' 6-Inventário de recursos'!#REF!","v":{"$error":"#REF!"}}]
[null,null,null,null,null,null,null,null,null,null,null,null,null,null,null,null,null,null,null,null,null,null,null,null,null,null,null,null,{"$f":"' 6-Inventário de recursos'!B657","v":0},{"$f":"' 6-Inventário de recursos'!D657","v":0},{"$f":"' 6-Inventário de recursos'!C657","v":0},{"$f":"' 6-Inventário de recursos'!E657","v":0},{"$f":"' 6-Inventário de recursos'!F657","v":0},{"$f":"' 6-Inventário de recursos'!L188","v":0},{"$f":"' 6-Inventário de recursos'!H657","v":0},{"$f":"' 6-Inventário de recursos'!#REF!","v":{"$error":"#REF!"}}]
[null,null,null,null,null,null,null,null,null,null,null,null,null,null,null,null,null,null,null,null,null,null,null,null,null,null,null,null,{"$f":"' 6-Inventário de recursos'!B658","v":0},{"$f":"' 6-Inventário de recursos'!D658","v":0},{"$f":"' 6-Inventário de recursos'!C658","v":0},{"$f":"' 6-Inventário de recursos'!E658","v":0},{"$f":"' 6-Inventário de recursos'!F658","v":0},{"$f":"' 6-Inventário de recursos'!L189","v":0},{"$f":"' 6-Inventário de recursos'!H658","v":0},{"$f":"' 6-Inventário de recursos'!#REF!","v":{"$error":"#REF!"}}]
[null,null,null,null,null,null,null,null,null,null,null,null,null,null,null,null,null,null,null,null,null,null,null,null,null,null,null,null,{"$f":"' 6-Inventário de recursos'!B659","v":0},{"$f":"' 6-Inventário de recursos'!D659","v":0},{"$f":"' 6-Inventário de recursos'!C659","v":0},{"$f":"' 6-Inventário de recursos'!E659","v":0},{"$f":"' 6-Inventário de recursos'!F659","v":0},{"$f":"' 6-Inventário de recursos'!L190","v":0},{"$f":"' 6-Inventário de recursos'!H659","v":0},{"$f":"' 6-Inventário de recursos'!#REF!","v":{"$error":"#REF!"}}]
[null,null,null,null,null,null,null,null,null,null,null,null,null,null,null,null,null,null,null,null,null,null,null,null,null,null,null,null,{"$f":"' 6-Inventário de recursos'!B660","v":0},{"$f":"' 6-Inventário de recursos'!D660","v":0},{"$f":"' 6-Inventário de recursos'!C660","v":0},{"$f":"' 6-Inventário de recursos'!E660","v":0},{"$f":"' 6-Inventário de recursos'!F660","v":0},{"$f":"' 6-Inventário de recursos'!L191","v":0},{"$f":"' 6-Inventário de recursos'!H660","v":0},{"$f":"' 6-Inventário de recursos'!#REF!","v":{"$error":"#REF!"}}]
[null,null,null,null,null,null,null,null,null,null,null,null,null,null,null,null,null,null,null,null,null,null,null,null,null,null,null,null,{"$f":"' 6-Inventário de recursos'!B661","v":0},{"$f":"' 6-Inventário de recursos'!D661","v":0},{"$f":"' 6-Inventário de recursos'!C661","v":0},{"$f":"' 6-Inventário de recursos'!E661","v":0},{"$f":"' 6-Inventário de recursos'!F661","v":0},{"$f":"' 6-Inventário de recursos'!L192","v":0},{"$f":"' 6-Inventário de recursos'!H661","v":0},{"$f":"' 6-Inventário de recursos'!#REF!","v":{"$error":"#REF!"}}]
[null,null,null,null,null,null,null,null,null,null,null,null,null,null,null,null,null,null,null,null,null,null,null,null,null,null,null,null,{"$f":"' 6-Inventário de recursos'!B662","v":0},{"$f":"' 6-Inventário de recursos'!D662","v":0},{"$f":"' 6-Inventário de recursos'!C662","v":0},{"$f":"' 6-Inventário de recursos'!E662","v":0},{"$f":"' 6-Inventário de recursos'!F662","v":0},{"$f":"' 6-Inventário de recursos'!L193","v":0},{"$f":"' 6-Inventário de recursos'!H662","v":0},{"$f":"' 6-Inventário de recursos'!#REF!","v":{"$error":"#REF!"}}]
[null,null,null,null,null,null,null,null,null,null,null,null,null,null,null,null,null,null,null,null,null,null,null,null,null,null,null,null,{"$f":"' 6-Inventário de recursos'!B663","v":0},{"$f":"' 6-Inventário de recursos'!D663","v":0},{"$f":"' 6-Inventário de recursos'!C663","v":0},{"$f":"' 6-Inventário de recursos'!E663","v":0},{"$f":"' 6-Inventário de recursos'!F663","v":0},{"$f":"' 6-Inventário de recursos'!L194","v":0},{"$f":"' 6-Inventário de recursos'!H663","v":0},{"$f":"' 6-Inventário de recursos'!#REF!","v":{"$error":"#REF!"}}]
[null,null,null,null,null,null,null,null,null,null,null,null,null,null,null,null,null,null,null,null,null,null,null,null,null,null,null,null,{"$f":"' 6-Inventário de recursos'!B664","v":0},{"$f":"' 6-Inventário de recursos'!D664","v":0},{"$f":"' 6-Inventário de recursos'!C664","v":0},{"$f":"' 6-Inventário de recursos'!E664","v":0},{"$f":"' 6-Inventário de recursos'!F664","v":0},{"$f":"' 6-Inventário de recursos'!L195","v":0},{"$f":"' 6-Inventário de recursos'!H664","v":0},{"$f":"' 6-Inventário de recursos'!#REF!","v":{"$error":"#REF!"}}]
[null,null,null,null,null,null,null,null,null,null,null,null,null,null,null,null,null,null,null,null,null,null,null,null,null,null,null,null,{"$f":"' 6-Inventário de recursos'!B665","v":0},{"$f":"' 6-Inventário de recursos'!D665","v":0},{"$f":"' 6-Inventário de recursos'!C665","v":0},{"$f":"' 6-Inventário de recursos'!E665","v":0},{"$f":"' 6-Inventário de recursos'!F665","v":0},{"$f":"' 6-Inventário de recursos'!L196","v":0},{"$f":"' 6-Inventário de recursos'!H665","v":0},{"$f":"' 6-Inventário de recursos'!#REF!","v":{"$error":"#REF!"}}]
[null,null,null,null,null,null,null,null,null,null,null,null,null,null,null,null,null,null,null,null,null,null,null,null,null,null,null,null,{"$f":"' 6-Inventário de recursos'!B666","v":0},{"$f":"' 6-Inventário de recursos'!D666","v":0},{"$f":"' 6-Inventário de recursos'!C666","v":0},{"$f":"' 6-Inventário de recursos'!E666","v":0},{"$f":"' 6-Inventário de recursos'!F666","v":0},{"$f":"' 6-Inventário de recursos'!L197","v":0},{"$f":"' 6-Inventário de recursos'!H666","v":0},{"$f":"' 6-Inventário de recursos'!#REF!","v":{"$error":"#REF!"}}]
[null,null,null,null,null,null,null,null,null,null,null,null,null,null,null,null,null,null,null,null,null,null,null,null,null,null,null,null,{"$f":"' 6-Inventário de recursos'!B667","v":0},{"$f":"' 6-Inventário de recursos'!D667","v":0},{"$f":"' 6-Inventário de recursos'!C667","v":0},{"$f":"' 6-Inventário de recursos'!E667","v":0},{"$f":"' 6-Inventário de recursos'!F667","v":0},{"$f":"' 6-Inventário de recursos'!L198","v":0},{"$f":"' 6-Inventário de recursos'!H667","v":0},{"$f":"' 6-Inventário de recursos'!#REF!","v":{"$error":"#REF!"}}]
[null,null,null,null,null,null,null,null,null,null,null,null,null,null,null,null,null,null,null,null,null,null,null,null,null,null,null,null,{"$f":"' 6-Inventário de recursos'!B668","v":0},{"$f":"' 6-Inventário de recursos'!D668","v":0},{"$f":"' 6-Inventário de recursos'!C668","v":0},{"$f":"' 6-Inventário de recursos'!E668","v":0},{"$f":"' 6-Inventário de recursos'!F668","v":0},{"$f":"' 6-Inventário de recursos'!L199","v":0},{"$f":"' 6-Inventário de recursos'!H668","v":0},{"$f":"' 6-Inventário de recursos'!#REF!","v":{"$error":"#REF!"}}]
[null,null,null,null,null,null,null,null,null,null,null,null,null,null,null,null,null,null,null,null,null,null,null,null,null,null,null,null,{"$f":"' 6-Inventário de recursos'!B669","v":0},{"$f":"' 6-Inventário de recursos'!D669","v":0},{"$f":"' 6-Inventário de recursos'!C669","v":0},{"$f":"' 6-Inventário de recursos'!E669","v":0},{"$f":"' 6-Inventário de recursos'!F669","v":0},{"$f":"' 6-Inventário de recursos'!L200","v":0},{"$f":"' 6-Inventário de recursos'!H669","v":0},{"$f":"' 6-Inventário de recursos'!#REF!","v":{"$error":"#REF!"}}]
[null,null,null,null,null,null,null,null,null,null,null,null,null,null,null,null,null,null,null,null,null,null,null,null,null,null,null,null,{"$f":"' 6-Inventário de recursos'!B670","v":0},{"$f":"' 6-Inventário de recursos'!D670","v":0},{"$f":"' 6-Inventário de recursos'!C670","v":0},{"$f":"' 6-Inventário de recursos'!E670","v":0},{"$f":"' 6-Inventário de recursos'!F670","v":0},{"$f":"' 6-Inventário de recursos'!L201","v":0},{"$f":"' 6-Inventário de recursos'!H670","v":0},{"$f":"' 6-Inventário de recursos'!#REF!","v":{"$error":"#REF!"}}]
[null,null,null,null,null,null,null,null,null,null,null,null,null,null,null,null,null,null,null,null,null,null,null,null,null,null,null,null,{"$f":"' 6-Inventário de recursos'!B671","v":0},{"$f":"' 6-Inventário de recursos'!D671","v":0},{"$f":"' 6-Inventário de recursos'!C671","v":0},{"$f":"' 6-Inventário de recursos'!E671","v":0},{"$f":"' 6-Inventário de recursos'!F671","v":0},{"$f":"' 6-Inventário de recursos'!L202","v":0},{"$f":"' 6-Inventário de recursos'!H671","v":0},{"$f":"' 6-Inventário de recursos'!#REF!","v":{"$error":"#REF!"}}]
[null,null,null,null,null,null,null,null,null,null,null,null,null,null,null,null,null,null,null,null,null,null,null,null,null,null,null,null,{"$f":"' 6-Inventário de recursos'!B672","v":0},{"$f":"' 6-Inventário de recursos'!D672","v":0},{"$f":"' 6-Inventário de recursos'!C672","v":0},{"$f":"' 6-Inventário de recursos'!E672","v":0},{"$f":"' 6-Inventário de recursos'!F672","v":0},{"$f":"' 6-Inventário de recursos'!L203","v":0},{"$f":"' 6-Inventário de recursos'!H672","v":0},{"$f":"' 6-Inventário de recursos'!#REF!","v":{"$error":"#REF!"}}]
[null,null,null,null,null,null,null,null,null,null,null,null,null,null,null,null,null,null,null,null,null,null,null,null,null,null,null,null,{"$f":"' 6-Inventário de recursos'!B673","v":0},{"$f":"' 6-Inventário de recursos'!D673","v":0},{"$f":"' 6-Inventário de recursos'!C673","v":0},{"$f":"' 6-Inventário de recursos'!E673","v":0},{"$f":"' 6-Inventário de recursos'!F673","v":0},{"$f":"' 6-Inventário de recursos'!L204","v":0},{"$f":"' 6-Inventário de recursos'!H673","v":0},{"$f":"' 6-Inventário de recursos'!#REF!","v":{"$error":"#REF!"}}]
[null,null,null,null,null,null,null,null,null,null,null,null,null,null,null,null,null,null,null,null,null,null,null,null,null,null,null,null,{"$f":"' 6-Inventário de recursos'!B674","v":0},{"$f":"' 6-Inventário de recursos'!D674","v":0},{"$f":"' 6-Inventário de recursos'!C674","v":0},{"$f":"' 6-Inventário de recursos'!E674","v":0},{"$f":"' 6-Inventário de recursos'!F674","v":0},{"$f":"' 6-Inventário de recursos'!L205","v":0},{"$f":"' 6-Inventário de recursos'!H674","v":0},{"$f":"' 6-Inventário de recursos'!#REF!","v":{"$error":"#REF!"}}]
[null,null,null,null,null,null,null,null,null,null,null,null,null,null,null,null,null,null,null,null,null,null,null,null,null,null,null,null,{"$f":"' 6-Inventário de recursos'!B675","v":0},{"$f":"' 6-Inventário de recursos'!D675","v":0},{"$f":"' 6-Inventário de recursos'!C675","v":0},{"$f":"' 6-Inventário de recursos'!E675","v":0},{"$f":"' 6-Inventário de recursos'!F675","v":0},{"$f":"' 6-Inventário de recursos'!L206","v":0},{"$f":"' 6-Inventário de recursos'!H675","v":0},{"$f":"' 6-Inventário de recursos'!#REF!","v":{"$error":"#REF!"}}]
[null,null,null,null,null,null,null,null,null,null,null,null,null,null,null,null,null,null,null,null,null,null,null,null,null,null,null,null,{"$f":"' 6-Inventário de recursos'!B676","v":0},{"$f":"' 6-Inventário de recursos'!D676","v":0},{"$f":"' 6-Inventário de recursos'!C676","v":0},{"$f":"' 6-Inventário de recursos'!E676","v":0},{"$f":"' 6-Inventário de recursos'!F676","v":0},{"$f":"' 6-Inventário de recursos'!L207","v":0},{"$f":"' 6-Inventário de recursos'!H676","v":0},{"$f":"' 6-Inventário de recursos'!#REF!","v":{"$error":"#REF!"}}]
[null,null,null,null,null,null,null,null,null,null,null,null,null,null,null,null,null,null,null,null,null,null,null,null,null,null,null,null,{"$f":"' 6-Inventário de recursos'!B677","v":0},{"$f":"' 6-Inventário de recursos'!D677","v":0},{"$f":"' 6-Inventário de recursos'!C677","v":0},{"$f":"' 6-Inventário de recursos'!E677","v":0},{"$f":"' 6-Inventário de recursos'!F677","v":0},{"$f":"' 6-Inventário de recursos'!L208","v":0},{"$f":"' 6-Inventário de recursos'!H677","v":0},{"$f":"' 6-Inventário de recursos'!#REF!","v":{"$error":"#REF!"}}]
[null,null,null,null,null,null,null,null,null,null,null,null,null,null,null,null,null,null,null,null,null,null,null,null,null,null,null,null,{"$f":"' 6-Inventário de recursos'!B678","v":0},{"$f":"' 6-Inventário de recursos'!D678","v":0},{"$f":"' 6-Inventário de recursos'!C678","v":0},{"$f":"' 6-Inventário de recursos'!E678","v":0},{"$f":"' 6-Inventário de recursos'!F678","v":0},{"$f":"' 6-Inventário de recursos'!L209","v":0},{"$f":"' 6-Inventário de recursos'!H678","v":0},{"$f":"' 6-Inventário de recursos'!#REF!","v":{"$error":"#REF!"}}]
[null,null,null,null,null,null,null,null,null,null,null,null,null,null,null,null,null,null,null,null,null,null,null,null,null,null,null,null,{"$f":"' 6-Inventário de recursos'!B679","v":0},{"$f":"' 6-Inventário de recursos'!D679","v":0},{"$f":"' 6-Inventário de recursos'!C679","v":0},{"$f":"' 6-Inventário de recursos'!E679","v":0},{"$f":"' 6-Inventário de recursos'!F679","v":0},{"$f":"' 6-Inventário de recursos'!L210","v":0},{"$f":"' 6-Inventário de recursos'!H679","v":0},{"$f":"' 6-Inventário de recursos'!#REF!","v":{"$error":"#REF!"}}]
[null,null,null,null,null,null,null,null,null,null,null,null,null,null,null,null,null,null,null,null,null,null,null,null,null,null,null,null,{"$f":"' 6-Inventário de recursos'!B680","v":0},{"$f":"' 6-Inventário de recursos'!D680","v":0},{"$f":"' 6-Inventário de recursos'!C680","v":0},{"$f":"' 6-Inventário de recursos'!E680","v":0},{"$f":"' 6-Inventário de recursos'!F680","v":0},{"$f":"' 6-Inventário de recursos'!L211","v":0},{"$f":"' 6-Inventário de recursos'!H680","v":0},{"$f":"' 6-Inventário de recursos'!#REF!","v":{"$error":"#REF!"}}]
[null,null,null,null,null,null,null,null,null,null,null,null,null,null,null,null,null,null,null,null,null,null,null,null,null,null,null,null,{"$f":"' 6-Inventário de recursos'!B681","v":0},{"$f":"' 6-Inventário de recursos'!D681","v":0},{"$f":"' 6-Inventário de recursos'!C681","v":0},{"$f":"' 6-Inventário de recursos'!E681","v":0},{"$f":"' 6-Inventário de recursos'!F681","v":0},{"$f":"' 6-Inventário de recursos'!L212","v":0},{"$f":"' 6-Inventário de recursos'!H681","v":0},{"$f":"' 6-Inventário de recursos'!#REF!","v":{"$error":"#REF!"}}]
[null,null,null,null,null,null,null,null,null,null,null,null,null,null,null,null,null,null,null,null,null,null,null,null,null,null,null,null,{"$f":"' 6-Inventário de recursos'!B682","v":0},{"$f":"' 6-Inventário de recursos'!D682","v":0},{"$f":"' 6-Inventário de recursos'!C682","v":0},{"$f":"' 6-Inventário de recursos'!E682","v":0},{"$f":"' 6-Inventário de recursos'!F682","v":0},{"$f":"' 6-Inventário de recursos'!L213","v":0},{"$f":"' 6-Inventário de recursos'!H682","v":0},{"$f":"' 6-Inventário de recursos'!#REF!","v":{"$error":"#REF!"}}]
[null,null,null,null,null,null,null,null,null,null,null,null,null,null,null,null,null,null,null,null,null,null,null,null,null,null,null,null,{"$f":"' 6-Inventário de recursos'!B683","v":0},{"$f":"' 6-Inventário de recursos'!D683","v":0},{"$f":"' 6-Inventário de recursos'!C683","v":0},{"$f":"' 6-Inventário de recursos'!E683","v":0},{"$f":"' 6-Inventário de recursos'!F683","v":0},{"$f":"' 6-Inventário de recursos'!L214","v":0},{"$f":"' 6-Inventário de recursos'!H683","v":0},{"$f":"' 6-Inventário de recursos'!#REF!","v":{"$error":"#REF!"}}]
[null,null,null,null,null,null,null,null,null,null,null,null,null,null,null,null,null,null,null,null,null,null,null,null,null,null,null,null,{"$f":"' 6-Inventário de recursos'!B684","v":0},{"$f":"' 6-Inventário de recursos'!D684","v":0},{"$f":"' 6-Inventário de recursos'!C684","v":0},{"$f":"' 6-Inventário de recursos'!E684","v":0},{"$f":"' 6-Inventário de recursos'!F684","v":0},{"$f":"' 6-Inventário de recursos'!L215","v":0},{"$f":"' 6-Inventário de recursos'!H684","v":0},{"$f":"' 6-Inventário de recursos'!#REF!","v":{"$error":"#REF!"}}]
[null,null,null,null,null,null,null,null,null,null,null,null,null,null,null,null,null,null,null,null,null,null,null,null,null,null,null,null,{"$f":"' 6-Inventário de recursos'!B685","v":0},{"$f":"' 6-Inventário de recursos'!D685","v":0},{"$f":"' 6-Inventário de recursos'!C685","v":0},{"$f":"' 6-Inventário de recursos'!E685","v":0},{"$f":"' 6-Inventário de recursos'!F685","v":0},{"$f":"' 6-Inventário de recursos'!L216","v":0},{"$f":"' 6-Inventário de recursos'!H685","v":0},{"$f":"' 6-Inventário de recursos'!#REF!","v":{"$error":"#REF!"}}]
[null,null,null,null,null,null,null,null,null,null,null,null,null,null,null,null,null,null,null,null,null,null,null,null,null,null,null,null,{"$f":"' 6-Inventário de recursos'!B686","v":0},{"$f":"' 6-Inventário de recursos'!D686","v":0},{"$f":"' 6-Inventário de recursos'!C686","v":0},{"$f":"' 6-Inventário de recursos'!E686","v":0},{"$f":"' 6-Inventário de recursos'!F686","v":0},{"$f":"' 6-Inventário de recursos'!L217","v":0},{"$f":"' 6-Inventário de recursos'!H686","v":0},{"$f":"' 6-Inventário de recursos'!#REF!","v":{"$error":"#REF!"}}]
[null,null,null,null,null,null,null,null,null,null,null,null,null,null,null,null,null,null,null,null,null,null,null,null,null,null,null,null,{"$f":"' 6-Inventário de recursos'!B687","v":0},{"$f":"' 6-Inventário de recursos'!D687","v":0},{"$f":"' 6-Inventário de recursos'!C687","v":0},{"$f":"' 6-Inventário de recursos'!E687","v":0},{"$f":"' 6-Inventário de recursos'!F687","v":0},{"$f":"' 6-Inventário de recursos'!L218","v":0},{"$f":"' 6-Inventário de recursos'!H687","v":0},{"$f":"' 6-Inventário de recursos'!#REF!","v":{"$error":"#REF!"}}]
[null,null,null,null,null,null,null,null,null,null,null,null,null,null,null,null,null,null,null,null,null,null,null,null,null,null,null,null,{"$f":"' 6-Inventário de recursos'!B688","v":0},{"$f":"' 6-Inventário de recursos'!D688","v":0},{"$f":"' 6-Inventário de recursos'!C688","v":0},{"$f":"' 6-Inventário de recursos'!E688","v":0},{"$f":"' 6-Inventário de recursos'!F688","v":0},{"$f":"' 6-Inventário de recursos'!L219","v":0},{"$f":"' 6-Inventário de recursos'!H688","v":0},{"$f":"' 6-Inventário de recursos'!#REF!","v":{"$error":"#REF!"}}]
[null,null,null,null,null,null,null,null,null,null,null,null,null,null,null,null,null,null,null,null,null,null,null,null,null,null,null,null,{"$f":"' 6-Inventário de recursos'!B689","v":0},{"$f":"' 6-Inventário de recursos'!D689","v":0},{"$f":"' 6-Inventário de recursos'!C689","v":0},{"$f":"' 6-Inventário de recursos'!E689","v":0},{"$f":"' 6-Inventário de recursos'!F689","v":0},{"$f":"' 6-Inventário de recursos'!L220","v":0},{"$f":"' 6-Inventário de recursos'!H689","v":0},{"$f":"' 6-Inventário de recursos'!#REF!","v":{"$error":"#REF!"}}]
[null,null,null,null,null,null,null,null,null,null,null,null,null,null,null,null,null,null,null,null,null,null,null,null,null,null,null,null,{"$f":"' 6-Inventário de recursos'!B690","v":0},{"$f":"' 6-Inventário de recursos'!D690","v":0},{"$f":"' 6-Inventário de recursos'!C690","v":0},{"$f":"' 6-Inventário de recursos'!E690","v":0},{"$f":"' 6-Inventário de recursos'!F690","v":0},{"$f":"' 6-Inventário de recursos'!L221","v":0},{"$f":"' 6-Inventário de recursos'!H690","v":0},{"$f":"' 6-Inventário de recursos'!#REF!","v":{"$error":"#REF!"}}]
[null,null,null,null,null,null,null,null,null,null,null,null,null,null,null,null,null,null,null,null,null,null,null,null,null,null,null,null,{"$f":"' 6-Inventário de recursos'!B691","v":0},{"$f":"' 6-Inventário de recursos'!D691","v":0},{"$f":"' 6-Inventário de recursos'!C691","v":0},{"$f":"' 6-Inventário de recursos'!E691","v":0},{"$f":"' 6-Inventário de recursos'!F691","v":0},{"$f":"' 6-Inventário de recursos'!L222","v":0},{"$f":"' 6-Inventário de recursos'!H691","v":0},{"$f":"' 6-Inventário de recursos'!#REF!","v":{"$error":"#REF!"}}]
[null,null,null,null,null,null,null,null,null,null,null,null,null,null,null,null,null,null,null,null,null,null,null,null,null,null,null,null,{"$f":"' 6-Inventário de recursos'!B692","v":0},{"$f":"' 6-Inventário de recursos'!D692","v":0},{"$f":"' 6-Inventário de recursos'!C692","v":0},{"$f":"' 6-Inventário de recursos'!E692","v":0},{"$f":"' 6-Inventário de recursos'!F692","v":0},{"$f":"' 6-Inventário de recursos'!L223","v":0},{"$f":"' 6-Inventário de recursos'!H692","v":0},{"$f":"' 6-Inventário de recursos'!#REF!","v":{"$error":"#REF!"}}]
[null,null,null,null,null,null,null,null,null,null,null,null,null,null,null,null,null,null,null,null,null,null,null,null,null,null,null,null,{"$f":"' 6-Inventário de recursos'!B693","v":0},{"$f":"' 6-Inventário de recursos'!D693","v":0},{"$f":"' 6-Inventário de recursos'!C693","v":0},{"$f":"' 6-Inventário de recursos'!E693","v":0},{"$f":"' 6-Inventário de recursos'!F693","v":0},{"$f":"' 6-Inventário de recursos'!L224","v":0},{"$f":"' 6-Inventário de recursos'!H693","v":0},{"$f":"' 6-Inventário de recursos'!#REF!","v":{"$error":"#REF!"}}]
[null,null,null,null,null,null,null,null,null,null,null,null,null,null,null,null,null,null,null,null,null,null,null,null,null,null,null,null,{"$f":"' 6-Inventário de recursos'!B694","v":0},{"$f":"' 6-Inventário de recursos'!D694","v":0},{"$f":"' 6-Inventário de recursos'!C694","v":0},{"$f":"' 6-Inventário de recursos'!E694","v":0},{"$f":"' 6-Inventário de recursos'!F694","v":0},{"$f":"' 6-Inventário de recursos'!L225","v":0},{"$f":"' 6-Inventário de recursos'!H694","v":0},{"$f":"' 6-Inventário de recursos'!#REF!","v":{"$error":"#REF!"}}]
[null,null,null,null,null,null,null,null,null,null,null,null,null,null,null,null,null,null,null,null,null,null,null,null,null,null,null,null,{"$f":"' 6-Inventário de recursos'!B695","v":0},{"$f":"' 6-Inventário de recursos'!D695","v":0},{"$f":"' 6-Inventário de recursos'!C695","v":0},{"$f":"' 6-Inventário de recursos'!E695","v":0},{"$f":"' 6-Inventário de recursos'!F695","v":0},{"$f":"' 6-Inventário de recursos'!L226","v":0},{"$f":"' 6-Inventário de recursos'!H695","v":0},{"$f":"' 6-Inventário de recursos'!#REF!","v":{"$error":"#REF!"}}]
[null,null,null,null,null,null,null,null,null,null,null,null,null,null,null,null,null,null,null,null,null,null,null,null,null,null,null,null,{"$f":"' 6-Inventário de recursos'!B696","v":0},{"$f":"' 6-Inventário de recursos'!D696","v":0},{"$f":"' 6-Inventário de recursos'!C696","v":0},{"$f":"' 6-Inventário de recursos'!E696","v":0},{"$f":"' 6-Inventário de recursos'!F696","v":0},{"$f":"' 6-Inventário de recursos'!L227","v":0},{"$f":"' 6-Inventário de recursos'!H696","v":0},{"$f":"' 6-Inventário de recursos'!#REF!","v":{"$error":"#REF!"}}]
[null,null,null,null,null,null,null,null,null,null,null,null,null,null,null,null,null,null,null,null,null,null,null,null,null,null,null,null,{"$f":"' 6-Inventário de recursos'!B697","v":0},{"$f":"' 6-Inventário de recursos'!D697","v":0},{"$f":"' 6-Inventário de recursos'!C697","v":0},{"$f":"' 6-Inventário de recursos'!E697","v":0},{"$f":"' 6-Inventário de recursos'!F697","v":0},{"$f":"' 6-Inventário de recursos'!L228","v":0},{"$f":"' 6-Inventário de recursos'!H697","v":0},{"$f":"' 6-Inventário de recursos'!#REF!","v":{"$error":"#REF!"}}]
[null,null,null,null,null,null,null,null,null,null,null,null,null,null,null,null,null,null,null,null,null,null,null,null,null,null,null,null,{"$f":"' 6-Inventário de recursos'!B698","v":0},{"$f":"' 6-Inventário de recursos'!D698","v":0},{"$f":"' 6-Inventário de recursos'!C698","v":0},{"$f":"' 6-Inventário de recursos'!E698","v":0},{"$f":"' 6-Inventário de recursos'!F698","v":0},{"$f":"' 6-Inventário de recursos'!L229","v":0},{"$f":"' 6-Inventário de recursos'!H698","v":0},{"$f":"' 6-Inventário de recursos'!#REF!","v":{"$error":"#REF!"}}]
[null,null,null,null,null,null,null,null,null,null,null,null,null,null,null,null,null,null,null,null,null,null,null,null,null,null,null,null,{"$f":"' 6-Inventário de recursos'!B699","v":0},{"$f":"' 6-Inventário de recursos'!D699","v":0},{"$f":"' 6-Inventário de recursos'!C699","v":0},{"$f":"' 6-Inventário de recursos'!E699","v":0},{"$f":"' 6-Inventário de recursos'!F699","v":0},{"$f":"' 6-Inventário de recursos'!L230","v":0},{"$f":"' 6-Inventário de recursos'!H699","v":0},{"$f":"' 6-Inventário de recursos'!#REF!","v":{"$error":"#REF!"}}]
[null,null,null,null,null,null,null,null,null,null,null,null,null,null,null,null,null,null,null,null,null,null,null,null,null,null,null,null,{"$f":"' 6-Inventário de recursos'!B700","v":0},{"$f":"' 6-Inventário de recursos'!D700","v":0},{"$f":"' 6-Inventário de recursos'!C700","v":0},{"$f":"' 6-Inventário de recursos'!E700","v":0},{"$f":"' 6-Inventário de recursos'!F700","v":0},{"$f":"' 6-Inventário de recursos'!L231","v":0},{"$f":"' 6-Inventário de recursos'!H700","v":0},{"$f":"' 6-Inventário de recursos'!#REF!","v":{"$error":"#REF!"}}]
[null,null,null,null,null,null,null,null,null,null,null,null,null,null,null,null,null,null,null,null,null,null,null,null,null,null,null,null,{"$f":"' 6-Inventário de recursos'!B701","v":0},{"$f":"' 6-Inventário de recursos'!D701","v":0},{"$f":"' 6-Inventário de recursos'!C701","v":0},{"$f":"' 6-Inventário de recursos'!E701","v":0},{"$f":"' 6-Inventário de recursos'!F701","v":0},{"$f":"' 6-Inventário de recursos'!L232","v":0},{"$f":"' 6-Inventário de recursos'!H701","v":0},{"$f":"' 6-Inventário de recursos'!#REF!","v":{"$error":"#REF!"}}]
[null,null,null,null,null,null,null,null,null,null,null,null,null,null,null,null,null,null,null,null,null,null,null,null,null,null,null,null,{"$f":"' 6-Inventário de recursos'!B702","v":0},{"$f":"' 6-Inventário de recursos'!D702","v":0},{"$f":"' 6-Inventário de recursos'!C702","v":0},{"$f":"' 6-Inventário de recursos'!E702","v":0},{"$f":"' 6-Inventário de recursos'!F702","v":0},{"$f":"' 6-Inventário de recursos'!L233","v":0},{"$f":"' 6-Inventário de recursos'!H702","v":0},{"$f":"' 6-Inventário de recursos'!#REF!","v":{"$error":"#REF!"}}]
[null,null,null,null,null,null,null,null,null,null,null,null,null,null,null,null,null,null,null,null,null,null,null,null,null,null,null,null,{"$f":"' 6-Inventário de recursos'!B703","v":0},{"$f":"' 6-Inventário de recursos'!D703","v":0},{"$f":"' 6-Inventário de recursos'!C703","v":0},{"$f":"' 6-Inventário de recursos'!E703","v":0},{"$f":"' 6-Inventário de recursos'!F703","v":0},{"$f":"' 6-Inventário de recursos'!L234","v":0},{"$f":"' 6-Inventário de recursos'!H703","v":0},{"$f":"' 6-Inventário de recursos'!#REF!","v":{"$error":"#REF!"}}]
[null,null,null,null,null,null,null,null,null,null,null,null,null,null,null,null,null,null,null,null,null,null,null,null,null,null,null,null,{"$f":"' 6-Inventário de recursos'!B704","v":0},{"$f":"' 6-Inventário de recursos'!D704","v":0},{"$f":"' 6-Inventário de recursos'!C704","v":0},{"$f":"' 6-Inventário de recursos'!E704","v":0},{"$f":"' 6-Inventário de recursos'!F704","v":0},{"$f":"' 6-Inventário de recursos'!L235","v":0},{"$f":"' 6-Inventário de recursos'!H704","v":0},{"$f":"' 6-Inventário de recursos'!#REF!","v":{"$error":"#REF!"}}]
[null,null,null,null,null,null,null,null,null,null,null,null,null,null,null,null,null,null,null,null,null,null,null,null,null,null,null,null,{"$f":"' 6-Inventário de recursos'!B705","v":0},{"$f":"' 6-Inventário de recursos'!D705","v":0},{"$f":"' 6-Inventário de recursos'!C705","v":0},{"$f":"' 6-Inventário de recursos'!E705","v":0},{"$f":"' 6-Inventário de recursos'!F705","v":0},{"$f":"' 6-Inventário de recursos'!L236","v":0},{"$f":"' 6-Inventário de recursos'!H705","v":0},{"$f":"' 6-Inventário de recursos'!#REF!","v":{"$error":"#REF!"}}]
[null,null,null,null,null,null,null,null,null,null,null,null,null,null,null,null,null,null,null,null,null,null,null,null,null,null,null,null,{"$f":"' 6-Inventário de recursos'!B706","v":0},{"$f":"' 6-Inventário de recursos'!D706","v":0},{"$f":"' 6-Inventário de recursos'!C706","v":0},{"$f":"' 6-Inventário de recursos'!E706","v":0},{"$f":"' 6-Inventário de recursos'!F706","v":0},{"$f":"' 6-Inventário de recursos'!L237","v":0},{"$f":"' 6-Inventário de recursos'!H706","v":0},{"$f":"' 6-Inventário de recursos'!#REF!","v":{"$error":"#REF!"}}]
[null,null,null,null,null,null,null,null,null,null,null,null,null,null,null,null,null,null,null,null,null,null,null,null,null,null,null,null,{"$f":"' 6-Inventário de recursos'!B707","v":0},{"$f":"' 6-Inventário de recursos'!D707","v":0},{"$f":"' 6-Inventário de recursos'!C707","v":0},{"$f":"' 6-Inventário de recursos'!E707","v":0},{"$f":"' 6-Inventário de recursos'!F707","v":0},{"$f":"' 6-Inventário de recursos'!L238","v":0},{"$f":"' 6-Inventário de recursos'!H707","v":0},{"$f":"' 6-Inventário de recursos'!#REF!","v":{"$error":"#REF!"}}]
[null,null,null,null,null,null,null,null,null,null,null,null,null,null,null,null,null,null,null,null,null,null,null,null,null,null,null,null,{"$f":"' 6-Inventário de recursos'!B708","v":0},{"$f":"' 6-Inventário de recursos'!D708","v":0},{"$f":"' 6-Inventário de recursos'!C708","v":0},{"$f":"' 6-Inventário de recursos'!E708","v":0},{"$f":"' 6-Inventário de recursos'!F708","v":0},{"$f":"' 6-Inventário de recursos'!L239","v":0},{"$f":"' 6-Inventário de recursos'!H708","v":0},{"$f":"' 6-Inventário de recursos'!#REF!","v":{"$error":"#REF!"}}]
[null,null,null,null,null,null,null,null,null,null,null,null,null,null,null,null,null,null,null,null,null,null,null,null,null,null,null,null,{"$f":"' 6-Inventário de recursos'!B709","v":0},{"$f":"' 6-Inventário de recursos'!D709","v":0},{"$f":"' 6-Inventário de recursos'!C709","v":0},{"$f":"' 6-Inventário de recursos'!E709","v":0},{"$f":"' 6-Inventário de recursos'!F709","v":0},{"$f":"' 6-Inventário de recursos'!L240","v":0},{"$f":"' 6-Inventário de recursos'!H709","v":0},{"$f":"' 6-Inventário de recursos'!#REF!","v":{"$error":"#REF!"}}]
[null,null,null,null,null,null,null,null,null,null,null,null,null,null,null,null,null,null,null,null,null,null,null,null,null,null,null,null,{"$f":"' 6-Inventário de recursos'!B710","v":0},{"$f":"' 6-Inventário de recursos'!D710","v":0},{"$f":"' 6-Inventário de recursos'!C710","v":0},{"$f":"' 6-Inventário de recursos'!E710","v":0},{"$f":"' 6-Inventário de recursos'!F710","v":0},{"$f":"' 6-Inventário de recursos'!L241","v":0},{"$f":"' 6-Inventário de recursos'!H710","v":0},{"$f":"' 6-Inventário de recursos'!#REF!","v":{"$error":"#REF!"}}]
[null,null,null,null,null,null,null,null,null,null,null,null,null,null,null,null,null,null,null,null,null,null,null,null,null,null,null,null,{"$f":"' 6-Inventário de recursos'!B711","v":0},{"$f":"' 6-Inventário de recursos'!D711","v":0},{"$f":"' 6-Inventário de recursos'!C711","v":0},{"$f":"' 6-Inventário de recursos'!E711","v":0},{"$f":"' 6-Inventário de recursos'!F711","v":0},{"$f":"' 6-Inventário de recursos'!L242","v":0},{"$f":"' 6-Inventário de recursos'!H711","v":0},{"$f":"' 6-Inventário de recursos'!#REF!","v":{"$error":"#REF!"}}]
[null,null,null,null,null,null,null,null,null,null,null,null,null,null,null,null,null,null,null,null,null,null,null,null,null,null,null,null,{"$f":"' 6-Inventário de recursos'!B712","v":0},{"$f":"' 6-Inventário de recursos'!D712","v":0},{"$f":"' 6-Inventário de recursos'!C712","v":0},{"$f":"' 6-Inventário de recursos'!E712","v":0},{"$f":"' 6-Inventário de recursos'!F712","v":0},{"$f":"' 6-Inventário de recursos'!L243","v":0},{"$f":"' 6-Inventário de recursos'!H712","v":0},{"$f":"' 6-Inventário de recursos'!#REF!","v":{"$error":"#REF!"}}]
[null,null,null,null,null,null,null,null,null,null,null,null,null,null,null,null,null,null,null,null,null,null,null,null,null,null,null,null,{"$f":"' 6-Inventário de recursos'!B713","v":0},{"$f":"' 6-Inventário de recursos'!D713","v":0},{"$f":"' 6-Inventário de recursos'!C713","v":0},{"$f":"' 6-Inventário de recursos'!E713","v":0},{"$f":"' 6-Inventário de recursos'!F713","v":0},{"$f":"' 6-Inventário de recursos'!L244","v":0},{"$f":"' 6-Inventário de recursos'!H713","v":0},{"$f":"' 6-Inventário de recursos'!#REF!","v":{"$error":"#REF!"}}]
[null,null,null,null,null,null,null,null,null,null,null,null,null,null,null,null,null,null,null,null,null,null,null,null,null,null,null,null,{"$f":"' 6-Inventário de recursos'!B714","v":0},{"$f":"' 6-Inventário de recursos'!D714","v":0},{"$f":"' 6-Inventário de recursos'!C714","v":0},{"$f":"' 6-Inventário de recursos'!E714","v":0},{"$f":"' 6-Inventário de recursos'!F714","v":0},{"$f":"' 6-Inventário de recursos'!L245","v":0},{"$f":"' 6-Inventário de recursos'!H714","v":0},{"$f":"' 6-Inventário de recursos'!#REF!","v":{"$error":"#REF!"}}]
[null,null,null,null,null,null,null,null,null,null,null,null,null,null,null,null,null,null,null,null,null,null,null,null,null,null,null,null,{"$f":"' 6-Inventário de recursos'!B715","v":0},{"$f":"' 6-Inventário de recursos'!D715","v":0},{"$f":"' 6-Inventário de recursos'!C715","v":0},{"$f":"' 6-Inventário de recursos'!E715","v":0},{"$f":"' 6-Inventário de recursos'!F715","v":0},{"$f":"' 6-Inventário de recursos'!L246","v":0},{"$f":"' 6-Inventário de recursos'!H715","v":0},{"$f":"' 6-Inventário de recursos'!#REF!","v":{"$error":"#REF!"}}]
[null,null,null,null,null,null,null,null,null,null,null,null,null,null,null,null,null,null,null,null,null,null,null,null,null,null,null,null,{"$f":"' 6-Inventário de recursos'!B716","v":0},{"$f":"' 6-Inventário de recursos'!D716","v":0},{"$f":"' 6-Inventário de recursos'!C716","v":0},{"$f":"' 6-Inventário de recursos'!E716","v":0},{"$f":"' 6-Inventário de recursos'!F716","v":0},{"$f":"' 6-Inventário de recursos'!L247","v":0},{"$f":"' 6-Inventário de recursos'!H716","v":0},{"$f":"' 6-Inventário de recursos'!#REF!","v":{"$error":"#REF!"}}]
[null,null,null,null,null,null,null,null,null,null,null,null,null,null,null,null,null,null,null,null,null,null,null,null,null,null,null,null,{"$f":"' 6-Inventário de recursos'!B717","v":0},{"$f":"' 6-Inventário de recursos'!D717","v":0},{"$f":"' 6-Inventário de recursos'!C717","v":0},{"$f":"' 6-Inventário de recursos'!E717","v":0},{"$f":"' 6-Inventário de recursos'!F717","v":0},{"$f":"' 6-Inventário de recursos'!L248","v":0},{"$f":"' 6-Inventário de recursos'!H717","v":0},{"$f":"' 6-Inventário de recursos'!#REF!","v":{"$error":"#REF!"}}]
[null,null,null,null,null,null,null,null,null,null,null,null,null,null,null,null,null,null,null,null,null,null,null,null,null,null,null,null,{"$f":"' 6-Inventário de recursos'!B718","v":0},{"$f":"' 6-Inventário de recursos'!D718","v":0},{"$f":"' 6-Inventário de recursos'!C718","v":0},{"$f":"' 6-Inventário de recursos'!E718","v":0},{"$f":"' 6-Inventário de recursos'!F718","v":0},{"$f":"' 6-Inventário de recursos'!L249","v":0},{"$f":"' 6-Inventário de recursos'!H718","v":0},{"$f":"' 6-Inventário de recursos'!#REF!","v":{"$error":"#REF!"}}]
[null,null,null,null,null,null,null,null,null,null,null,null,null,null,null,null,null,null,null,null,null,null,null,null,null,null,null,null,{"$f":"' 6-Inventário de recursos'!B719","v":0},{"$f":"' 6-Inventário de recursos'!D719","v":0},{"$f":"' 6-Inventário de recursos'!C719","v":0},{"$f":"' 6-Inventário de recursos'!E719","v":0},{"$f":"' 6-Inventário de recursos'!F719","v":0},{"$f":"' 6-Inventário de recursos'!L250","v":0},{"$f":"' 6-Inventário de recursos'!H719","v":0},{"$f":"' 6-Inventário de recursos'!#REF!","v":{"$error":"#REF!"}}]
[null,null,null,null,null,null,null,null,null,null,null,null,null,null,null,null,null,null,null,null,null,null,null,null,null,null,null,null,{"$f":"' 6-Inventário de recursos'!B720","v":0},{"$f":"' 6-Inventário de recursos'!D720","v":0},{"$f":"' 6-Inventário de recursos'!C720","v":0},{"$f":"' 6-Inventário de recursos'!E720","v":0},{"$f":"' 6-Inventário de recursos'!F720","v":0},{"$f":"' 6-Inventário de recursos'!L251","v":0},{"$f":"' 6-Inventário de recursos'!H720","v":0},{"$f":"' 6-Inventário de recursos'!#REF!","v":{"$error":"#REF!"}}]
[null,null,null,null,null,null,null,null,null,null,null,null,null,null,null,null,null,null,null,null,null,null,null,null,null,null,null,null,{"$f":"' 6-Inventário de recursos'!B721","v":0},{"$f":"' 6-Inventário de recursos'!D721","v":0},{"$f":"' 6-Inventário de recursos'!C721","v":0},{"$f":"' 6-Inventário de recursos'!E721","v":0},{"$f":"' 6-Inventário de recursos'!F721","v":0},{"$f":"' 6-Inventário de recursos'!L252","v":0},{"$f":"' 6-Inventário de recursos'!H721","v":0},{"$f":"' 6-Inventário de recursos'!#REF!","v":{"$error":"#REF!"}}]
[null,null,null,null,null,null,null,null,null,null,null,null,null,null,null,null,null,null,null,null,null,null,null,null,null,null,null,null,{"$f":"' 6-Inventário de recursos'!B722","v":0},{"$f":"' 6-Inventário de recursos'!D722","v":0},{"$f":"' 6-Inventário de recursos'!C722","v":0},{"$f":"' 6-Inventário de recursos'!E722","v":0},{"$f":"' 6-Inventário de recursos'!F722","v":0},{"$f":"' 6-Inventário de recursos'!L253","v":0},{"$f":"' 6-Inventário de recursos'!H722","v":0},{"$f":"' 6-Inventário de recursos'!#REF!","v":{"$error":"#REF!"}}]
[null,null,null,null,null,null,null,null,null,null,null,null,null,null,null,null,null,null,null,null,null,null,null,null,null,null,null,null,{"$f":"' 6-Inventário de recursos'!B723","v":0},{"$f":"' 6-Inventário de recursos'!D723","v":0},{"$f":"' 6-Inventário de recursos'!C723","v":0},{"$f":"' 6-Inventário de recursos'!E723","v":0},{"$f":"' 6-Inventário de recursos'!F723","v":0},{"$f":"' 6-Inventário de recursos'!L254","v":0},{"$f":"' 6-Inventário de recursos'!H723","v":0},{"$f":"' 6-Inventário de recursos'!#REF!","v":{"$error":"#REF!"}}]
[null,null,null,null,null,null,null,null,null,null,null,null,null,null,null,null,null,null,null,null,null,null,null,null,null,null,null,null,{"$f":"' 6-Inventário de recursos'!B724","v":0},{"$f":"' 6-Inventário de recursos'!D724","v":0},{"$f":"' 6-Inventário de recursos'!C724","v":0},{"$f":"' 6-Inventário de recursos'!E724","v":0},{"$f":"' 6-Inventário de recursos'!F724","v":0},{"$f":"' 6-Inventário de recursos'!L255","v":0},{"$f":"' 6-Inventário de recursos'!H724","v":0},{"$f":"' 6-Inventário de recursos'!#REF!","v":{"$error":"#REF!"}}]
[null,null,null,null,null,null,null,null,null,null,null,null,null,null,null,null,null,null,null,null,null,null,null,null,null,null,null,null,{"$f":"' 6-Inventário de recursos'!B725","v":0},{"$f":"' 6-Inventário de recursos'!D725","v":0},{"$f":"' 6-Inventário de recursos'!C725","v":0},{"$f":"' 6-Inventário de recursos'!E725","v":0},{"$f":"' 6-Inventário de recursos'!F725","v":0},{"$f":"' 6-Inventário de recursos'!L256","v":0},{"$f":"' 6-Inventário de recursos'!H725","v":0},{"$f":"' 6-Inventário de recursos'!#REF!","v":{"$error":"#REF!"}}]
[null,null,null,null,null,null,null,null,null,null,null,null,null,null,null,null,null,null,null,null,null,null,null,null,null,null,null,null,{"$f":"' 6-Inventário de recursos'!B726","v":0},{"$f":"' 6-Inventário de recursos'!D726","v":0},{"$f":"' 6-Inventário de recursos'!C726","v":0},{"$f":"' 6-Inventário de recursos'!E726","v":0},{"$f":"' 6-Inventário de recursos'!F726","v":0},{"$f":"' 6-Inventário de recursos'!L257","v":0},{"$f":"' 6-Inventário de recursos'!H726","v":0},{"$f":"' 6-Inventário de recursos'!#REF!","v":{"$error":"#REF!"}}]
[null,null,null,null,null,null,null,null,null,null,null,null,null,null,null,null,null,null,null,null,null,null,null,null,null,null,null,null,{"$f":"' 6-Inventário de recursos'!B727","v":0},{"$f":"' 6-Inventário de recursos'!D727","v":0},{"$f":"' 6-Inventário de recursos'!C727","v":0},{"$f":"' 6-Inventário de recursos'!E727","v":0},{"$f":"' 6-Inventário de recursos'!F727","v":0},{"$f":"' 6-Inventário de recursos'!L258","v":0},{"$f":"' 6-Inventário de recursos'!H727","v":0},{"$f":"' 6-Inventário de recursos'!#REF!","v":{"$error":"#REF!"}}]
[null,null,null,null,null,null,null,null,null,null,null,null,null,null,null,null,null,null,null,null,null,null,null,null,null,null,null,null,{"$f":"' 6-Inventário de recursos'!B728","v":0},{"$f":"' 6-Inventário de recursos'!D728","v":0},{"$f":"' 6-Inventário de recursos'!C728","v":0},{"$f":"' 6-Inventário de recursos'!E728","v":0},{"$f":"' 6-Inventário de recursos'!F728","v":0},{"$f":"' 6-Inventário de recursos'!L259","v":0},{"$f":"' 6-Inventário de recursos'!H728","v":0},{"$f":"' 6-Inventário de recursos'!#REF!","v":{"$error":"#REF!"}}]
[null,null,null,null,null,null,null,null,null,null,null,null,null,null,null,null,null,null,null,null,null,null,null,null,null,null,null,null,{"$f":"' 6-Inventário de recursos'!B729","v":0},{"$f":"' 6-Inventário de recursos'!D729","v":0},{"$f":"' 6-Inventário de recursos'!C729","v":0},{"$f":"' 6-Inventário de recursos'!E729","v":0},{"$f":"' 6-Inventário de recursos'!F729","v":0},{"$f":"' 6-Inventário de recursos'!L260","v":0},{"$f":"' 6-Inventário de recursos'!H729","v":0},{"$f":"' 6-Inventário de recursos'!#REF!","v":{"$error":"#REF!"}}]
[null,null,null,null,null,null,null,null,null,null,null,null,null,null,null,null,null,null,null,null,null,null,null,null,null,null,null,null,{"$f":"' 6-Inventário de recursos'!B730","v":0},{"$f":"' 6-Inventário de recursos'!D730","v":0},{"$f":"' 6-Inventário de recursos'!C730","v":0},{"$f":"' 6-Inventário de recursos'!E730","v":0},{"$f":"' 6-Inventário de recursos'!F730","v":0},{"$f":"' 6-Inventário de recursos'!L261","v":0},{"$f":"' 6-Inventário de recursos'!H730","v":0},{"$f":"' 6-Inventário de recursos'!#REF!","v":{"$error":"#REF!"}}]
[null,null,null,null,null,null,null,null,null,null,null,null,null,null,null,null,null,null,null,null,null,null,null,null,null,null,null,null,{"$f":"' 6-Inventário de recursos'!B731","v":0},{"$f":"' 6-Inventário de recursos'!D731","v":0},{"$f":"' 6-Inventário de recursos'!C731","v":0},{"$f":"' 6-Inventário de recursos'!E731","v":0},{"$f":"' 6-Inventário de recursos'!F731","v":0},{"$f":"' 6-Inventário de recursos'!L262","v":0},{"$f":"' 6-Inventário de recursos'!H731","v":0},{"$f":"' 6-Inventário de recursos'!#REF!","v":{"$error":"#REF!"}}]
[null,null,null,null,null,null,null,null,null,null,null,null,null,null,null,null,null,null,null,null,null,null,null,null,null,null,null,null,{"$f":"' 6-Inventário de recursos'!B732","v":0},{"$f":"' 6-Inventário de recursos'!D732","v":0},{"$f":"' 6-Inventário de recursos'!C732","v":0},{"$f":"' 6-Inventário de recursos'!E732","v":0},{"$f":"' 6-Inventário de recursos'!F732","v":0},{"$f":"' 6-Inventário de recursos'!L263","v":0},{"$f":"' 6-Inventário de recursos'!H732","v":0},{"$f":"' 6-Inventário de recursos'!#REF!","v":{"$error":"#REF!"}}]
[null,null,null,null,null,null,null,null,null,null,null,null,null,null,null,null,null,null,null,null,null,null,null,null,null,null,null,null,{"$f":"' 6-Inventário de recursos'!B733","v":0},{"$f":"' 6-Inventário de recursos'!D733","v":0},{"$f":"' 6-Inventário de recursos'!C733","v":0},{"$f":"' 6-Inventário de recursos'!E733","v":0},{"$f":"' 6-Inventário de recursos'!F733","v":0},{"$f":"' 6-Inventário de recursos'!L264","v":0},{"$f":"' 6-Inventário de recursos'!H733","v":0},{"$f":"' 6-Inventário de recursos'!#REF!","v":{"$error":"#REF!"}}]
[null,null,null,null,null,null,null,null,null,null,null,null,null,null,null,null,null,null,null,null,null,null,null,null,null,null,null,null,{"$f":"' 6-Inventário de recursos'!B734","v":0},{"$f":"' 6-Inventário de recursos'!D734","v":0},{"$f":"' 6-Inventário de recursos'!C734","v":0},{"$f":"' 6-Inventário de recursos'!E734","v":0},{"$f":"' 6-Inventário de recursos'!F734","v":0},{"$f":"' 6-Inventário de recursos'!L265","v":0},{"$f":"' 6-Inventário de recursos'!H734","v":0},{"$f":"' 6-Inventário de recursos'!#REF!","v":{"$error":"#REF!"}}]
[null,null,null,null,null,null,null,null,null,null,null,null,null,null,null,null,null,null,null,null,null,null,null,null,null,null,null,null,{"$f":"' 6-Inventário de recursos'!B735","v":0},{"$f":"' 6-Inventário de recursos'!D735","v":0},{"$f":"' 6-Inventário de recursos'!C735","v":0},{"$f":"' 6-Inventário de recursos'!E735","v":0},{"$f":"' 6-Inventário de recursos'!F735","v":0},{"$f":"' 6-Inventário de recursos'!L266","v":0},{"$f":"' 6-Inventário de recursos'!H735","v":0},{"$f":"' 6-Inventário de recursos'!#REF!","v":{"$error":"#REF!"}}]
[null,null,null,null,null,null,null,null,null,null,null,null,null,null,null,null,null,null,null,null,null,null,null,null,null,null,null,null,{"$f":"' 6-Inventário de recursos'!B736","v":0},{"$f":"' 6-Inventário de recursos'!D736","v":0},{"$f":"' 6-Inventário de recursos'!C736","v":0},{"$f":"' 6-Inventário de recursos'!E736","v":0},{"$f":"' 6-Inventário de recursos'!F736","v":0},{"$f":"' 6-Inventário de recursos'!L267","v":0},{"$f":"' 6-Inventário de recursos'!H736","v":0},{"$f":"' 6-Inventário de recursos'!#REF!","v":{"$error":"#REF!"}}]
[null,null,null,null,null,null,null,null,null,null,null,null,null,null,null,null,null,null,null,null,null,null,null,null,null,null,null,null,{"$f":"' 6-Inventário de recursos'!B737","v":0},{"$f":"' 6-Inventário de recursos'!D737","v":0},{"$f":"' 6-Inventário de recursos'!C737","v":0},{"$f":"' 6-Inventário de recursos'!E737","v":0},{"$f":"' 6-Inventário de recursos'!F737","v":0},{"$f":"' 6-Inventário de recursos'!L268","v":0},{"$f":"' 6-Inventário de recursos'!H737","v":0},{"$f":"' 6-Inventário de recursos'!#REF!","v":{"$error":"#REF!"}}]
[null,null,null,null,null,null,null,null,null,null,null,null,null,null,null,null,null,null,null,null,null,null,null,null,null,null,null,null,{"$f":"' 6-Inventário de recursos'!B738","v":0},{"$f":"' 6-Inventário de recursos'!D738","v":0},{"$f":"' 6-Inventário de recursos'!C738","v":0},{"$f":"' 6-Inventário de recursos'!E738","v":0},{"$f":"' 6-Inventário de recursos'!F738","v":0},{"$f":"' 6-Inventário de recursos'!L269","v":0},{"$f":"' 6-Inventário de recursos'!H738","v":0},{"$f":"' 6-Inventário de recursos'!#REF!","v":{"$error":"#REF!"}}]
[null,null,null,null,null,null,null,null,null,null,null,null,null,null,null,null,null,null,null,null,null,null,null,null,null,null,null,null,{"$f":"' 6-Inventário de recursos'!B739","v":0},{"$f":"' 6-Inventário de recursos'!D739","v":0},{"$f":"' 6-Inventário de recursos'!C739","v":0},{"$f":"' 6-Inventário de recursos'!E739","v":0},{"$f":"' 6-Inventário de recursos'!F739","v":0},{"$f":"' 6-Inventário de recursos'!L270","v":0},{"$f":"' 6-Inventário de recursos'!H739","v":0},{"$f":"' 6-Inventário de recursos'!#REF!","v":{"$error":"#REF!"}}]
[null,null,null,null,null,null,null,null,null,null,null,null,null,null,null,null,null,null,null,null,null,null,null,null,null,null,null,null,{"$f":"' 6-Inventário de recursos'!B740","v":0},{"$f":"' 6-Inventário de recursos'!D740","v":0},{"$f":"' 6-Inventário de recursos'!C740","v":0},{"$f":"' 6-Inventário de recursos'!E740","v":0},{"$f":"' 6-Inventário de recursos'!F740","v":0},{"$f":"' 6-Inventário de recursos'!L271","v":0},{"$f":"' 6-Inventário de recursos'!H740","v":0},{"$f":"' 6-Inventário de recursos'!#REF!","v":{"$error":"#REF!"}}]
[null,null,null,null,null,null,null,null,null,null,null,null,null,null,null,null,null,null,null,null,null,null,null,null,null,null,null,null,{"$f":"' 6-Inventário de recursos'!B741","v":0},{"$f":"' 6-Inventário de recursos'!D741","v":0},{"$f":"' 6-Inventário de recursos'!C741","v":0},{"$f":"' 6-Inventário de recursos'!E741","v":0},{"$f":"' 6-Inventário de recursos'!F741","v":0},{"$f":"' 6-Inventário de recursos'!L272","v":0},{"$f":"' 6-Inventário de recursos'!H741","v":0},{"$f":"' 6-Inventário de recursos'!#REF!","v":{"$error":"#REF!"}}]
[null,null,null,null,null,null,null,null,null,null,null,null,null,null,null,null,null,null,null,null,null,null,null,null,null,null,null,null,{"$f":"' 6-Inventário de recursos'!B742","v":0},{"$f":"' 6-Inventário de recursos'!D742","v":0},{"$f":"' 6-Inventário de recursos'!C742","v":0},{"$f":"' 6-Inventário de recursos'!E742","v":0},{"$f":"' 6-Inventário de recursos'!F742","v":0},{"$f":"' 6-Inventário de recursos'!L273","v":0},{"$f":"' 6-Inventário de recursos'!H742","v":0},{"$f":"' 6-Inventário de recursos'!#REF!","v":{"$error":"#REF!"}}]
[null,null,null,null,null,null,null,null,null,null,null,null,null,null,null,null,null,null,null,null,null,null,null,null,null,null,null,null,{"$f":"' 6-Inventário de recursos'!B743","v":0},{"$f":"' 6-Inventário de recursos'!D743","v":0},{"$f":"' 6-Inventário de recursos'!C743","v":0},{"$f":"' 6-Inventário de recursos'!E743","v":0},{"$f":"' 6-Inventário de recursos'!F743","v":0},{"$f":"' 6-Inventário de recursos'!L274","v":0},{"$f":"' 6-Inventário de recursos'!H743","v":0},{"$f":"' 6-Inventário de recursos'!#REF!","v":{"$error":"#REF!"}}]
[null,null,null,null,null,null,null,null,null,null,null,null,null,null,null,null,null,null,null,null,null,null,null,null,null,null,null,null,{"$f":"' 6-Inventário de recursos'!B744","v":0},{"$f":"' 6-Inventário de recursos'!D744","v":0},{"$f":"' 6-Inventário de recursos'!C744","v":0},{"$f":"' 6-Inventário de recursos'!E744","v":0},{"$f":"' 6-Inventário de recursos'!F744","v":0},{"$f":"' 6-Inventário de recursos'!L275","v":0},{"$f":"' 6-Inventário de recursos'!H744","v":0},{"$f":"' 6-Inventário de recursos'!#REF!","v":{"$error":"#REF!"}}]
[null,null,null,null,null,null,null,null,null,null,null,null,null,null,null,null,null,null,null,null,null,null,null,null,null,null,null,null,{"$f":"' 6-Inventário de recursos'!B745","v":0},{"$f":"' 6-Inventário de recursos'!D745","v":0},{"$f":"' 6-Inventário de recursos'!C745","v":0},{"$f":"' 6-Inventário de recursos'!E745","v":0},{"$f":"' 6-Inventário de recursos'!F745","v":0},{"$f":"' 6-Inventário de recursos'!L276","v":0},{"$f":"' 6-Inventário de recursos'!H745","v":0},{"$f":"' 6-Inventário de recursos'!#REF!","v":{"$error":"#REF!"}}]
[null,null,null,null,null,null,null,null,null,null,null,null,null,null,null,null,null,null,null,null,null,null,null,null,null,null,null,null,{"$f":"' 6-Inventário de recursos'!B746","v":0},{"$f":"' 6-Inventário de recursos'!D746","v":0},{"$f":"' 6-Inventário de recursos'!C746","v":0},{"$f":"' 6-Inventário de recursos'!E746","v":0},{"$f":"' 6-Inventário de recursos'!F746","v":0},{"$f":"' 6-Inventário de recursos'!L277","v":0},{"$f":"' 6-Inventário de recursos'!H746","v":0},{"$f":"' 6-Inventário de recursos'!#REF!","v":{"$error":"#REF!"}}]
[null,null,null,null,null,null,null,null,null,null,null,null,null,null,null,null,null,null,null,null,null,null,null,null,null,null,null,null,{"$f":"' 6-Inventário de recursos'!B747","v":0},{"$f":"' 6-Inventário de recursos'!D747","v":0},{"$f":"' 6-Inventário de recursos'!C747","v":0},{"$f":"' 6-Inventário de recursos'!E747","v":0},{"$f":"' 6-Inventário de recursos'!F747","v":0},{"$f":"' 6-Inventário de recursos'!L278","v":0},{"$f":"' 6-Inventário de recursos'!H747","v":0},{"$f":"' 6-Inventário de recursos'!#REF!","v":{"$error":"#REF!"}}]
[null,null,null,null,null,null,null,null,null,null,null,null,null,null,null,null,null,null,null,null,null,null,null,null,null,null,null,null,{"$f":"' 6-Inventário de recursos'!B748","v":0},{"$f":"' 6-Inventário de recursos'!D748","v":0},{"$f":"' 6-Inventário de recursos'!C748","v":0},{"$f":"' 6-Inventário de recursos'!E748","v":0},{"$f":"' 6-Inventário de recursos'!F748","v":0},{"$f":"' 6-Inventário de recursos'!L279","v":0},{"$f":"' 6-Inventário de recursos'!H748","v":0},{"$f":"' 6-Inventário de recursos'!#REF!","v":{"$error":"#REF!"}}]
[null,null,null,null,null,null,null,null,null,null,null,null,null,null,null,null,null,null,null,null,null,null,null,null,null,null,null,null,{"$f":"' 6-Inventário de recursos'!B749","v":0},{"$f":"' 6-Inventário de recursos'!D749","v":0},{"$f":"' 6-Inventário de recursos'!C749","v":0},{"$f":"' 6-Inventário de recursos'!E749","v":0},{"$f":"' 6-Inventário de recursos'!F749","v":0},{"$f":"' 6-Inventário de recursos'!L280","v":0},{"$f":"' 6-Inventário de recursos'!H749","v":0},{"$f":"' 6-Inventário de recursos'!#REF!","v":{"$error":"#REF!"}}]
[null,null,null,null,null,null,null,null,null,null,null,null,null,null,null,null,null,null,null,null,null,null,null,null,null,null,null,null,{"$f":"' 6-Inventário de recursos'!B750","v":0},{"$f":"' 6-Inventário de recursos'!D750","v":0},{"$f":"' 6-Inventário de recursos'!C750","v":0},{"$f":"' 6-Inventário de recursos'!E750","v":0},{"$f":"' 6-Inventário de recursos'!F750","v":0},{"$f":"' 6-Inventário de recursos'!L281","v":0},{"$f":"' 6-Inventário de recursos'!H750","v":0},{"$f":"' 6-Inventário de recursos'!#REF!","v":{"$error":"#REF!"}}]
[null,null,null,null,null,null,null,null,null,null,null,null,null,null,null,null,null,null,null,null,null,null,null,null,null,null,null,null,{"$f":"' 6-Inventário de recursos'!B751","v":0},{"$f":"' 6-Inventário de recursos'!D751","v":0},{"$f":"' 6-Inventário de recursos'!C751","v":0},{"$f":"' 6-Inventário de recursos'!E751","v":0},{"$f":"' 6-Inventário de recursos'!F751","v":0},{"$f":"' 6-Inventário de recursos'!L282","v":0},{"$f":"' 6-Inventário de recursos'!H751","v":0},{"$f":"' 6-Inventário de recursos'!#REF!","v":{"$error":"#REF!"}}]
[null,null,null,null,null,null,null,null,null,null,null,null,null,null,null,null,null,null,null,null,null,null,null,null,null,null,null,null,{"$f":"' 6-Inventário de recursos'!B752","v":0},{"$f":"' 6-Inventário de recursos'!D752","v":0},{"$f":"' 6-Inventário de recursos'!C752","v":0},{"$f":"' 6-Inventário de recursos'!E752","v":0},{"$f":"' 6-Inventário de recursos'!F752","v":0},{"$f":"' 6-Inventário de recursos'!L283","v":0},{"$f":"' 6-Inventário de recursos'!H752","v":0},{"$f":"' 6-Inventário de recursos'!#REF!","v":{"$error":"#REF!"}}]
[null,null,null,null,null,null,null,null,null,null,null,null,null,null,null,null,null,null,null,null,null,null,null,null,null,null,null,null,{"$f":"' 6-Inventário de recursos'!B753","v":0},{"$f":"' 6-Inventário de recursos'!D753","v":0},{"$f":"' 6-Inventário de recursos'!C753","v":0},{"$f":"' 6-Inventário de recursos'!E753","v":0},{"$f":"' 6-Inventário de recursos'!F753","v":0},{"$f":"' 6-Inventário de recursos'!L284","v":0},{"$f":"' 6-Inventário de recursos'!H753","v":0},{"$f":"' 6-Inventário de recursos'!#REF!","v":{"$error":"#REF!"}}]
[null,null,null,null,null,null,null,null,null,null,null,null,null,null,null,null,null,null,null,null,null,null,null,null,null,null,null,null,{"$f":"' 6-Inventário de recursos'!B754","v":0},{"$f":"' 6-Inventário de recursos'!D754","v":0},{"$f":"' 6-Inventário de recursos'!C754","v":0},{"$f":"' 6-Inventário de recursos'!E754","v":0},{"$f":"' 6-Inventário de recursos'!F754","v":0},{"$f":"' 6-Inventário de recursos'!L285","v":0},{"$f":"' 6-Inventário de recursos'!H754","v":0},{"$f":"' 6-Inventário de recursos'!#REF!","v":{"$error":"#REF!"}}]
[null,null,null,null,null,null,null,null,null,null,null,null,null,null,null,null,null,null,null,null,null,null,null,null,null,null,null,null,{"$f":"' 6-Inventário de recursos'!B755","v":0},{"$f":"' 6-Inventário de recursos'!D755","v":0},{"$f":"' 6-Inventário de recursos'!C755","v":0},{"$f":"' 6-Inventário de recursos'!E755","v":0},{"$f":"' 6-Inventário de recursos'!F755","v":0},{"$f":"' 6-Inventário de recursos'!L286","v":0},{"$f":"' 6-Inventário de recursos'!H755","v":0},{"$f":"' 6-Inventário de recursos'!#REF!","v":{"$error":"#REF!"}}]
[null,null,null,null,null,null,null,null,null,null,null,null,null,null,null,null,null,null,null,null,null,null,null,null,null,null,null,null,{"$f":"' 6-Inventário de recursos'!B756","v":0},{"$f":"' 6-Inventário de recursos'!D756","v":0},{"$f":"' 6-Inventário de recursos'!C756","v":0},{"$f":"' 6-Inventário de recursos'!E756","v":0},{"$f":"' 6-Inventário de recursos'!F756","v":0},{"$f":"' 6-Inventário de recursos'!L287","v":0},{"$f":"' 6-Inventário de recursos'!H756","v":0},{"$f":"' 6-Inventário de recursos'!#REF!","v":{"$error":"#REF!"}}]
[null,null,null,null,null,null,null,null,null,null,null,null,null,null,null,null,null,null,null,null,null,null,null,null,null,null,null,null,{"$f":"' 6-Inventário de recursos'!B757","v":0},{"$f":"' 6-Inventário de recursos'!D757","v":0},{"$f":"' 6-Inventário de recursos'!C757","v":0},{"$f":"' 6-Inventário de recursos'!E757","v":0},{"$f":"' 6-Inventário de recursos'!F757","v":0},{"$f":"' 6-Inventário de recursos'!L288","v":0},{"$f":"' 6-Inventário de recursos'!H757","v":0},{"$f":"' 6-Inventário de recursos'!#REF!","v":{"$error":"#REF!"}}]
[null,null,null,null,null,null,null,null,null,null,null,null,null,null,null,null,null,null,null,null,null,null,null,null,null,null,null,null,{"$f":"' 6-Inventário de recursos'!B758","v":0},{"$f":"' 6-Inventário de recursos'!D758","v":0},{"$f":"' 6-Inventário de recursos'!C758","v":0},{"$f":"' 6-Inventário de recursos'!E758","v":0},{"$f":"' 6-Inventário de recursos'!F758","v":0},{"$f":"' 6-Inventário de recursos'!L289","v":0},{"$f":"' 6-Inventário de recursos'!H758","v":0},{"$f":"' 6-Inventário de recursos'!#REF!","v":{"$error":"#REF!"}}]
[null,null,null,null,null,null,null,null,null,null,null,null,null,null,null,null,null,null,null,null,null,null,null,null,null,null,null,null,{"$f":"' 6-Inventário de recursos'!B759","v":0},{"$f":"' 6-Inventário de recursos'!D759","v":0},{"$f":"' 6-Inventário de recursos'!C759","v":0},{"$f":"' 6-Inventário de recursos'!E759","v":0},{"$f":"' 6-Inventário de recursos'!F759","v":0},{"$f":"' 6-Inventário de recursos'!L290","v":0},{"$f":"' 6-Inventário de recursos'!H759","v":0},{"$f":"' 6-Inventário de recursos'!#REF!","v":{"$error":"#REF!"}}]
[null,null,null,null,null,null,null,null,null,null,null,null,null,null,null,null,null,null,null,null,null,null,null,null,null,null,null,null,{"$f":"' 6-Inventário de recursos'!B760","v":0},{"$f":"' 6-Inventário de recursos'!D760","v":0},{"$f":"' 6-Inventário de recursos'!C760","v":0},{"$f":"' 6-Inventário de recursos'!E760","v":0},{"$f":"' 6-Inventário de recursos'!F760","v":0},{"$f":"' 6-Inventário de recursos'!L291","v":0},{"$f":"' 6-Inventário de recursos'!H760","v":0},{"$f":"' 6-Inventário de recursos'!#REF!","v":{"$error":"#REF!"}}]
[null,null,null,null,null,null,null,null,null,null,null,null,null,null,null,null,null,null,null,null,null,null,null,null,null,null,null,null,{"$f":"' 6-Inventário de recursos'!B761","v":0},{"$f":"' 6-Inventário de recursos'!D761","v":0},{"$f":"' 6-Inventário de recursos'!C761","v":0},{"$f":"' 6-Inventário de recursos'!E761","v":0},{"$f":"' 6-Inventário de recursos'!F761","v":0},{"$f":"' 6-Inventário de recursos'!L292","v":0},{"$f":"' 6-Inventário de recursos'!H761","v":0},{"$f":"' 6-Inventário de recursos'!#REF!","v":{"$error":"#REF!"}}]
[null,null,null,null,null,null,null,null,null,null,null,null,null,null,null,null,null,null,null,null,null,null,null,null,null,null,null,null,{"$f":"' 6-Inventário de recursos'!B762","v":0},{"$f":"' 6-Inventário de recursos'!D762","v":0},{"$f":"' 6-Inventário de recursos'!C762","v":0},{"$f":"' 6-Inventário de recursos'!E762","v":0},{"$f":"' 6-Inventário de recursos'!F762","v":0},{"$f":"' 6-Inventário de recursos'!L293","v":0},{"$f":"' 6-Inventário de recursos'!H762","v":0},{"$f":"' 6-Inventário de recursos'!#REF!","v":{"$error":"#REF!"}}]
[null,null,null,null,null,null,null,null,null,null,null,null,null,null,null,null,null,null,null,null,null,null,null,null,null,null,null,null,{"$f":"' 6-Inventário de recursos'!B763","v":0},{"$f":"' 6-Inventário de recursos'!D763","v":0},{"$f":"' 6-Inventário de recursos'!C763","v":0},{"$f":"' 6-Inventário de recursos'!E763","v":0},{"$f":"' 6-Inventário de recursos'!F763","v":0},{"$f":"' 6-Inventário de recursos'!L294","v":0},{"$f":"' 6-Inventário de recursos'!H763","v":0},{"$f":"' 6-Inventário de recursos'!#REF!","v":{"$error":"#REF!"}}]
[null,null,null,null,null,null,null,null,null,null,null,null,null,null,null,null,null,null,null,null,null,null,null,null,null,null,null,null,{"$f":"' 6-Inventário de recursos'!B764","v":0},{"$f":"' 6-Inventário de recursos'!D764","v":0},{"$f":"' 6-Inventário de recursos'!C764","v":0},{"$f":"' 6-Inventário de recursos'!E764","v":0},{"$f":"' 6-Inventário de recursos'!F764","v":0},{"$f":"' 6-Inventário de recursos'!L295","v":0},{"$f":"' 6-Inventário de recursos'!H764","v":0},{"$f":"' 6-Inventário de recursos'!#REF!","v":{"$error":"#REF!"}}]
[null,null,null,null,null,null,null,null,null,null,null,null,null,null,null,null,null,null,null,null,null,null,null,null,null,null,null,null,{"$f":"' 6-Inventário de recursos'!B765","v":0},{"$f":"' 6-Inventário de recursos'!D765","v":0},{"$f":"' 6-Inventário de recursos'!C765","v":0},{"$f":"' 6-Inventário de recursos'!E765","v":0},{"$f":"' 6-Inventário de recursos'!F765","v":0},{"$f":"' 6-Inventário de recursos'!L296","v":0},{"$f":"' 6-Inventário de recursos'!H765","v":0},{"$f":"' 6-Inventário de recursos'!#REF!","v":{"$error":"#REF!"}}]
[null,null,null,null,null,null,null,null,null,null,null,null,null,null,null,null,null,null,null,null,null,null,null,null,null,null,null,null,{"$f":"' 6-Inventário de recursos'!B766","v":0},{"$f":"' 6-Inventário de recursos'!D766","v":0},{"$f":"' 6-Inventário de recursos'!C766","v":0},{"$f":"' 6-Inventário de recursos'!E766","v":0},{"$f":"' 6-Inventário de recursos'!F766","v":0},{"$f":"' 6-Inventário de recursos'!L297","v":0},{"$f":"' 6-Inventário de recursos'!H766","v":0},{"$f":"' 6-Inventário de recursos'!#REF!","v":{"$error":"#REF!"}}]
[null,null,null,null,null,null,null,null,null,null,null,null,null,null,null,null,null,null,null,null,null,null,null,null,null,null,null,null,{"$f":"' 6-Inventário de recursos'!B767","v":0},{"$f":"' 6-Inventário de recursos'!D767","v":0},{"$f":"' 6-Inventário de recursos'!C767","v":0},{"$f":"' 6-Inventário de recursos'!E767","v":0},{"$f":"' 6-Inventário de recursos'!F767","v":0},{"$f":"' 6-Inventário de recursos'!L298","v":0},{"$f":"' 6-Inventário de recursos'!H767","v":0},{"$f":"' 6-Inventário de recursos'!#REF!","v":{"$error":"#REF!"}}]
[null,null,null,null,null,null,null,null,null,null,null,null,null,null,null,null,null,null,null,null,null,null,null,null,null,null,null,null,{"$f":"' 6-Inventário de recursos'!B768","v":0},{"$f":"' 6-Inventário de recursos'!D768","v":0},{"$f":"' 6-Inventário de recursos'!C768","v":0},{"$f":"' 6-Inventário de recursos'!E768","v":0},{"$f":"' 6-Inventário de recursos'!F768","v":0},{"$f":"' 6-Inventário de recursos'!L299","v":0},{"$f":"' 6-Inventário de recursos'!H768","v":0},{"$f":"' 6-Inventário de recursos'!#REF!","v":{"$error":"#REF!"}}]
[null,null,null,null,null,null,null,null,null,null,null,null,null,null,null,null,null,null,null,null,null,null,null,null,null,null,null,null,{"$f":"' 6-Inventário de recursos'!B769","v":0},{"$f":"' 6-Inventário de recursos'!D769","v":0},{"$f":"' 6-Inventário de recursos'!C769","v":0},{"$f":"' 6-Inventário de recursos'!E769","v":0},{"$f":"' 6-Inventário de recursos'!F769","v":0},{"$f":"' 6-Inventário de recursos'!L300","v":0},{"$f":"' 6-Inventário de recursos'!H769","v":0},{"$f":"' 6-Inventário de recursos'!#REF!","v":{"$error":"#REF!"}}]
[null,null,null,null,null,null,null,null,null,null,null,null,null,null,null,null,null,null,null,null,null,null,null,null,null,null,null,null,{"$f":"' 6-Inventário de recursos'!B770","v":0},{"$f":"' 6-Inventário de recursos'!D770","v":0},{"$f":"' 6-Inventário de recursos'!C770","v":0},{"$f":"' 6-Inventário de recursos'!E770","v":0},{"$f":"' 6-Inventário de recursos'!F770","v":0},{"$f":"' 6-Inventário de recursos'!L301","v":0},{"$f":"' 6-Inventário de recursos'!H770","v":0},{"$f":"' 6-Inventário de recursos'!#REF!","v":{"$error":"#REF!"}}]
[null,null,null,null,null,null,null,null,null,null,null,null,null,null,null,null,null,null,null,null,null,null,null,null,null,null,null,null,{"$f":"' 6-Inventário de recursos'!B771","v":0},{"$f":"' 6-Inventário de recursos'!D771","v":0},{"$f":"' 6-Inventário de recursos'!C771","v":0},{"$f":"' 6-Inventário de recursos'!E771","v":0},{"$f":"' 6-Inventário de recursos'!F771","v":0},{"$f":"' 6-Inventário de recursos'!L302","v":0},{"$f":"' 6-Inventário de recursos'!H771","v":0},{"$f":"' 6-Inventário de recursos'!#REF!","v":{"$error":"#REF!"}}]
[null,null,null,null,null,null,null,null,null,null,null,null,null,null,null,null,null,null,null,null,null,null,null,null,null,null,null,null,{"$f":"' 6-Inventário de recursos'!B772","v":0},{"$f":"' 6-Inventário de recursos'!D772","v":0},{"$f":"' 6-Inventário de recursos'!C772","v":0},{"$f":"' 6-Inventário de recursos'!E772","v":0},{"$f":"' 6-Inventário de recursos'!F772","v":0},{"$f":"' 6-Inventário de recursos'!L303","v":0},{"$f":"' 6-Inventário de recursos'!H772","v":0},{"$f":"' 6-Inventário de recursos'!#REF!","v":{"$error":"#REF!"}}]
[null,null,null,null,null,null,null,null,null,null,null,null,null,null,null,null,null,null,null,null,null,null,null,null,null,null,null,null,{"$f":"' 6-Inventário de recursos'!B773","v":0},{"$f":"' 6-Inventário de recursos'!D773","v":0},{"$f":"' 6-Inventário de recursos'!C773","v":0},{"$f":"' 6-Inventário de recursos'!E773","v":0},{"$f":"' 6-Inventário de recursos'!F773","v":0},{"$f":"' 6-Inventário de recursos'!L304","v":0},{"$f":"' 6-Inventário de recursos'!H773","v":0},{"$f":"' 6-Inventário de recursos'!#REF!","v":{"$error":"#REF!"}}]
[null,null,null,null,null,null,null,null,null,null,null,null,null,null,null,null,null,null,null,null,null,null,null,null,null,null,null,null,{"$f":"' 6-Inventário de recursos'!B774","v":0},{"$f":"' 6-Inventário de recursos'!D774","v":0},{"$f":"' 6-Inventário de recursos'!C774","v":0},{"$f":"' 6-Inventário de recursos'!E774","v":0},{"$f":"' 6-Inventário de recursos'!F774","v":0},{"$f":"' 6-Inventário de recursos'!L305","v":0},{"$f":"' 6-Inventário de recursos'!H774","v":0},{"$f":"' 6-Inventário de recursos'!#REF!","v":{"$error":"#REF!"}}]
[null,null,null,null,null,null,null,null,null,null,null,null,null,null,null,null,null,null,null,null,null,null,null,null,null,null,null,null,{"$f":"' 6-Inventário de recursos'!B775","v":0},{"$f":"' 6-Inventário de recursos'!D775","v":0},{"$f":"' 6-Inventário de recursos'!C775","v":0},{"$f":"' 6-Inventário de recursos'!E775","v":0},{"$f":"' 6-Inventário de recursos'!F775","v":0},{"$f":"' 6-Inventário de recursos'!L306","v":0},{"$f":"' 6-Inventário de recursos'!H775","v":0},{"$f":"' 6-Inventário de recursos'!#REF!","v":{"$error":"#REF!"}}]
[null,null,null,null,null,null,null,null,null,null,null,null,null,null,null,null,null,null,null,null,null,null,null,null,null,null,null,null,{"$f":"' 6-Inventário de recursos'!B776","v":0},{"$f":"' 6-Inventário de recursos'!D776","v":0},{"$f":"' 6-Inventário de recursos'!C776","v":0},{"$f":"' 6-Inventário de recursos'!E776","v":0},{"$f":"' 6-Inventário de recursos'!F776","v":0},{"$f":"' 6-Inventário de recursos'!L307","v":0},{"$f":"' 6-Inventário de recursos'!H776","v":0},{"$f":"' 6-Inventário de recursos'!#REF!","v":{"$error":"#REF!"}}]
[null,null,null,null,null,null,null,null,null,null,null,null,null,null,null,null,null,null,null,null,null,null,null,null,null,null,null,null,{"$f":"' 6-Inventário de recursos'!B777","v":0},{"$f":"' 6-Inventário de recursos'!D777","v":0},{"$f":"' 6-Inventário de recursos'!C777","v":0},{"$f":"' 6-Inventário de recursos'!E777","v":0},{"$f":"' 6-Inventário de recursos'!F777","v":0},{"$f":"' 6-Inventário de recursos'!L308","v":0},{"$f":"' 6-Inventário de recursos'!H777","v":0},{"$f":"' 6-Inventário de recursos'!#REF!","v":{"$error":"#REF!"}}]
[null,null,null,null,null,null,null,null,null,null,null,null,null,null,null,null,null,null,null,null,null,null,null,null,null,null,null,null,{"$f":"' 6-Inventário de recursos'!B778","v":0},{"$f":"' 6-Inventário de recursos'!D778","v":0},{"$f":"' 6-Inventário de recursos'!C778","v":0},{"$f":"' 6-Inventário de recursos'!E778","v":0},{"$f":"' 6-Inventário de recursos'!F778","v":0},{"$f":"' 6-Inventário de recursos'!L309","v":0},{"$f":"' 6-Inventário de recursos'!H778","v":0},{"$f":"' 6-Inventário de recursos'!#REF!","v":{"$error":"#REF!"}}]
[null,null,null,null,null,null,null,null,null,null,null,null,null,null,null,null,null,null,null,null,null,null,null,null,null,null,null,null,{"$f":"' 6-Inventário de recursos'!B779","v":0},{"$f":"' 6-Inventário de recursos'!D779","v":0},{"$f":"' 6-Inventário de recursos'!C779","v":0},{"$f":"' 6-Inventário de recursos'!E779","v":0},{"$f":"' 6-Inventário de recursos'!F779","v":0},{"$f":"' 6-Inventário de recursos'!L310","v":0},{"$f":"' 6-Inventário de recursos'!H779","v":0},{"$f":"' 6-Inventário de recursos'!#REF!","v":{"$error":"#REF!"}}]
[null,null,null,null,null,null,null,null,null,null,null,null,null,null,null,null,null,null,null,null,null,null,null,null,null,null,null,null,{"$f":"' 6-Inventário de recursos'!B780","v":0},{"$f":"' 6-Inventário de recursos'!D780","v":0},{"$f":"' 6-Inventário de recursos'!C780","v":0},{"$f":"' 6-Inventário de recursos'!E780","v":0},{"$f":"' 6-Inventário de recursos'!F780","v":0},{"$f":"' 6-Inventário de recursos'!L311","v":0},{"$f":"' 6-Inventário de recursos'!H780","v":0},{"$f":"' 6-Inventário de recursos'!#REF!","v":{"$error":"#REF!"}}]
[null,null,null,null,null,null,null,null,null,null,null,null,null,null,null,null,null,null,null,null,null,null,null,null,null,null,null,null,{"$f":"' 6-Inventário de recursos'!B781","v":0},{"$f":"' 6-Inventário de recursos'!D781","v":0},{"$f":"' 6-Inventário de recursos'!C781","v":0},{"$f":"' 6-Inventário de recursos'!E781","v":0},{"$f":"' 6-Inventário de recursos'!F781","v":0},{"$f":"' 6-Inventário de recursos'!L312","v":0},{"$f":"' 6-Inventário de recursos'!H781","v":0},{"$f":"' 6-Inventário de recursos'!#REF!","v":{"$error":"#REF!"}}]
[null,null,null,null,null,null,null,null,null,null,null,null,null,null,null,null,null,null,null,null,null,null,null,null,null,null,null,null,{"$f":"' 6-Inventário de recursos'!B782","v":0},{"$f":"' 6-Inventário de recursos'!D782","v":0},{"$f":"' 6-Inventário de recursos'!C782","v":0},{"$f":"' 6-Inventário de recursos'!E782","v":0},{"$f":"' 6-Inventário de recursos'!F782","v":0},{"$f":"' 6-Inventário de recursos'!L313","v":0},{"$f":"' 6-Inventário de recursos'!H782","v":0},{"$f":"' 6-Inventário de recursos'!#REF!","v":{"$error":"#REF!"}}]
[null,null,null,null,null,null,null,null,null,null,null,null,null,null,null,null,null,null,null,null,null,null,null,null,null,null,null,null,{"$f":"' 6-Inventário de recursos'!B783","v":0},{"$f":"' 6-Inventário de recursos'!D783","v":0},{"$f":"' 6-Inventário de recursos'!C783","v":0},{"$f":"' 6-Inventário de recursos'!E783","v":0},{"$f":"' 6-Inventário de recursos'!F783","v":0},{"$f":"' 6-Inventário de recursos'!L314","v":0},{"$f":"' 6-Inventário de recursos'!H783","v":0},{"$f":"' 6-Inventário de recursos'!#REF!","v":{"$error":"#REF!"}}]
[null,null,null,null,null,null,null,null,null,null,null,null,null,null,null,null,null,null,null,null,null,null,null,null,null,null,null,null,{"$f":"' 6-Inventário de recursos'!B784","v":0},{"$f":"' 6-Inventário de recursos'!D784","v":0},{"$f":"' 6-Inventário de recursos'!C784","v":0},{"$f":"' 6-Inventário de recursos'!E784","v":0},{"$f":"' 6-Inventário de recursos'!F784","v":0},{"$f":"' 6-Inventário de recursos'!L315","v":0},{"$f":"' 6-Inventário de recursos'!H784","v":0},{"$f":"' 6-Inventário de recursos'!#REF!","v":{"$error":"#REF!"}}]
[null,null,null,null,null,null,null,null,null,null,null,null,null,null,null,null,null,null,null,null,null,null,null,null,null,null,null,null,{"$f":"' 6-Inventário de recursos'!B785","v":0},{"$f":"' 6-Inventário de recursos'!D785","v":0},{"$f":"' 6-Inventário de recursos'!C785","v":0},{"$f":"' 6-Inventário de recursos'!E785","v":0},{"$f":"' 6-Inventário de recursos'!F785","v":0},{"$f":"' 6-Inventário de recursos'!L316","v":0},{"$f":"' 6-Inventário de recursos'!H785","v":0},{"$f":"' 6-Inventário de recursos'!#REF!","v":{"$error":"#REF!"}}]
[null,null,null,null,null,null,null,null,null,null,null,null,null,null,null,null,null,null,null,null,null,null,null,null,null,null,null,null,{"$f":"' 6-Inventário de recursos'!B786","v":0},{"$f":"' 6-Inventário de recursos'!D786","v":0},{"$f":"' 6-Inventário de recursos'!C786","v":0},{"$f":"' 6-Inventário de recursos'!E786","v":0},{"$f":"' 6-Inventário de recursos'!F786","v":0},{"$f":"' 6-Inventário de recursos'!L317","v":0},{"$f":"' 6-Inventário de recursos'!H786","v":0},{"$f":"' 6-Inventário de recursos'!#REF!","v":{"$error":"#REF!"}}]
[null,null,null,null,null,null,null,null,null,null,null,null,null,null,null,null,null,null,null,null,null,null,null,null,null,null,null,null,{"$f":"' 6-Inventário de recursos'!B787","v":0},{"$f":"' 6-Inventário de recursos'!D787","v":0},{"$f":"' 6-Inventário de recursos'!C787","v":0},{"$f":"' 6-Inventário de recursos'!E787","v":0},{"$f":"' 6-Inventário de recursos'!F787","v":0},{"$f":"' 6-Inventário de recursos'!L318","v":0},{"$f":"' 6-Inventário de recursos'!H787","v":0},{"$f":"' 6-Inventário de recursos'!#REF!","v":{"$error":"#REF!"}}]
[null,null,null,null,null,null,null,null,null,null,null,null,null,null,null,null,null,null,null,null,null,null,null,null,null,null,null,null,{"$f":"' 6-Inventário de recursos'!B788","v":0},{"$f":"' 6-Inventário de recursos'!D788","v":0},{"$f":"' 6-Inventário de recursos'!C788","v":0},{"$f":"' 6-Inventário de recursos'!E788","v":0},{"$f":"' 6-Inventário de recursos'!F788","v":0},{"$f":"' 6-Inventário de recursos'!L319","v":0},{"$f":"' 6-Inventário de recursos'!H788","v":0},{"$f":"' 6-Inventário de recursos'!#REF!","v":{"$error":"#REF!"}}]
[null,null,null,null,null,null,null,null,null,null,null,null,null,null,null,null,null,null,null,null,null,null,null,null,null,null,null,null,{"$f":"' 6-Inventário de recursos'!B789","v":0},{"$f":"' 6-Inventário de recursos'!D789","v":0},{"$f":"' 6-Inventário de recursos'!C789","v":0},{"$f":"' 6-Inventário de recursos'!E789","v":0},{"$f":"' 6-Inventário de recursos'!F789","v":0},{"$f":"' 6-Inventário de recursos'!L320","v":0},{"$f":"' 6-Inventário de recursos'!H789","v":0},{"$f":"' 6-Inventário de recursos'!#REF!","v":{"$error":"#REF!"}}]
[null,null,null,null,null,null,null,null,null,null,null,null,null,null,null,null,null,null,null,null,null,null,null,null,null,null,null,null,{"$f":"' 6-Inventário de recursos'!B790","v":0},{"$f":"' 6-Inventário de recursos'!D790","v":0},{"$f":"' 6-Inventário de recursos'!C790","v":0},{"$f":"' 6-Inventário de recursos'!E790","v":0},{"$f":"' 6-Inventário de recursos'!F790","v":0},{"$f":"' 6-Inventário de recursos'!L321","v":0},{"$f":"' 6-Inventário de recursos'!H790","v":0},{"$f":"' 6-Inventário de recursos'!#REF!","v":{"$error":"#REF!"}}]
[null,null,null,null,null,null,null,null,null,null,null,null,null,null,null,null,null,null,null,null,null,null,null,null,null,null,null,null,{"$f":"' 6-Inventário de recursos'!B791","v":0},{"$f":"' 6-Inventário de recursos'!D791","v":0},{"$f":"' 6-Inventário de recursos'!C791","v":0},{"$f":"' 6-Inventário de recursos'!E791","v":0},{"$f":"' 6-Inventário de recursos'!F791","v":0},{"$f":"' 6-Inventário de recursos'!L322","v":0},{"$f":"' 6-Inventário de recursos'!H791","v":0},{"$f":"' 6-Inventário de recursos'!#REF!","v":{"$error":"#REF!"}}]
[null,null,null,null,null,null,null,null,null,null,null,null,null,null,null,null,null,null,null,null,null,null,null,null,null,null,null,null,{"$f":"' 6-Inventário de recursos'!B792","v":0},{"$f":"' 6-Inventário de recursos'!D792","v":0},{"$f":"' 6-Inventário de recursos'!C792","v":0},{"$f":"' 6-Inventário de recursos'!E792","v":0},{"$f":"' 6-Inventário de recursos'!F792","v":0},{"$f":"' 6-Inventário de recursos'!L323","v":0},{"$f":"' 6-Inventário de recursos'!H792","v":0},{"$f":"' 6-Inventário de recursos'!#REF!","v":{"$error":"#REF!"}}]
[null,null,null,null,null,null,null,null,null,null,null,null,null,null,null,null,null,null,null,null,null,null,null,null,null,null,null,null,{"$f":"' 6-Inventário de recursos'!B793","v":0},{"$f":"' 6-Inventário de recursos'!D793","v":0},{"$f":"' 6-Inventário de recursos'!C793","v":0},{"$f":"' 6-Inventário de recursos'!E793","v":0},{"$f":"' 6-Inventário de recursos'!F793","v":0},{"$f":"' 6-Inventário de recursos'!L324","v":0},{"$f":"' 6-Inventário de recursos'!H793","v":0},{"$f":"' 6-Inventário de recursos'!#REF!","v":{"$error":"#REF!"}}]
[null,null,null,null,null,null,null,null,null,null,null,null,null,null,null,null,null,null,null,null,null,null,null,null,null,null,null,null,{"$f":"' 6-Inventário de recursos'!B794","v":0},{"$f":"' 6-Inventário de recursos'!D794","v":0},{"$f":"' 6-Inventário de recursos'!C794","v":0},{"$f":"' 6-Inventário de recursos'!E794","v":0},{"$f":"' 6-Inventário de recursos'!F794","v":0},{"$f":"' 6-Inventário de recursos'!L325","v":0},{"$f":"' 6-Inventário de recursos'!H794","v":0},{"$f":"' 6-Inventário de recursos'!#REF!","v":{"$error":"#REF!"}}]
[null,null,null,null,null,null,null,null,null,null,null,null,null,null,null,null,null,null,null,null,null,null,null,null,null,null,null,null,{"$f":"' 6-Inventário de recursos'!B795","v":0},{"$f":"' 6-Inventário de recursos'!D795","v":0},{"$f":"' 6-Inventário de recursos'!C795","v":0},{"$f":"' 6-Inventário de recursos'!E795","v":0},{"$f":"' 6-Inventário de recursos'!F795","v":0},{"$f":"' 6-Inventário de recursos'!L326","v":0},{"$f":"' 6-Inventário de recursos'!H795","v":0},{"$f":"' 6-Inventário de recursos'!#REF!","v":{"$error":"#REF!"}}]
[null,null,null,null,null,null,null,null,null,null,null,null,null,null,null,null,null,null,null,null,null,null,null,null,null,null,null,null,{"$f":"' 6-Inventário de recursos'!B796","v":0},{"$f":"' 6-Inventário de recursos'!D796","v":0},{"$f":"' 6-Inventário de recursos'!C796","v":0},{"$f":"' 6-Inventário de recursos'!E796","v":0},{"$f":"' 6-Inventário de recursos'!F796","v":0},{"$f":"' 6-Inventário de recursos'!L327","v":0},{"$f":"' 6-Inventário de recursos'!H796","v":0},{"$f":"' 6-Inventário de recursos'!#REF!","v":{"$error":"#REF!"}}]
[null,null,null,null,null,null,null,null,null,null,null,null,null,null,null,null,null,null,null,null,null,null,null,null,null,null,null,null,{"$f":"' 6-Inventário de recursos'!B797","v":0},{"$f":"' 6-Inventário de recursos'!D797","v":0},{"$f":"' 6-Inventário de recursos'!C797","v":0},{"$f":"' 6-Inventário de recursos'!E797","v":0},{"$f":"' 6-Inventário de recursos'!F797","v":0},{"$f":"' 6-Inventário de recursos'!L328","v":0},{"$f":"' 6-Inventário de recursos'!H797","v":0},{"$f":"' 6-Inventário de recursos'!#REF!","v":{"$error":"#REF!"}}]
[null,null,null,null,null,null,null,null,null,null,null,null,null,null,null,null,null,null,null,null,null,null,null,null,null,null,null,null,{"$f":"' 6-Inventário de recursos'!B798","v":0},{"$f":"' 6-Inventário de recursos'!D798","v":0},{"$f":"' 6-Inventário de recursos'!C798","v":0},{"$f":"' 6-Inventário de recursos'!E798","v":0},{"$f":"' 6-Inventário de recursos'!F798","v":0},{"$f":"' 6-Inventário de recursos'!L329","v":0},{"$f":"' 6-Inventário de recursos'!H798","v":0},{"$f":"' 6-Inventário de recursos'!#REF!","v":{"$error":"#REF!"}}]
[null,null,null,null,null,null,null,null,null,null,null,null,null,null,null,null,null,null,null,null,null,null,null,null,null,null,null,null,{"$f":"' 6-Inventário de recursos'!B799","v":0},{"$f":"' 6-Inventário de recursos'!D799","v":0},{"$f":"' 6-Inventário de recursos'!C799","v":0},{"$f":"' 6-Inventário de recursos'!E799","v":0},{"$f":"' 6-Inventário de recursos'!F799","v":0},{"$f":"' 6-Inventário de recursos'!L330","v":0},{"$f":"' 6-Inventário de recursos'!H799","v":0},{"$f":"' 6-Inventário de recursos'!#REF!","v":{"$error":"#REF!"}}]
[null,null,null,null,null,null,null,null,null,null,null,null,null,null,null,null,null,null,null,null,null,null,null,null,null,null,null,null,{"$f":"' 6-Inventário de recursos'!B800","v":0},{"$f":"' 6-Inventário de recursos'!D800","v":0},{"$f":"' 6-Inventário de recursos'!C800","v":0},{"$f":"' 6-Inventário de recursos'!E800","v":0},{"$f":"' 6-Inventário de recursos'!F800","v":0},{"$f":"' 6-Inventário de recursos'!L331","v":0},{"$f":"' 6-Inventário de recursos'!H800","v":0},{"$f":"' 6-Inventário de recursos'!#REF!","v":{"$error":"#REF!"}}]
[null,null,null,null,null,null,null,null,null,null,null,null,null,null,null,null,null,null,null,null,null,null,null,null,null,null,null,null,{"$f":"' 6-Inventário de recursos'!B801","v":0},{"$f":"' 6-Inventário de recursos'!D801","v":0},{"$f":"' 6-Inventário de recursos'!C801","v":0},{"$f":"' 6-Inventário de recursos'!E801","v":0},{"$f":"' 6-Inventário de recursos'!F801","v":0},{"$f":"' 6-Inventário de recursos'!L332","v":0},{"$f":"' 6-Inventário de recursos'!H801","v":0},{"$f":"' 6-Inventário de recursos'!#REF!","v":{"$error":"#REF!"}}]
[null,null,null,null,null,null,null,null,null,null,null,null,null,null,null,null,null,null,null,null,null,null,null,null,null,null,null,null,{"$f":"' 6-Inventário de recursos'!B802","v":0},{"$f":"' 6-Inventário de recursos'!D802","v":0},{"$f":"' 6-Inventário de recursos'!C802","v":0},{"$f":"' 6-Inventário de recursos'!E802","v":0},{"$f":"' 6-Inventário de recursos'!F802","v":0},{"$f":"' 6-Inventário de recursos'!L333","v":0},{"$f":"' 6-Inventário de recursos'!H802","v":0},{"$f":"' 6-Inventário de recursos'!#REF!","v":{"$error":"#REF!"}}]
[null,null,null,null,null,null,null,null,null,null,null,null,null,null,null,null,null,null,null,null,null,null,null,null,null,null,null,null,{"$f":"' 6-Inventário de recursos'!B803","v":0},{"$f":"' 6-Inventário de recursos'!D803","v":0},{"$f":"' 6-Inventário de recursos'!C803","v":0},{"$f":"' 6-Inventário de recursos'!E803","v":0},{"$f":"' 6-Inventário de recursos'!F803","v":0},{"$f":"' 6-Inventário de recursos'!L334","v":0},{"$f":"' 6-Inventário de recursos'!H803","v":0},{"$f":"' 6-Inventário de recursos'!#REF!","v":{"$error":"#REF!"}}]
[null,null,null,null,null,null,null,null,null,null,null,null,null,null,null,null,null,null,null,null,null,null,null,null,null,null,null,null,{"$f":"' 6-Inventário de recursos'!B804","v":0},{"$f":"' 6-Inventário de recursos'!D804","v":0},{"$f":"' 6-Inventário de recursos'!C804","v":0},{"$f":"' 6-Inventário de recursos'!E804","v":0},{"$f":"' 6-Inventário de recursos'!F804","v":0},{"$f":"' 6-Inventário de recursos'!L335","v":0},{"$f":"' 6-Inventário de recursos'!H804","v":0},{"$f":"' 6-Inventário de recursos'!#REF!","v":{"$error":"#REF!"}}]
[null,null,null,null,null,null,null,null,null,null,null,null,null,null,null,null,null,null,null,null,null,null,null,null,null,null,null,null,{"$f":"' 6-Inventário de recursos'!B805","v":0},{"$f":"' 6-Inventário de recursos'!D805","v":0},{"$f":"' 6-Inventário de recursos'!C805","v":0},{"$f":"' 6-Inventário de recursos'!E805","v":0},{"$f":"' 6-Inventário de recursos'!F805","v":0},{"$f":"' 6-Inventário de recursos'!L336","v":0},{"$f":"' 6-Inventário de recursos'!H805","v":0},{"$f":"' 6-Inventário de recursos'!#REF!","v":{"$error":"#REF!"}}]
[null,null,null,null,null,null,null,null,null,null,null,null,null,null,null,null,null,null,null,null,null,null,null,null,null,null,null,null,{"$f":"' 6-Inventário de recursos'!B806","v":0},{"$f":"' 6-Inventário de recursos'!D806","v":0},{"$f":"' 6-Inventário de recursos'!C806","v":0},{"$f":"' 6-Inventário de recursos'!E806","v":0},{"$f":"' 6-Inventário de recursos'!F806","v":0},{"$f":"' 6-Inventário de recursos'!L337","v":0},{"$f":"' 6-Inventário de recursos'!H806","v":0},{"$f":"' 6-Inventário de recursos'!#REF!","v":{"$error":"#REF!"}}]
[null,null,null,null,null,null,null,null,null,null,null,null,null,null,null,null,null,null,null,null,null,null,null,null,null,null,null,null,{"$f":"' 6-Inventário de recursos'!B807","v":0},{"$f":"' 6-Inventário de recursos'!D807","v":0},{"$f":"' 6-Inventário de recursos'!C807","v":0},{"$f":"' 6-Inventário de recursos'!E807","v":0},{"$f":"' 6-Inventário de recursos'!F807","v":0},{"$f":"' 6-Inventário de recursos'!L338","v":0},{"$f":"' 6-Inventário de recursos'!H807","v":0},{"$f":"' 6-Inventário de recursos'!#REF!","v":{"$error":"#REF!"}}]
[null,null,null,null,null,null,null,null,null,null,null,null,null,null,null,null,null,null,null,null,null,null,null,null,null,null,null,null,{"$f":"' 6-Inventário de recursos'!B808","v":0},{"$f":"' 6-Inventário de recursos'!D808","v":0},{"$f":"' 6-Inventário de recursos'!C808","v":0},{"$f":"' 6-Inventário de recursos'!E808","v":0},{"$f":"' 6-Inventário de recursos'!F808","v":0},{"$f":"' 6-Inventário de recursos'!L339","v":0},{"$f":"' 6-Inventário de recursos'!H808","v":0},{"$f":"' 6-Inventário de recursos'!#REF!","v":{"$error":"#REF!"}}]
[null,null,null,null,null,null,null,null,null,null,null,null,null,null,null,null,null,null,null,null,null,null,null,null,null,null,null,null,{"$f":"' 6-Inventário de recursos'!B809","v":0},{"$f":"' 6-Inventário de recursos'!D809","v":0},{"$f":"' 6-Inventário de recursos'!C809","v":0},{"$f":"' 6-Inventário de recursos'!E809","v":0},{"$f":"' 6-Inventário de recursos'!F809","v":0},{"$f":"' 6-Inventário de recursos'!L340","v":0},{"$f":"' 6-Inventário de recursos'!H809","v":0},{"$f":"' 6-Inventário de recursos'!#REF!","v":{"$error":"#REF!"}}]
[null,null,null,null,null,null,null,null,null,null,null,null,null,null,null,null,null,null,null,null,null,null,null,null,null,null,null,null,{"$f":"' 6-Inventário de recursos'!B810","v":0},{"$f":"' 6-Inventário de recursos'!D810","v":0},{"$f":"' 6-Inventário de recursos'!C810","v":0},{"$f":"' 6-Inventário de recursos'!E810","v":0},{"$f":"' 6-Inventário de recursos'!F810","v":0},{"$f":"' 6-Inventário de recursos'!L341","v":0},{"$f":"' 6-Inventário de recursos'!H810","v":0},{"$f":"' 6-Inventário de recursos'!#REF!","v":{"$error":"#REF!"}}]
[null,null,null,null,null,null,null,null,null,null,null,null,null,null,null,null,null,null,null,null,null,null,null,null,null,null,null,null,{"$f":"' 6-Inventário de recursos'!B811","v":0},{"$f":"' 6-Inventário de recursos'!D811","v":0},{"$f":"' 6-Inventário de recursos'!C811","v":0},{"$f":"' 6-Inventário de recursos'!E811","v":0},{"$f":"' 6-Inventário de recursos'!F811","v":0},{"$f":"' 6-Inventário de recursos'!L342","v":0},{"$f":"' 6-Inventário de recursos'!H811","v":0},{"$f":"' 6-Inventário de recursos'!#REF!","v":{"$error":"#REF!"}}]
[null,null,null,null,null,null,null,null,null,null,null,null,null,null,null,null,null,null,null,null,null,null,null,null,null,null,null,null,{"$f":"' 6-Inventário de recursos'!B812","v":0},{"$f":"' 6-Inventário de recursos'!D812","v":0},{"$f":"' 6-Inventário de recursos'!C812","v":0},{"$f":"' 6-Inventário de recursos'!E812","v":0},{"$f":"' 6-Inventário de recursos'!F812","v":0},{"$f":"' 6-Inventário de recursos'!L343","v":0},{"$f":"' 6-Inventário de recursos'!H812","v":0},{"$f":"' 6-Inventário de recursos'!#REF!","v":{"$error":"#REF!"}}]
[null,null,null,null,null,null,null,null,null,null,null,null,null,null,null,null,null,null,null,null,null,null,null,null,null,null,null,null,{"$f":"' 6-Inventário de recursos'!B813","v":0},{"$f":"' 6-Inventário de recursos'!D813","v":0},{"$f":"' 6-Inventário de recursos'!C813","v":0},{"$f":"' 6-Inventário de recursos'!E813","v":0},{"$f":"' 6-Inventário de recursos'!F813","v":0},{"$f":"' 6-Inventário de recursos'!L344","v":0},{"$f":"' 6-Inventário de recursos'!H813","v":0},{"$f":"' 6-Inventário de recursos'!#REF!","v":{"$error":"#REF!"}}]
[null,null,null,null,null,null,null,null,null,null,null,null,null,null,null,null,null,null,null,null,null,null,null,null,null,null,null,null,{"$f":"' 6-Inventário de recursos'!B814","v":0},{"$f":"' 6-Inventário de recursos'!D814","v":0},{"$f":"' 6-Inventário de recursos'!C814","v":0},{"$f":"' 6-Inventário de recursos'!E814","v":0},{"$f":"' 6-Inventário de recursos'!F814","v":0},{"$f":"' 6-Inventário de recursos'!L345","v":0},{"$f":"' 6-Inventário de recursos'!H814","v":0},{"$f":"' 6-Inventário de recursos'!#REF!","v":{"$error":"#REF!"}}]
[null,null,null,null,null,null,null,null,null,null,null,null,null,null,null,null,null,null,null,null,null,null,null,null,null,null,null,null,{"$f":"' 6-Inventário de recursos'!B815","v":0},{"$f":"' 6-Inventário de recursos'!D815","v":0},{"$f":"' 6-Inventário de recursos'!C815","v":0},{"$f":"' 6-Inventário de recursos'!E815","v":0},{"$f":"' 6-Inventário de recursos'!F815","v":0},{"$f":"' 6-Inventário de recursos'!L346","v":0},{"$f":"' 6-Inventário de recursos'!H815","v":0},{"$f":"' 6-Inventário de recursos'!#REF!","v":{"$error":"#REF!"}}]
[null,null,null,null,null,null,null,null,null,null,null,null,null,null,null,null,null,null,null,null,null,null,null,null,null,null,null,null,{"$f":"' 6-Inventário de recursos'!B816","v":0},{"$f":"' 6-Inventário de recursos'!D816","v":0},{"$f":"' 6-Inventário de recursos'!C816","v":0},{"$f":"' 6-Inventário de recursos'!E816","v":0},{"$f":"' 6-Inventário de recursos'!F816","v":0},{"$f":"' 6-Inventário de recursos'!L347","v":0},{"$f":"' 6-Inventário de recursos'!H816","v":0},{"$f":"' 6-Inventário de recursos'!#REF!","v":{"$error":"#REF!"}}]
[null,null,null,null,null,null,null,null,null,null,null,null,null,null,null,null,null,null,null,null,null,null,null,null,null,null,null,null,{"$f":"' 6-Inventário de recursos'!B817","v":0},{"$f":"' 6-Inventário de recursos'!D817","v":0},{"$f":"' 6-Inventário de recursos'!C817","v":0},{"$f":"' 6-Inventário de recursos'!E817","v":0},{"$f":"' 6-Inventário de recursos'!F817","v":0},{"$f":"' 6-Inventário de recursos'!L348","v":0},{"$f":"' 6-Inventário de recursos'!H817","v":0},{"$f":"' 6-Inventário de recursos'!#REF!","v":{"$error":"#REF!"}}]
[null,null,null,null,null,null,null,null,null,null,null,null,null,null,null,null,null,null,null,null,null,null,null,null,null,null,null,null,{"$f":"' 6-Inventário de recursos'!B818","v":0},{"$f":"' 6-Inventário de recursos'!D818","v":0},{"$f":"' 6-Inventário de recursos'!C818","v":0},{"$f":"' 6-Inventário de recursos'!E818","v":0},{"$f":"' 6-Inventário de recursos'!F818","v":0},{"$f":"' 6-Inventário de recursos'!L349","v":0},{"$f":"' 6-Inventário de recursos'!H818","v":0},{"$f":"' 6-Inventário de recursos'!#REF!","v":{"$error":"#REF!"}}]
[null,null,null,null,null,null,null,null,null,null,null,null,null,null,null,null,null,null,null,null,null,null,null,null,null,null,null,null,{"$f":"' 6-Inventário de recursos'!B819","v":0},{"$f":"' 6-Inventário de recursos'!D819","v":0},{"$f":"' 6-Inventário de recursos'!C819","v":0},{"$f":"' 6-Inventário de recursos'!E819","v":0},{"$f":"' 6-Inventário de recursos'!F819","v":0},{"$f":"' 6-Inventário de recursos'!L350","v":0},{"$f":"' 6-Inventário de recursos'!H819","v":0},{"$f":"' 6-Inventário de recursos'!#REF!","v":{"$error":"#REF!"}}]
[null,null,null,null,null,null,null,null,null,null,null,null,null,null,null,null,null,null,null,null,null,null,null,null,null,null,null,null,{"$f":"' 6-Inventário de recursos'!B820","v":0},{"$f":"' 6-Inventário de recursos'!D820","v":0},{"$f":"' 6-Inventário de recursos'!C820","v":0},{"$f":"' 6-Inventário de recursos'!E820","v":0},{"$f":"' 6-Inventário de recursos'!F820","v":0},{"$f":"' 6-Inventário de recursos'!L351","v":0},{"$f":"' 6-Inventário de recursos'!H820","v":0},{"$f":"' 6-Inventário de recursos'!#REF!","v":{"$error":"#REF!"}}]
[null,null,null,null,null,null,null,null,null,null,null,null,null,null,null,null,null,null,null,null,null,null,null,null,null,null,null,null,{"$f":"' 6-Inventário de recursos'!B821","v":0},{"$f":"' 6-Inventário de recursos'!D821","v":0},{"$f":"' 6-Inventário de recursos'!C821","v":0},{"$f":"' 6-Inventário de recursos'!E821","v":0},{"$f":"' 6-Inventário de recursos'!F821","v":0},{"$f":"' 6-Inventário de recursos'!L352","v":0},{"$f":"' 6-Inventário de recursos'!H821","v":0},{"$f":"' 6-Inventário de recursos'!#REF!","v":{"$error":"#REF!"}}]
[null,null,null,null,null,null,null,null,null,null,null,null,null,null,null,null,null,null,null,null,null,null,null,null,null,null,null,null,{"$f":"' 6-Inventário de recursos'!B822","v":0},{"$f":"' 6-Inventário de recursos'!D822","v":0},{"$f":"' 6-Inventário de recursos'!C822","v":0},{"$f":"' 6-Inventário de recursos'!E822","v":0},{"$f":"' 6-Inventário de recursos'!F822","v":0},{"$f":"' 6-Inventário de recursos'!L353","v":0},{"$f":"' 6-Inventário de recursos'!H822","v":0},{"$f":"' 6-Inventário de recursos'!#REF!","v":{"$error":"#REF!"}}]
[null,null,null,null,null,null,null,null,null,null,null,null,null,null,null,null,null,null,null,null,null,null,null,null,null,null,null,null,{"$f":"' 6-Inventário de recursos'!B823","v":0},{"$f":"' 6-Inventário de recursos'!D823","v":0},{"$f":"' 6-Inventário de recursos'!C823","v":0},{"$f":"' 6-Inventário de recursos'!E823","v":0},{"$f":"' 6-Inventário de recursos'!F823","v":0},{"$f":"' 6-Inventário de recursos'!L354","v":0},{"$f":"' 6-Inventário de recursos'!H823","v":0},{"$f":"' 6-Inventário de recursos'!#REF!","v":{"$error":"#REF!"}}]
[null,null,null,null,null,null,null,null,null,null,null,null,null,null,null,null,null,null,null,null,null,null,null,null,null,null,null,null,{"$f":"' 6-Inventário de recursos'!B824","v":0},{"$f":"' 6-Inventário de recursos'!D824","v":0},{"$f":"' 6-Inventário de recursos'!C824","v":0},{"$f":"' 6-Inventário de recursos'!E824","v":0},{"$f":"' 6-Inventário de recursos'!F824","v":0},{"$f":"' 6-Inventário de recursos'!L355","v":0},{"$f":"' 6-Inventário de recursos'!H824","v":0},{"$f":"' 6-Inventário de recursos'!#REF!","v":{"$error":"#REF!"}}]
[null,null,null,null,null,null,null,null,null,null,null,null,null,null,null,null,null,null,null,null,null,null,null,null,null,null,null,null,{"$f":"' 6-Inventário de recursos'!B825","v":0},{"$f":"' 6-Inventário de recursos'!D825","v":0},{"$f":"' 6-Inventário de recursos'!C825","v":0},{"$f":"' 6-Inventário de recursos'!E825","v":0},{"$f":"' 6-Inventário de recursos'!F825","v":0},{"$f":"' 6-Inventário de recursos'!L356","v":0},{"$f":"' 6-Inventário de recursos'!H825","v":0},{"$f":"' 6-Inventário de recursos'!#REF!","v":{"$error":"#REF!"}}]
[null,null,null,null,null,null,null,null,null,null,null,null,null,null,null,null,null,null,null,null,null,null,null,null,null,null,null,null,{"$f":"' 6-Inventário de recursos'!B826","v":0},{"$f":"' 6-Inventário de recursos'!D826","v":0},{"$f":"' 6-Inventário de recursos'!C826","v":0},{"$f":"' 6-Inventário de recursos'!E826","v":0},{"$f":"' 6-Inventário de recursos'!F826","v":0},{"$f":"' 6-Inventário de recursos'!L357","v":0},{"$f":"' 6-Inventário de recursos'!H826","v":0},{"$f":"' 6-Inventário de recursos'!#REF!","v":{"$error":"#REF!"}}]
[null,null,null,null,null,null,null,null,null,null,null,null,null,null,null,null,null,null,null,null,null,null,null,null,null,null,null,null,{"$f":"' 6-Inventário de recursos'!B827","v":0},{"$f":"' 6-Inventário de recursos'!D827","v":0},{"$f":"' 6-Inventário de recursos'!C827","v":0},{"$f":"' 6-Inventário de recursos'!E827","v":0},{"$f":"' 6-Inventário de recursos'!F827","v":0},{"$f":"' 6-Inventário de recursos'!L358","v":0},{"$f":"' 6-Inventário de recursos'!H827","v":0},{"$f":"' 6-Inventário de recursos'!#REF!","v":{"$error":"#REF!"}}]
[null,null,null,null,null,null,null,null,null,null,null,null,null,null,null,null,null,null,null,null,null,null,null,null,null,null,null,null,{"$f":"' 6-Inventário de recursos'!B828","v":0},{"$f":"' 6-Inventário de recursos'!D828","v":0},{"$f":"' 6-Inventário de recursos'!C828","v":0},{"$f":"' 6-Inventário de recursos'!E828","v":0},{"$f":"' 6-Inventário de recursos'!F828","v":0},{"$f":"' 6-Inventário de recursos'!L359","v":0},{"$f":"' 6-Inventário de recursos'!H828","v":0},{"$f":"' 6-Inventário de recursos'!#REF!","v":{"$error":"#REF!"}}]
[null,null,null,null,null,null,null,null,null,null,null,null,null,null,null,null,null,null,null,null,null,null,null,null,null,null,null,null,{"$f":"' 6-Inventário de recursos'!B829","v":0},{"$f":"' 6-Inventário de recursos'!D829","v":0},{"$f":"' 6-Inventário de recursos'!C829","v":0},{"$f":"' 6-Inventário de recursos'!E829","v":0},{"$f":"' 6-Inventário de recursos'!F829","v":0},{"$f":"' 6-Inventário de recursos'!L360","v":0},{"$f":"' 6-Inventário de recursos'!H829","v":0},{"$f":"' 6-Inventário de recursos'!#REF!","v":{"$error":"#REF!"}}]
[null,null,null,null,null,null,null,null,null,null,null,null,null,null,null,null,null,null,null,null,null,null,null,null,null,null,null,null,{"$f":"' 6-Inventário de recursos'!B830","v":0},{"$f":"' 6-Inventário de recursos'!D830","v":0},{"$f":"' 6-Inventário de recursos'!C830","v":0},{"$f":"' 6-Inventário de recursos'!E830","v":0},{"$f":"' 6-Inventário de recursos'!F830","v":0},{"$f":"' 6-Inventário de recursos'!L361","v":0},{"$f":"' 6-Inventário de recursos'!H830","v":0},{"$f":"' 6-Inventário de recursos'!#REF!","v":{"$error":"#REF!"}}]
[null,null,null,null,null,null,null,null,null,null,null,null,null,null,null,null,null,null,null,null,null,null,null,null,null,null,null,null,{"$f":"' 6-Inventário de recursos'!B831","v":0},{"$f":"' 6-Inventário de recursos'!D831","v":0},{"$f":"' 6-Inventário de recursos'!C831","v":0},{"$f":"' 6-Inventário de recursos'!E831","v":0},{"$f":"' 6-Inventário de recursos'!F831","v":0},{"$f":"' 6-Inventário de recursos'!L362","v":0},{"$f":"' 6-Inventário de recursos'!H831","v":0},{"$f":"' 6-Inventário de recursos'!#REF!","v":{"$error":"#REF!"}}]
[null,null,null,null,null,null,null,null,null,null,null,null,null,null,null,null,null,null,null,null,null,null,null,null,null,null,null,null,{"$f":"' 6-Inventário de recursos'!B832","v":0},{"$f":"' 6-Inventário de recursos'!D832","v":0},{"$f":"' 6-Inventário de recursos'!C832","v":0},{"$f":"' 6-Inventário de recursos'!E832","v":0},{"$f":"' 6-Inventário de recursos'!F832","v":0},{"$f":"' 6-Inventário de recursos'!L363","v":0},{"$f":"' 6-Inventário de recursos'!H832","v":0},{"$f":"' 6-Inventário de recursos'!#REF!","v":{"$error":"#REF!"}}]
[null,null,null,null,null,null,null,null,null,null,null,null,null,null,null,null,null,null,null,null,null,null,null,null,null,null,null,null,{"$f":"' 6-Inventário de recursos'!B833","v":0},{"$f":"' 6-Inventário de recursos'!D833","v":0},{"$f":"' 6-Inventário de recursos'!C833","v":0},{"$f":"' 6-Inventário de recursos'!E833","v":0},{"$f":"' 6-Inventário de recursos'!F833","v":0},{"$f":"' 6-Inventário de recursos'!L364","v":0},{"$f":"' 6-Inventário de recursos'!H833","v":0},{"$f":"' 6-Inventário de recursos'!#REF!","v":{"$error":"#REF!"}}]
[null,null,null,null,null,null,null,null,null,null,null,null,null,null,null,null,null,null,null,null,null,null,null,null,null,null,null,null,{"$f":"' 6-Inventário de recursos'!B834","v":0},{"$f":"' 6-Inventário de recursos'!D834","v":0},{"$f":"' 6-Inventário de recursos'!C834","v":0},{"$f":"' 6-Inventário de recursos'!E834","v":0},{"$f":"' 6-Inventário de recursos'!F834","v":0},{"$f":"' 6-Inventário de recursos'!L365","v":0},{"$f":"' 6-Inventário de recursos'!H834","v":0},{"$f":"' 6-Inventário de recursos'!#REF!","v":{"$error":"#REF!"}}]
[null,null,null,null,null,null,null,null,null,null,null,null,null,null,null,null,null,null,null,null,null,null,null,null,null,null,null,null,{"$f":"' 6-Inventário de recursos'!B835","v":0},{"$f":"' 6-Inventário de recursos'!D835","v":0},{"$f":"' 6-Inventário de recursos'!C835","v":0},{"$f":"' 6-Inventário de recursos'!E835","v":0},{"$f":"' 6-Inventário de recursos'!F835","v":0},{"$f":"' 6-Inventário de recursos'!L366","v":0},{"$f":"' 6-Inventário de recursos'!H835","v":0},{"$f":"' 6-Inventário de recursos'!#REF!","v":{"$error":"#REF!"}}]
[null,null,null,null,null,null,null,null,null,null,null,null,null,null,null,null,null,null,null,null,null,null,null,null,null,null,null,null,{"$f":"' 6-Inventário de recursos'!B836","v":0},{"$f":"' 6-Inventário de recursos'!D836","v":0},{"$f":"' 6-Inventário de recursos'!C836","v":0},{"$f":"' 6-Inventário de recursos'!E836","v":0},{"$f":"' 6-Inventário de recursos'!F836","v":0},{"$f":"' 6-Inventário de recursos'!L367","v":0},{"$f":"' 6-Inventário de recursos'!H836","v":0},{"$f":"' 6-Inventário de recursos'!#REF!","v":{"$error":"#REF!"}}]
[null,null,null,null,null,null,null,null,null,null,null,null,null,null,null,null,null,null,null,null,null,null,null,null,null,null,null,null,{"$f":"' 6-Inventário de recursos'!B837","v":0},{"$f":"' 6-Inventário de recursos'!D837","v":0},{"$f":"' 6-Inventário de recursos'!C837","v":0},{"$f":"' 6-Inventário de recursos'!E837","v":0},{"$f":"' 6-Inventário de recursos'!F837","v":0},{"$f":"' 6-Inventário de recursos'!L368","v":0},{"$f":"' 6-Inventário de recursos'!H837","v":0},{"$f":"' 6-Inventário de recursos'!#REF!","v":{"$error":"#REF!"}}]
[null,null,null,null,null,null,null,null,null,null,null,null,null,null,null,null,null,null,null,null,null,null,null,null,null,null,null,null,{"$f":"' 6-Inventário de recursos'!B838","v":0},{"$f":"' 6-Inventário de recursos'!D838","v":0},{"$f":"' 6-Inventário de recursos'!C838","v":0},{"$f":"' 6-Inventário de recursos'!E838","v":0},{"$f":"' 6-Inventário de recursos'!F838","v":0},{"$f":"' 6-Inventário de recursos'!L369","v":0},{"$f":"' 6-Inventário de recursos'!H838","v":0},{"$f":"' 6-Inventário de recursos'!#REF!","v":{"$error":"#REF!"}}]
[null,null,null,null,null,null,null,null,null,null,null,null,null,null,null,null,null,null,null,null,null,null,null,null,null,null,null,null,{"$f":"' 6-Inventário de recursos'!B839","v":0},{"$f":"' 6-Inventário de recursos'!D839","v":0},{"$f":"' 6-Inventário de recursos'!C839","v":0},{"$f":"' 6-Inventário de recursos'!E839","v":0},{"$f":"' 6-Inventário de recursos'!F839","v":0},{"$f":"' 6-Inventário de recursos'!L370","v":0},{"$f":"' 6-Inventário de recursos'!H839","v":0},{"$f":"' 6-Inventário de recursos'!#REF!","v":{"$error":"#REF!"}}]
[null,null,null,null,null,null,null,null,null,null,null,null,null,null,null,null,null,null,null,null,null,null,null,null,null,null,null,null,{"$f":"' 6-Inventário de recursos'!B840","v":0},{"$f":"' 6-Inventário de recursos'!D840","v":0},{"$f":"' 6-Inventário de recursos'!C840","v":0},{"$f":"' 6-Inventário de recursos'!E840","v":0},{"$f":"' 6-Inventário de recursos'!F840","v":0},{"$f":"' 6-Inventário de recursos'!L371","v":0},{"$f":"' 6-Inventário de recursos'!H840","v":0},{"$f":"' 6-Inventário de recursos'!#REF!","v":{"$error":"#REF!"}}]
[null,null,null,null,null,null,null,null,null,null,null,null,null,null,null,null,null,null,null,null,null,null,null,null,null,null,null,null,{"$f":"' 6-Inventário de recursos'!B841","v":0},{"$f":"' 6-Inventário de recursos'!D841","v":0},{"$f":"' 6-Inventário de recursos'!C841","v":0},{"$f":"' 6-Inventário de recursos'!E841","v":0},{"$f":"' 6-Inventário de recursos'!F841","v":0},{"$f":"' 6-Inventário de recursos'!L372","v":0},{"$f":"' 6-Inventário de recursos'!H841","v":0},{"$f":"' 6-Inventário de recursos'!#REF!","v":{"$error":"#REF!"}}]
[null,null,null,null,null,null,null,null,null,null,null,null,null,null,null,null,null,null,null,null,null,null,null,null,null,null,null,null,{"$f":"' 6-Inventário de recursos'!B842","v":0},{"$f":"' 6-Inventário de recursos'!D842","v":0},{"$f":"' 6-Inventário de recursos'!C842","v":0},{"$f":"' 6-Inventário de recursos'!E842","v":0},{"$f":"' 6-Inventário de recursos'!F842","v":0},{"$f":"' 6-Inventário de recursos'!L373","v":0},{"$f":"' 6-Inventário de recursos'!H842","v":0},{"$f":"' 6-Inventário de recursos'!#REF!","v":{"$error":"#REF!"}}]
[null,null,null,null,null,null,null,null,null,null,null,null,null,null,null,null,null,null,null,null,null,null,null,null,null,null,null,null,{"$f":"' 6-Inventário de recursos'!B843","v":0},{"$f":"' 6-Inventário de recursos'!D843","v":0},{"$f":"' 6-Inventário de recursos'!C843","v":0},{"$f":"' 6-Inventário de recursos'!E843","v":0},{"$f":"' 6-Inventário de recursos'!F843","v":0},{"$f":"' 6-Inventário de recursos'!L374","v":0},{"$f":"' 6-Inventário de recursos'!H843","v":0},{"$f":"' 6-Inventário de recursos'!#REF!","v":{"$error":"#REF!"}}]
[null,null,null,null,null,null,null,null,null,null,null,null,null,null,null,null,null,null,null,null,null,null,null,null,null,null,null,null,{"$f":"' 6-Inventário de recursos'!B844","v":0},{"$f":"' 6-Inventário de recursos'!D844","v":0},{"$f":"' 6-Inventário de recursos'!C844","v":0},{"$f":"' 6-Inventário de recursos'!E844","v":0},{"$f":"' 6-Inventário de recursos'!F844","v":0},{"$f":"' 6-Inventário de recursos'!L375","v":0},{"$f":"' 6-Inventário de recursos'!H844","v":0},{"$f":"' 6-Inventário de recursos'!#REF!","v":{"$error":"#REF!"}}]
[null,null,null,null,null,null,null,null,null,null,null,null,null,null,null,null,null,null,null,null,null,null,null,null,null,null,null,null,{"$f":"' 6-Inventário de recursos'!B845","v":0},{"$f":"' 6-Inventário de recursos'!D845","v":0},{"$f":"' 6-Inventário de recursos'!C845","v":0},{"$f":"' 6-Inventário de recursos'!E845","v":0},{"$f":"' 6-Inventário de recursos'!F845","v":0},{"$f":"' 6-Inventário de recursos'!L376","v":0},{"$f":"' 6-Inventário de recursos'!H845","v":0},{"$f":"' 6-Inventário de recursos'!#REF!","v":{"$error":"#REF!"}}]
[null,null,null,null,null,null,null,null,null,null,null,null,null,null,null,null,null,null,null,null,null,null,null,null,null,null,null,null,{"$f":"' 6-Inventário de recursos'!B846","v":0},{"$f":"' 6-Inventário de recursos'!D846","v":0},{"$f":"' 6-Inventário de recursos'!C846","v":0},{"$f":"' 6-Inventário de recursos'!E846","v":0},{"$f":"' 6-Inventário de recursos'!F846","v":0},{"$f":"' 6-Inventário de recursos'!L377","v":0},{"$f":"' 6-Inventário de recursos'!H846","v":0},{"$f":"' 6-Inventário de recursos'!#REF!","v":{"$error":"#REF!"}}]
[null,null,null,null,null,null,null,null,null,null,null,null,null,null,null,null,null,null,null,null,null,null,null,null,null,null,null,null,{"$f":"' 6-Inventário de recursos'!B847","v":0},{"$f":"' 6-Inventário de recursos'!D847","v":0},{"$f":"' 6-Inventário de recursos'!C847","v":0},{"$f":"' 6-Inventário de recursos'!E847","v":0},{"$f":"' 6-Inventário de recursos'!F847","v":0},{"$f":"' 6-Inventário de recursos'!L378","v":0},{"$f":"' 6-Inventário de recursos'!H847","v":0},{"$f":"' 6-Inventário de recursos'!#REF!","v":{"$error":"#REF!"}}]
[null,null,null,null,null,null,null,null,null,null,null,null,null,null,null,null,null,null,null,null,null,null,null,null,null,null,null,null,{"$f":"' 6-Inventário de recursos'!B848","v":0},{"$f":"' 6-Inventário de recursos'!D848","v":0},{"$f":"' 6-Inventário de recursos'!C848","v":0},{"$f":"' 6-Inventário de recursos'!E848","v":0},{"$f":"' 6-Inventário de recursos'!F848","v":0},{"$f":"' 6-Inventário de recursos'!L379","v":0},{"$f":"' 6-Inventário de recursos'!H848","v":0},{"$f":"' 6-Inventário de recursos'!#REF!","v":{"$error":"#REF!"}}]
[null,null,null,null,null,null,null,null,null,null,null,null,null,null,null,null,null,null,null,null,null,null,null,null,null,null,null,null,{"$f":"' 6-Inventário de recursos'!B849","v":0},{"$f":"' 6-Inventário de recursos'!D849","v":0},{"$f":"' 6-Inventário de recursos'!C849","v":0},{"$f":"' 6-Inventário de recursos'!E849","v":0},{"$f":"' 6-Inventário de recursos'!F849","v":0},{"$f":"' 6-Inventário de recursos'!L380","v":0},{"$f":"' 6-Inventário de recursos'!H849","v":0},{"$f":"' 6-Inventário de recursos'!#REF!","v":{"$error":"#REF!"}}]
[null,null,null,null,null,null,null,null,null,null,null,null,null,null,null,null,null,null,null,null,null,null,null,null,null,null,null,null,{"$f":"' 6-Inventário de recursos'!B850","v":0},{"$f":"' 6-Inventário de recursos'!D850","v":0},{"$f":"' 6-Inventário de recursos'!C850","v":0},{"$f":"' 6-Inventário de recursos'!E850","v":0},{"$f":"' 6-Inventário de recursos'!F850","v":0},{"$f":"' 6-Inventário de recursos'!L381","v":0},{"$f":"' 6-Inventário de recursos'!H850","v":0},{"$f":"' 6-Inventário de recursos'!#REF!","v":{"$error":"#REF!"}}]
[null,null,null,null,null,null,null,null,null,null,null,null,null,null,null,null,null,null,null,null,null,null,null,null,null,null,null,null,{"$f":"' 6-Inventário de recursos'!B851","v":0},{"$f":"' 6-Inventário de recursos'!D851","v":0},{"$f":"' 6-Inventário de recursos'!C851","v":0},{"$f":"' 6-Inventário de recursos'!E851","v":0},{"$f":"' 6-Inventário de recursos'!F851","v":0},{"$f":"' 6-Inventário de recursos'!L382","v":0},{"$f":"' 6-Inventário de recursos'!H851","v":0},{"$f":"' 6-Inventário de recursos'!#REF!","v":{"$error":"#REF!"}}]
[null,null,null,null,null,null,null,null,null,null,null,null,null,null,null,null,null,null,null,null,null,null,null,null,null,null,null,null,{"$f":"' 6-Inventário de recursos'!B852","v":0},{"$f":"' 6-Inventário de recursos'!D852","v":0},{"$f":"' 6-Inventário de recursos'!C852","v":0},{"$f":"' 6-Inventário de recursos'!E852","v":0},{"$f":"' 6-Inventário de recursos'!F852","v":0},{"$f":"' 6-Inventário de recursos'!L383","v":0},{"$f":"' 6-Inventário de recursos'!H852","v":0},{"$f":"' 6-Inventário de recursos'!#REF!","v":{"$error":"#REF!"}}]
[null,null,null,null,null,null,null,null,null,null,null,null,null,null,null,null,null,null,null,null,null,null,null,null,null,null,null,null,{"$f":"' 6-Inventário de recursos'!B853","v":0},{"$f":"' 6-Inventário de recursos'!D853","v":0},{"$f":"' 6-Inventário de recursos'!C853","v":0},{"$f":"' 6-Inventário de recursos'!E853","v":0},{"$f":"' 6-Inventário de recursos'!F853","v":0},{"$f":"' 6-Inventário de recursos'!L384","v":0},{"$f":"' 6-Inventário de recursos'!H853","v":0},{"$f":"' 6-Inventário de recursos'!#REF!","v":{"$error":"#REF!"}}]
[null,null,null,null,null,null,null,null,null,null,null,null,null,null,null,null,null,null,null,null,null,null,null,null,null,null,null,null,{"$f":"' 6-Inventário de recursos'!B854","v":0},{"$f":"' 6-Inventário de recursos'!D854","v":0},{"$f":"' 6-Inventário de recursos'!C854","v":0},{"$f":"' 6-Inventário de recursos'!E854","v":0},{"$f":"' 6-Inventário de recursos'!F854","v":0},{"$f":"' 6-Inventário de recursos'!L385","v":0},{"$f":"' 6-Inventário de recursos'!H854","v":0},{"$f":"' 6-Inventário de recursos'!#REF!","v":{"$error":"#REF!"}}]
[null,null,null,null,null,null,null,null,null,null,null,null,null,null,null,null,null,null,null,null,null,null,null,null,null,null,null,null,{"$f":"' 6-Inventário de recursos'!B855","v":0},{"$f":"' 6-Inventário de recursos'!D855","v":0},{"$f":"' 6-Inventário de recursos'!C855","v":0},{"$f":"' 6-Inventário de recursos'!E855","v":0},{"$f":"' 6-Inventário de recursos'!F855","v":0},{"$f":"' 6-Inventário de recursos'!L386","v":0},{"$f":"' 6-Inventário de recursos'!H855","v":0},{"$f":"' 6-Inventário de recursos'!#REF!","v":{"$error":"#REF!"}}]
[null,null,null,null,null,null,null,null,null,null,null,null,null,null,null,null,null,null,null,null,null,null,null,null,null,null,null,null,{"$f":"' 6-Inventário de recursos'!B856","v":0},{"$f":"' 6-Inventário de recursos'!D856","v":0},{"$f":"' 6-Inventário de recursos'!C856","v":0},{"$f":"' 6-Inventário de recursos'!E856","v":0},{"$f":"' 6-Inventário de recursos'!F856","v":0},{"$f":"' 6-Inventário de recursos'!L387","v":0},{"$f":"' 6-Inventário de recursos'!H856","v":0},{"$f":"' 6-Inventário de recursos'!#REF!","v":{"$error":"#REF!"}}]
[null,null,null,null,null,null,null,null,null,null,null,null,null,null,null,null,null,null,null,null,null,null,null,null,null,null,null,null,{"$f":"' 6-Inventário de recursos'!B857","v":0},{"$f":"' 6-Inventário de recursos'!D857","v":0},{"$f":"' 6-Inventário de recursos'!C857","v":0},{"$f":"' 6-Inventário de recursos'!E857","v":0},{"$f":"' 6-Inventário de recursos'!F857","v":0},{"$f":"' 6-Inventário de recursos'!L388","v":0},{"$f":"' 6-Inventário de recursos'!H857","v":0},{"$f":"' 6-Inventário de recursos'!#REF!","v":{"$error":"#REF!"}}]
[null,null,null,null,null,null,null,null,null,null,null,null,null,null,null,null,null,null,null,null,null,null,null,null,null,null,null,null,{"$f":"' 6-Inventário de recursos'!B858","v":0},{"$f":"' 6-Inventário de recursos'!D858","v":0},{"$f":"' 6-Inventário de recursos'!C858","v":0},{"$f":"' 6-Inventário de recursos'!E858","v":0},{"$f":"' 6-Inventário de recursos'!F858","v":0},{"$f":"' 6-Inventário de recursos'!L389","v":0},{"$f":"' 6-Inventário de recursos'!H858","v":0},{"$f":"' 6-Inventário de recursos'!#REF!","v":{"$error":"#REF!"}}]
[null,null,null,null,null,null,null,null,null,null,null,null,null,null,null,null,null,null,null,null,null,null,null,null,null,null,null,null,{"$f":"' 6-Inventário de recursos'!B859","v":0},{"$f":"' 6-Inventário de recursos'!D859","v":0},{"$f":"' 6-Inventário de recursos'!C859","v":0},{"$f":"' 6-Inventário de recursos'!E859","v":0},{"$f":"' 6-Inventário de recursos'!F859","v":0},{"$f":"' 6-Inventário de recursos'!L390","v":0},{"$f":"' 6-Inventário de recursos'!H859","v":0},{"$f":"' 6-Inventário de recursos'!#REF!","v":{"$error":"#REF!"}}]
[null,null,null,null,null,null,null,null,null,null,null,null,null,null,null,null,null,null,null,null,null,null,null,null,null,null,null,null,{"$f":"' 6-Inventário de recursos'!B860","v":0},{"$f":"' 6-Inventário de recursos'!D860","v":0},{"$f":"' 6-Inventário de recursos'!C860","v":0},{"$f":"' 6-Inventário de recursos'!E860","v":0},{"$f":"' 6-Inventário de recursos'!F860","v":0},{"$f":"' 6-Inventário de recursos'!L391","v":0},{"$f":"' 6-Inventário de recursos'!H860","v":0},{"$f":"' 6-Inventário de recursos'!#REF!","v":{"$error":"#REF!"}}]
[null,null,null,null,null,null,null,null,null,null,null,null,null,null,null,null,null,null,null,null,null,null,null,null,null,null,null,null,{"$f":"' 6-Inventário de recursos'!B861","v":0},{"$f":"' 6-Inventário de recursos'!D861","v":0},{"$f":"' 6-Inventário de recursos'!C861","v":0},{"$f":"' 6-Inventário de recursos'!E861","v":0},{"$f":"' 6-Inventário de recursos'!F861","v":0},{"$f":"' 6-Inventário de recursos'!L392","v":0},{"$f":"' 6-Inventário de recursos'!H861","v":0},{"$f":"' 6-Inventário de recursos'!#REF!","v":{"$error":"#REF!"}}]
[null,null,null,null,null,null,null,null,null,null,null,null,null,null,null,null,null,null,null,null,null,null,null,null,null,null,null,null,{"$f":"' 6-Inventário de recursos'!B862","v":0},{"$f":"' 6-Inventário de recursos'!D862","v":0},{"$f":"' 6-Inventário de recursos'!C862","v":0},{"$f":"' 6-Inventário de recursos'!E862","v":0},{"$f":"' 6-Inventário de recursos'!F862","v":0},{"$f":"' 6-Inventário de recursos'!L393","v":0},{"$f":"' 6-Inventário de recursos'!H862","v":0},{"$f":"' 6-Inventário de recursos'!#REF!","v":{"$error":"#REF!"}}]
[null,null,null,null,null,null,null,null,null,null,null,null,null,null,null,null,null,null,null,null,null,null,null,null,null,null,null,null,{"$f":"' 6-Inventário de recursos'!B863","v":0},{"$f":"' 6-Inventário de recursos'!D863","v":0},{"$f":"' 6-Inventário de recursos'!C863","v":0},{"$f":"' 6-Inventário de recursos'!E863","v":0},{"$f":"' 6-Inventário de recursos'!F863","v":0},{"$f":"' 6-Inventário de recursos'!L394","v":0},{"$f":"' 6-Inventário de recursos'!H863","v":0},{"$f":"' 6-Inventário de recursos'!#REF!","v":{"$error":"#REF!"}}]
[null,null,null,null,null,null,null,null,null,null,null,null,null,null,null,null,null,null,null,null,null,null,null,null,null,null,null,null,{"$f":"' 6-Inventário de recursos'!B864","v":0},{"$f":"' 6-Inventário de recursos'!D864","v":0},{"$f":"' 6-Inventário de recursos'!C864","v":0},{"$f":"' 6-Inventário de recursos'!E864","v":0},{"$f":"' 6-Inventário de recursos'!F864","v":0},{"$f":"' 6-Inventário de recursos'!L395","v":0},{"$f":"' 6-Inventário de recursos'!H864","v":0},{"$f":"' 6-Inventário de recursos'!#REF!","v":{"$error":"#REF!"}}]
[null,null,null,null,null,null,null,null,null,null,null,null,null,null,null,null,null,null,null,null,null,null,null,null,null,null,null,null,{"$f":"' 6-Inventário de recursos'!B865","v":0},{"$f":"' 6-Inventário de recursos'!D865","v":0},{"$f":"' 6-Inventário de recursos'!C865","v":0},{"$f":"' 6-Inventário de recursos'!E865","v":0},{"$f":"' 6-Inventário de recursos'!F865","v":0},{"$f":"' 6-Inventário de recursos'!L396","v":0},{"$f":"' 6-Inventário de recursos'!H865","v":0},{"$f":"' 6-Inventário de recursos'!#REF!","v":{"$error":"#REF!"}}]
[null,null,null,null,null,null,null,null,null,null,null,null,null,null,null,null,null,null,null,null,null,null,null,null,null,null,null,null,{"$f":"' 6-Inventário de recursos'!B866","v":0},{"$f":"' 6-Inventário de recursos'!D866","v":0},{"$f":"' 6-Inventário de recursos'!C866","v":0},{"$f":"' 6-Inventário de recursos'!E866","v":0},{"$f":"' 6-Inventário de recursos'!F866","v":0},{"$f":"' 6-Inventário de recursos'!L397","v":0},{"$f":"' 6-Inventário de recursos'!H866","v":0},{"$f":"' 6-Inventário de recursos'!#REF!","v":{"$error":"#REF!"}}]
[null,null,null,null,null,null,null,null,null,null,null,null,null,null,null,null,null,null,null,null,null,null,null,null,null,null,null,null,{"$f":"' 6-Inventário de recursos'!B867","v":0},{"$f":"' 6-Inventário de recursos'!D867","v":0},{"$f":"' 6-Inventário de recursos'!C867","v":0},{"$f":"' 6-Inventário de recursos'!E867","v":0},{"$f":"' 6-Inventário de recursos'!F867","v":0},{"$f":"' 6-Inventário de recursos'!L398","v":0},{"$f":"' 6-Inventário de recursos'!H867","v":0},{"$f":"' 6-Inventário de recursos'!#REF!","v":{"$error":"#REF!"}}]
[null,null,null,null,null,null,null,null,null,null,null,null,null,null,null,null,null,null,null,null,null,null,null,null,null,null,null,null,{"$f":"' 6-Inventário de recursos'!B868","v":0},{"$f":"' 6-Inventário de recursos'!D868","v":0},{"$f":"' 6-Inventário de recursos'!C868","v":0},{"$f":"' 6-Inventário de recursos'!E868","v":0},{"$f":"' 6-Inventário de recursos'!F868","v":0},{"$f":"' 6-Inventário de recursos'!L399","v":0},{"$f":"' 6-Inventário de recursos'!H868","v":0},{"$f":"' 6-Inventário de recursos'!#REF!","v":{"$error":"#REF!"}}]
[null,null,null,null,null,null,null,null,null,null,null,null,null,null,null,null,null,null,null,null,null,null,null,null,null,null,null,null,{"$f":"' 6-Inventário de recursos'!B869","v":0},{"$f":"' 6-Inventário de recursos'!D869","v":0},{"$f":"' 6-Inventário de recursos'!C869","v":0},{"$f":"' 6-Inventário de recursos'!E869","v":0},{"$f":"' 6-Inventário de recursos'!F869","v":0},{"$f":"' 6-Inventário de recursos'!L400","v":0},{"$f":"' 6-Inventário de recursos'!H869","v":0},{"$f":"' 6-Inventário de recursos'!#REF!","v":{"$error":"#REF!"}}]
[null,null,null,null,null,null,null,null,null,null,null,null,null,null,null,null,null,null,null,null,null,null,null,null,null,null,null,null,{"$f":"' 6-Inventário de recursos'!B870","v":0},{"$f":"' 6-Inventário de recursos'!D870","v":0},{"$f":"' 6-Inventário de recursos'!C870","v":0},{"$f":"' 6-Inventário de recursos'!E870","v":0},{"$f":"' 6-Inventário de recursos'!F870","v":0},{"$f":"' 6-Inventário de recursos'!L401","v":0},{"$f":"' 6-Inventário de recursos'!H870","v":0},{"$f":"' 6-Inventário de recursos'!#REF!","v":{"$error":"#REF!"}}]
[null,null,null,null,null,null,null,null,null,null,null,null,null,null,null,null,null,null,null,null,null,null,null,null,null,null,null,null,{"$f":"' 6-Inventário de recursos'!B871","v":0},{"$f":"' 6-Inventário de recursos'!D871","v":0},{"$f":"' 6-Inventário de recursos'!C871","v":0},{"$f":"' 6-Inventário de recursos'!E871","v":0},{"$f":"' 6-Inventário de recursos'!F871","v":0},{"$f":"' 6-Inventário de recursos'!L402","v":0},{"$f":"' 6-Inventário de recursos'!H871","v":0},{"$f":"' 6-Inventário de recursos'!#REF!","v":{"$error":"#REF!"}}]
[null,null,null,null,null,null,null,null,null,null,null,null,null,null,null,null,null,null,null,null,null,null,null,null,null,null,null,null,{"$f":"' 6-Inventário de recursos'!B872","v":0},{"$f":"' 6-Inventário de recursos'!D872","v":0},{"$f":"' 6-Inventário de recursos'!C872","v":0},{"$f":"' 6-Inventário de recursos'!E872","v":0},{"$f":"' 6-Inventário de recursos'!F872","v":0},{"$f":"' 6-Inventário de recursos'!L403","v":0},{"$f":"' 6-Inventário de recursos'!H872","v":0},{"$f":"' 6-Inventário de recursos'!#REF!","v":{"$error":"#REF!"}}]
[null,null,null,null,null,null,null,null,null,null,null,null,null,null,null,null,null,null,null,null,null,null,null,null,null,null,null,null,{"$f":"' 6-Inventário de recursos'!B873","v":0},{"$f":"' 6-Inventário de recursos'!D873","v":0},{"$f":"' 6-Inventário de recursos'!C873","v":0},{"$f":"' 6-Inventário de recursos'!E873","v":0},{"$f":"' 6-Inventário de recursos'!F873","v":0},{"$f":"' 6-Inventário de recursos'!L404","v":0},{"$f":"' 6-Inventário de recursos'!H873","v":0},{"$f":"' 6-Inventário de recursos'!#REF!","v":{"$error":"#REF!"}}]
[null,null,null,null,null,null,null,null,null,null,null,null,null,null,null,null,null,null,null,null,null,null,null,null,null,null,null,null,{"$f":"' 6-Inventário de recursos'!B874","v":0},{"$f":"' 6-Inventário de recursos'!D874","v":0},{"$f":"' 6-Inventário de recursos'!C874","v":0},{"$f":"' 6-Inventário de recursos'!E874","v":0},{"$f":"' 6-Inventário de recursos'!F874","v":0},{"$f":"' 6-Inventário de recursos'!L405","v":0},{"$f":"' 6-Inventário de recursos'!H874","v":0},{"$f":"' 6-Inventário de recursos'!#REF!","v":{"$error":"#REF!"}}]
[null,null,null,null,null,null,null,null,null,null,null,null,null,null,null,null,null,null,null,null,null,null,null,null,null,null,null,null,{"$f":"' 6-Inventário de recursos'!B875","v":0},{"$f":"' 6-Inventário de recursos'!D875","v":0},{"$f":"' 6-Inventário de recursos'!C875","v":0},{"$f":"' 6-Inventário de recursos'!E875","v":0},{"$f":"' 6-Inventário de recursos'!F875","v":0},{"$f":"' 6-Inventário de recursos'!L406","v":0},{"$f":"' 6-Inventário de recursos'!H875","v":0},{"$f":"' 6-Inventário de recursos'!#REF!","v":{"$error":"#REF!"}}]
[null,null,null,null,null,null,null,null,null,null,null,null,null,null,null,null,null,null,null,null,null,null,null,null,null,null,null,null,{"$f":"' 6-Inventário de recursos'!B876","v":0},{"$f":"' 6-Inventário de recursos'!D876","v":0},{"$f":"' 6-Inventário de recursos'!C876","v":0},{"$f":"' 6-Inventário de recursos'!E876","v":0},{"$f":"' 6-Inventário de recursos'!F876","v":0},{"$f":"' 6-Inventário de recursos'!L407","v":0},{"$f":"' 6-Inventário de recursos'!H876","v":0},{"$f":"' 6-Inventário de recursos'!#REF!","v":{"$error":"#REF!"}}]
[null,null,null,null,null,null,null,null,null,null,null,null,null,null,null,null,null,null,null,null,null,null,null,null,null,null,null,null,{"$f":"' 6-Inventário de recursos'!B877","v":0},{"$f":"' 6-Inventário de recursos'!D877","v":0},{"$f":"' 6-Inventário de recursos'!C877","v":0},{"$f":"' 6-Inventário de recursos'!E877","v":0},{"$f":"' 6-Inventário de recursos'!F877","v":0},{"$f":"' 6-Inventário de recursos'!L408","v":0},{"$f":"' 6-Inventário de recursos'!H877","v":0},{"$f":"' 6-Inventário de recursos'!#REF!","v":{"$error":"#REF!"}}]
[null,null,null,null,null,null,null,null,null,null,null,null,null,null,null,null,null,null,null,null,null,null,null,null,null,null,null,null,{"$f":"' 6-Inventário de recursos'!B878","v":0},{"$f":"' 6-Inventário de recursos'!D878","v":0},{"$f":"' 6-Inventário de recursos'!C878","v":0},{"$f":"' 6-Inventário de recursos'!E878","v":0},{"$f":"' 6-Inventário de recursos'!F878","v":0},{"$f":"' 6-Inventário de recursos'!L409","v":0},{"$f":"' 6-Inventário de recursos'!H878","v":0},{"$f":"' 6-Inventário de recursos'!#REF!","v":{"$error":"#REF!"}}]
[null,null,null,null,null,null,null,null,null,null,null,null,null,null,null,null,null,null,null,null,null,null,null,null,null,null,null,null,{"$f":"' 6-Inventário de recursos'!B879","v":0},{"$f":"' 6-Inventário de recursos'!D879","v":0},{"$f":"' 6-Inventário de recursos'!C879","v":0},{"$f":"' 6-Inventário de recursos'!E879","v":0},{"$f":"' 6-Inventário de recursos'!F879","v":0},{"$f":"' 6-Inventário de recursos'!L410","v":0},{"$f":"' 6-Inventário de recursos'!H879","v":0},{"$f":"' 6-Inventário de recursos'!#REF!","v":{"$error":"#REF!"}}]
[null,null,null,null,null,null,null,null,null,null,null,null,null,null,null,null,null,null,null,null,null,null,null,null,null,null,null,null,{"$f":"' 6-Inventário de recursos'!B880","v":0},{"$f":"' 6-Inventário de recursos'!D880","v":0},{"$f":"' 6-Inventário de recursos'!C880","v":0},{"$f":"' 6-Inventário de recursos'!E880","v":0},{"$f":"' 6-Inventário de recursos'!F880","v":0},{"$f":"' 6-Inventário de recursos'!L411","v":0},{"$f":"' 6-Inventário de recursos'!H880","v":0},{"$f":"' 6-Inventário de recursos'!#REF!","v":{"$error":"#REF!"}}]
[null,null,null,null,null,null,null,null,null,null,null,null,null,null,null,null,null,null,null,null,null,null,null,null,null,null,null,null,{"$f":"' 6-Inventário de recursos'!B881","v":0},{"$f":"' 6-Inventário de recursos'!D881","v":0},{"$f":"' 6-Inventário de recursos'!C881","v":0},{"$f":"' 6-Inventário de recursos'!E881","v":0},{"$f":"' 6-Inventário de recursos'!F881","v":0},{"$f":"' 6-Inventário de recursos'!L412","v":0},{"$f":"' 6-Inventário de recursos'!H881","v":0},{"$f":"' 6-Inventário de recursos'!#REF!","v":{"$error":"#REF!"}}]
[null,null,null,null,null,null,null,null,null,null,null,null,null,null,null,null,null,null,null,null,null,null,null,null,null,null,null,null,{"$f":"' 6-Inventário de recursos'!B882","v":0},{"$f":"' 6-Inventário de recursos'!D882","v":0},{"$f":"' 6-Inventário de recursos'!C882","v":0},{"$f":"' 6-Inventário de recursos'!E882","v":0},{"$f":"' 6-Inventário de recursos'!F882","v":0},{"$f":"' 6-Inventário de recursos'!L413","v":0},{"$f":"' 6-Inventário de recursos'!H882","v":0},{"$f":"' 6-Inventário de recursos'!#REF!","v":{"$error":"#REF!"}}]
[null,null,null,null,null,null,null,null,null,null,null,null,null,null,null,null,null,null,null,null,null,null,null,null,null,null,null,null,{"$f":"' 6-Inventário de recursos'!B883","v":0},{"$f":"' 6-Inventário de recursos'!D883","v":0},{"$f":"' 6-Inventário de recursos'!C883","v":0},{"$f":"' 6-Inventário de recursos'!E883","v":0},{"$f":"' 6-Inventário de recursos'!F883","v":0},{"$f":"' 6-Inventário de recursos'!L414","v":0},{"$f":"' 6-Inventário de recursos'!H883","v":0},{"$f":"' 6-Inventário de recursos'!#REF!","v":{"$error":"#REF!"}}]
[null,null,null,null,null,null,null,null,null,null,null,null,null,null,null,null,null,null,null,null,null,null,null,null,null,null,null,null,{"$f":"' 6-Inventário de recursos'!B884","v":0},{"$f":"' 6-Inventário de recursos'!D884","v":0},{"$f":"' 6-Inventário de recursos'!C884","v":0},{"$f":"' 6-Inventário de recursos'!E884","v":0},{"$f":"' 6-Inventário de recursos'!F884","v":0},{"$f":"' 6-Inventário de recursos'!L415","v":0},{"$f":"' 6-Inventário de recursos'!H884","v":0},{"$f":"' 6-Inventário de recursos'!#REF!","v":{"$error":"#REF!"}}]
[null,null,null,null,null,null,null,null,null,null,null,null,null,null,null,null,null,null,null,null,null,null,null,null,null,null,null,null,{"$f":"' 6-Inventário de recursos'!B885","v":0},{"$f":"' 6-Inventário de recursos'!D885","v":0},{"$f":"' 6-Inventário de recursos'!C885","v":0},{"$f":"' 6-Inventário de recursos'!E885","v":0},{"$f":"' 6-Inventário de recursos'!F885","v":0},{"$f":"' 6-Inventário de recursos'!L416","v":0},{"$f":"' 6-Inventário de recursos'!H885","v":0},{"$f":"' 6-Inventário de recursos'!#REF!","v":{"$error":"#REF!"}}]
[null,null,null,null,null,null,null,null,null,null,null,null,null,null,null,null,null,null,null,null,null,null,null,null,null,null,null,null,{"$f":"' 6-Inventário de recursos'!B886","v":0},{"$f":"' 6-Inventário de recursos'!D886","v":0},{"$f":"' 6-Inventário de recursos'!C886","v":0},{"$f":"' 6-Inventário de recursos'!E886","v":0},{"$f":"' 6-Inventário de recursos'!F886","v":0},{"$f":"' 6-Inventário de recursos'!L417","v":0},{"$f":"' 6-Inventário de recursos'!H886","v":0},{"$f":"' 6-Inventário de recursos'!#REF!","v":{"$error":"#REF!"}}]
[null,null,null,null,null,null,null,null,null,null,null,null,null,null,null,null,null,null,null,null,null,null,null,null,null,null,null,null,{"$f":"' 6-Inventário de recursos'!B887","v":0},{"$f":"' 6-Inventário de recursos'!D887","v":0},{"$f":"' 6-Inventário de recursos'!C887","v":0},{"$f":"' 6-Inventário de recursos'!E887","v":0},{"$f":"' 6-Inventário de recursos'!F887","v":0},{"$f":"' 6-Inventário de recursos'!L418","v":0},{"$f":"' 6-Inventário de recursos'!H887","v":0},{"$f":"' 6-Inventário de recursos'!#REF!","v":{"$error":"#REF!"}}]
[null,null,null,null,null,null,null,null,null,null,null,null,null,null,null,null,null,null,null,null,null,null,null,null,null,null,null,null,{"$f":"' 6-Inventário de recursos'!B888","v":0},{"$f":"' 6-Inventário de recursos'!D888","v":0},{"$f":"' 6-Inventário de recursos'!C888","v":0},{"$f":"' 6-Inventário de recursos'!E888","v":0},{"$f":"' 6-Inventário de recursos'!F888","v":0},{"$f":"' 6-Inventário de recursos'!L419","v":0},{"$f":"' 6-Inventário de recursos'!H888","v":0},{"$f":"' 6-Inventário de recursos'!#REF!","v":{"$error":"#REF!"}}]
[null,null,null,null,null,null,null,null,null,null,null,null,null,null,null,null,null,null,null,null,null,null,null,null,null,null,null,null,{"$f":"' 6-Inventário de recursos'!B889","v":0},{"$f":"' 6-Inventário de recursos'!D889","v":0},{"$f":"' 6-Inventário de recursos'!C889","v":0},{"$f":"' 6-Inventário de recursos'!E889","v":0},{"$f":"' 6-Inventário de recursos'!F889","v":0},{"$f":"' 6-Inventário de recursos'!L420","v":0},{"$f":"' 6-Inventário de recursos'!H889","v":0},{"$f":"' 6-Inventário de recursos'!#REF!","v":{"$error":"#REF!"}}]
[null,null,null,null,null,null,null,null,null,null,null,null,null,null,null,null,null,null,null,null,null,null,null,null,null,null,null,null,{"$f":"' 6-Inventário de recursos'!B890","v":0},{"$f":"' 6-Inventário de recursos'!D890","v":0},{"$f":"' 6-Inventário de recursos'!C890","v":0},{"$f":"' 6-Inventário de recursos'!E890","v":0},{"$f":"' 6-Inventário de recursos'!F890","v":0},{"$f":"' 6-Inventário de recursos'!L421","v":0},{"$f":"' 6-Inventário de recursos'!H890","v":0},{"$f":"' 6-Inventário de recursos'!#REF!","v":{"$error":"#REF!"}}]
[null,null,null,null,null,null,null,null,null,null,null,null,null,null,null,null,null,null,null,null,null,null,null,null,null,null,null,null,{"$f":"' 6-Inventário de recursos'!B891","v":0},{"$f":"' 6-Inventário de recursos'!D891","v":0},{"$f":"' 6-Inventário de recursos'!C891","v":0},{"$f":"' 6-Inventário de recursos'!E891","v":0},{"$f":"' 6-Inventário de recursos'!F891","v":0},{"$f":"' 6-Inventário de recursos'!L422","v":0},{"$f":"' 6-Inventário de recursos'!H891","v":0},{"$f":"' 6-Inventário de recursos'!#REF!","v":{"$error":"#REF!"}}]
[null,null,null,null,null,null,null,null,null,null,null,null,null,null,null,null,null,null,null,null,null,null,null,null,null,null,null,null,{"$f":"' 6-Inventário de recursos'!B892","v":0},{"$f":"' 6-Inventário de recursos'!D892","v":0},{"$f":"' 6-Inventário de recursos'!C892","v":0},{"$f":"' 6-Inventário de recursos'!E892","v":0},{"$f":"' 6-Inventário de recursos'!F892","v":0},{"$f":"' 6-Inventário de recursos'!L423","v":0},{"$f":"' 6-Inventário de recursos'!H892","v":0},{"$f":"' 6-Inventário de recursos'!#REF!","v":{"$error":"#REF!"}}]
[null,null,null,null,null,null,null,null,null,null,null,null,null,null,null,null,null,null,null,null,null,null,null,null,null,null,null,null,{"$f":"' 6-Inventário de recursos'!B893","v":0},{"$f":"' 6-Inventário de recursos'!D893","v":0},{"$f":"' 6-Inventário de recursos'!C893","v":0},{"$f":"' 6-Inventário de recursos'!E893","v":0},{"$f":"' 6-Inventário de recursos'!F893","v":0},{"$f":"' 6-Inventário de recursos'!L424","v":0},{"$f":"' 6-Inventário de recursos'!H893","v":0},{"$f":"' 6-Inventário de recursos'!#REF!","v":{"$error":"#REF!"}}]
[null,null,null,null,null,null,null,null,null,null,null,null,null,null,null,null,null,null,null,null,null,null,null,null,null,null,null,null,{"$f":"' 6-Inventário de recursos'!B894","v":0},{"$f":"' 6-Inventário de recursos'!D894","v":0},{"$f":"' 6-Inventário de recursos'!C894","v":0},{"$f":"' 6-Inventário de recursos'!E894","v":0},{"$f":"' 6-Inventário de recursos'!F894","v":0},{"$f":"' 6-Inventário de recursos'!L425","v":0},{"$f":"' 6-Inventário de recursos'!H894","v":0},{"$f":"' 6-Inventário de recursos'!#REF!","v":{"$error":"#REF!"}}]
[null,null,null,null,null,null,null,null,null,null,null,null,null,null,null,null,null,null,null,null,null,null,null,null,null,null,null,null,{"$f":"' 6-Inventário de recursos'!B895","v":0},{"$f":"' 6-Inventário de recursos'!D895","v":0},{"$f":"' 6-Inventário de recursos'!C895","v":0},{"$f":"' 6-Inventário de recursos'!E895","v":0},{"$f":"' 6-Inventário de recursos'!F895","v":0},{"$f":"' 6-Inventário de recursos'!L426","v":0},{"$f":"' 6-Inventário de recursos'!H895","v":0},{"$f":"' 6-Inventário de recursos'!#REF!","v":{"$error":"#REF!"}}]
[null,null,null,null,null,null,null,null,null,null,null,null,null,null,null,null,null,null,null,null,null,null,null,null,null,null,null,null,{"$f":"' 6-Inventário de recursos'!B896","v":0},{"$f":"' 6-Inventário de recursos'!D896","v":0},{"$f":"' 6-Inventário de recursos'!C896","v":0},{"$f":"' 6-Inventário de recursos'!E896","v":0},{"$f":"' 6-Inventário de recursos'!F896","v":0},{"$f":"' 6-Inventário de recursos'!L427","v":0},{"$f":"' 6-Inventário de recursos'!H896","v":0},{"$f":"' 6-Inventário de recursos'!#REF!","v":{"$error":"#REF!"}}]
[null,null,null,null,null,null,null,null,null,null,null,null,null,null,null,null,null,null,null,null,null,null,null,null,null,null,null,null,{"$f":"' 6-Inventário de recursos'!B897","v":0},{"$f":"' 6-Inventário de recursos'!D897","v":0},{"$f":"' 6-Inventário de recursos'!C897","v":0},{"$f":"' 6-Inventário de recursos'!E897","v":0},{"$f":"' 6-Inventário de recursos'!F897","v":0},{"$f":"' 6-Inventário de recursos'!L428","v":0},{"$f":"' 6-Inventário de recursos'!H897","v":0},{"$f":"' 6-Inventário de recursos'!#REF!","v":{"$error":"#REF!"}}]
[null,null,null,null,null,null,null,null,null,null,null,null,null,null,null,null,null,null,null,null,null,null,null,null,null,null,null,null,{"$f":"' 6-Inventário de recursos'!B898","v":0},{"$f":"' 6-Inventário de recursos'!D898","v":0},{"$f":"' 6-Inventário de recursos'!C898","v":0},{"$f":"' 6-Inventário de recursos'!E898","v":0},{"$f":"' 6-Inventário de recursos'!F898","v":0},{"$f":"' 6-Inventário de recursos'!L429","v":0},{"$f":"' 6-Inventário de recursos'!H898","v":0},{"$f":"' 6-Inventário de recursos'!#REF!","v":{"$error":"#REF!"}}]
[null,null,null,null,null,null,null,null,null,null,null,null,null,null,null,null,null,null,null,null,null,null,null,null,null,null,null,null,{"$f":"' 6-Inventário de recursos'!B899","v":0},{"$f":"' 6-Inventário de recursos'!D899","v":0},{"$f":"' 6-Inventário de recursos'!C899","v":0},{"$f":"' 6-Inventário de recursos'!E899","v":0},{"$f":"' 6-Inventário de recursos'!F899","v":0},{"$f":"' 6-Inventário de recursos'!L430","v":0},{"$f":"' 6-Inventário de recursos'!H899","v":0},{"$f":"' 6-Inventário de recursos'!#REF!","v":{"$error":"#REF!"}}]
[null,null,null,null,null,null,null,null,null,null,null,null,null,null,null,null,null,null,null,null,null,null,null,null,null,null,null,null,{"$f":"' 6-Inventário de recursos'!B900","v":0},{"$f":"' 6-Inventário de recursos'!D900","v":0},{"$f":"' 6-Inventário de recursos'!C900","v":0},{"$f":"' 6-Inventário de recursos'!E900","v":0},{"$f":"' 6-Inventário de recursos'!F900","v":0},{"$f":"' 6-Inventário de recursos'!L431","v":0},{"$f":"' 6-Inventário de recursos'!H900","v":0},{"$f":"' 6-Inventário de recursos'!#REF!","v":{"$error":"#REF!"}}]
[null,null,null,null,null,null,null,null,null,null,null,null,null,null,null,null,null,null,null,null,null,null,null,null,null,null,null,null,{"$f":"' 6-Inventário de recursos'!B901","v":0},{"$f":"' 6-Inventário de recursos'!D901","v":0},{"$f":"' 6-Inventário de recursos'!C901","v":0},{"$f":"' 6-Inventário de recursos'!E901","v":0},{"$f":"' 6-Inventário de recursos'!F901","v":0},{"$f":"' 6-Inventário de recursos'!L432","v":0},{"$f":"' 6-Inventário de recursos'!H901","v":0},{"$f":"' 6-Inventário de recursos'!#REF!","v":{"$error":"#REF!"}}]
[null,null,null,null,null,null,null,null,null,null,null,null,null,null,null,null,null,null,null,null,null,null,null,null,null,null,null,null,{"$f":"' 6-Inventário de recursos'!B902","v":0},{"$f":"' 6-Inventário de recursos'!D902","v":0},{"$f":"' 6-Inventário de recursos'!C902","v":0},{"$f":"' 6-Inventário de recursos'!E902","v":0},{"$f":"' 6-Inventário de recursos'!F902","v":0},{"$f":"' 6-Inventário de recursos'!L433","v":0},{"$f":"' 6-Inventário de recursos'!H902","v":0},{"$f":"' 6-Inventário de recursos'!#REF!","v":{"$error":"#REF!"}}]
[null,null,null,null,null,null,null,null,null,null,null,null,null,null,null,null,null,null,null,null,null,null,null,null,null,null,null,null,{"$f":"' 6-Inventário de recursos'!B903","v":0},{"$f":"' 6-Inventário de recursos'!D903","v":0},{"$f":"' 6-Inventário de recursos'!C903","v":0},{"$f":"' 6-Inventário de recursos'!E903","v":0},{"$f":"' 6-Inventário de recursos'!F903","v":0},{"$f":"' 6-Inventário de recursos'!L434","v":0},{"$f":"' 6-Inventário de recursos'!H903","v":0},{"$f":"' 6-Inventário de recursos'!#REF!","v":{"$error":"#REF!"}}]
[null,null,null,null,null,null,null,null,null,null,null,null,null,null,null,null,null,null,null,null,null,null,null,null,null,null,null,null,{"$f":"' 6-Inventário de recursos'!B904","v":0},{"$f":"' 6-Inventário de recursos'!D904","v":0},{"$f":"' 6-Inventário de recursos'!C904","v":0},{"$f":"' 6-Inventário de recursos'!E904","v":0},{"$f":"' 6-Inventário de recursos'!F904","v":0},{"$f":"' 6-Inventário de recursos'!L435","v":0},{"$f":"' 6-Inventário de recursos'!H904","v":0},{"$f":"' 6-Inventário de recursos'!#REF!","v":{"$error":"#REF!"}}]
[null,null,null,null,null,null,null,null,null,null,null,null,null,null,null,null,null,null,null,null,null,null,null,null,null,null,null,null,{"$f":"' 6-Inventário de recursos'!B905","v":0},{"$f":"' 6-Inventário de recursos'!D905","v":0},{"$f":"' 6-Inventário de recursos'!C905","v":0},{"$f":"' 6-Inventário de recursos'!E905","v":0},{"$f":"' 6-Inventário de recursos'!F905","v":0},{"$f":"' 6-Inventário de recursos'!L436","v":0},{"$f":"' 6-Inventário de recursos'!H905","v":0},{"$f":"' 6-Inventário de recursos'!#REF!","v":{"$error":"#REF!"}}]
[null,null,null,null,null,null,null,null,null,null,null,null,null,null,null,null,null,null,null,null,null,null,null,null,null,null,null,null,{"$f":"' 6-Inventário de recursos'!B906","v":0},{"$f":"' 6-Inventário de recursos'!D906","v":0},{"$f":"' 6-Inventário de recursos'!C906","v":0},{"$f":"' 6-Inventário de recursos'!E906","v":0},{"$f":"' 6-Inventário de recursos'!F906","v":0},{"$f":"' 6-Inventário de recursos'!L437","v":0},{"$f":"' 6-Inventário de recursos'!H906","v":0},{"$f":"' 6-Inventário de recursos'!#REF!","v":{"$error":"#REF!"}}]
[null,null,null,null,null,null,null,null,null,null,null,null,null,null,null,null,null,null,null,null,null,null,null,null,null,null,null,null,{"$f":"' 6-Inventário de recursos'!B907","v":0},{"$f":"' 6-Inventário de recursos'!D907","v":0},{"$f":"' 6-Inventário de recursos'!C907","v":0},{"$f":"' 6-Inventário de recursos'!E907","v":0},{"$f":"' 6-Inventário de recursos'!F907","v":0},{"$f":"' 6-Inventário de recursos'!L438","v":0},{"$f":"' 6-Inventário de recursos'!H907","v":0},{"$f":"' 6-Inventário de recursos'!#REF!","v":{"$error":"#REF!"}}]
[null,null,null,null,null,null,null,null,null,null,null,null,null,null,null,null,null,null,null,null,null,null,null,null,null,null,null,null,{"$f":"' 6-Inventário de recursos'!B908","v":0},{"$f":"' 6-Inventário de recursos'!D908","v":0},{"$f":"' 6-Inventário de recursos'!C908","v":0},{"$f":"' 6-Inventário de recursos'!E908","v":0},{"$f":"' 6-Inventário de recursos'!F908","v":0},{"$f":"' 6-Inventário de recursos'!L439","v":0},{"$f":"' 6-Inventário de recursos'!H908","v":0},{"$f":"' 6-Inventário de recursos'!#REF!","v":{"$error":"#REF!"}}]
[null,null,null,null,null,null,null,null,null,null,null,null,null,null,null,null,null,null,null,null,null,null,null,null,null,null,null,null,{"$f":"' 6-Inventário de recursos'!B909","v":0},{"$f":"' 6-Inventário de recursos'!D909","v":0},{"$f":"' 6-Inventário de recursos'!C909","v":0},{"$f":"' 6-Inventário de recursos'!E909","v":0},{"$f":"' 6-Inventário de recursos'!F909","v":0},{"$f":"' 6-Inventário de recursos'!L440","v":0},{"$f":"' 6-Inventário de recursos'!H909","v":0},{"$f":"' 6-Inventário de recursos'!#REF!","v":{"$error":"#REF!"}}]
[null,null,null,null,null,null,null,null,null,null,null,null,null,null,null,null,null,null,null,null,null,null,null,null,null,null,null,null,{"$f":"' 6-Inventário de recursos'!B910","v":0},{"$f":"' 6-Inventário de recursos'!D910","v":0},{"$f":"' 6-Inventário de recursos'!C910","v":0},{"$f":"' 6-Inventário de recursos'!E910","v":0},{"$f":"' 6-Inventário de recursos'!F910","v":0},{"$f":"' 6-Inventário de recursos'!L441","v":0},{"$f":"' 6-Inventário de recursos'!H910","v":0},{"$f":"' 6-Inventário de recursos'!#REF!","v":{"$error":"#REF!"}}]
[null,null,null,null,null,null,null,null,null,null,null,null,null,null,null,null,null,null,null,null,null,null,null,null,null,null,null,null,{"$f":"' 6-Inventário de recursos'!B911","v":0},{"$f":"' 6-Inventário de recursos'!D911","v":0},{"$f":"' 6-Inventário de recursos'!C911","v":0},{"$f":"' 6-Inventário de recursos'!E911","v":0},{"$f":"' 6-Inventário de recursos'!F911","v":0},{"$f":"' 6-Inventário de recursos'!L442","v":0},{"$f":"' 6-Inventário de recursos'!H911","v":0},{"$f":"' 6-Inventário de recursos'!#REF!","v":{"$error":"#REF!"}}]
[null,null,null,null,null,null,null,null,null,null,null,null,null,null,null,null,null,null,null,null,null,null,null,null,null,null,null,null,{"$f":"' 6-Inventário de recursos'!B912","v":0},{"$f":"' 6-Inventário de recursos'!D912","v":0},{"$f":"' 6-Inventário de recursos'!C912","v":0},{"$f":"' 6-Inventário de recursos'!E912","v":0},{"$f":"' 6-Inventário de recursos'!F912","v":0},{"$f":"' 6-Inventário de recursos'!L443","v":0},{"$f":"' 6-Inventário de recursos'!H912","v":0},{"$f":"' 6-Inventário de recursos'!#REF!","v":{"$error":"#REF!"}}]
[null,null,null,null,null,null,null,null,null,null,null,null,null,null,null,null,null,null,null,null,null,null,null,null,null,null,null,null,{"$f":"' 6-Inventário de recursos'!B913","v":0},{"$f":"' 6-Inventário de recursos'!D913","v":0},{"$f":"' 6-Inventário de recursos'!C913","v":0},{"$f":"' 6-Inventário de recursos'!E913","v":0},{"$f":"' 6-Inventário de recursos'!F913","v":0},{"$f":"' 6-Inventário de recursos'!L444","v":0},{"$f":"' 6-Inventário de recursos'!H913","v":0},{"$f":"' 6-Inventário de recursos'!#REF!","v":{"$error":"#REF!"}}]
[null,null,null,null,null,null,null,null,null,null,null,null,null,null,null,null,null,null,null,null,null,null,null,null,null,null,null,null,{"$f":"' 6-Inventário de recursos'!B914","v":0},{"$f":"' 6-Inventário de recursos'!D914","v":0},{"$f":"' 6-Inventário de recursos'!C914","v":0},{"$f":"' 6-Inventário de recursos'!E914","v":0},{"$f":"' 6-Inventário de recursos'!F914","v":0},{"$f":"' 6-Inventário de recursos'!L445","v":0},{"$f":"' 6-Inventário de recursos'!H914","v":0},{"$f":"' 6-Inventário de recursos'!#REF!","v":{"$error":"#REF!"}}]
[null,null,null,null,null,null,null,null,null,null,null,null,null,null,null,null,null,null,null,null,null,null,null,null,null,null,null,null,{"$f":"' 6-Inventário de recursos'!B915","v":0},{"$f":"' 6-Inventário de recursos'!D915","v":0},{"$f":"' 6-Inventário de recursos'!C915","v":0},{"$f":"' 6-Inventário de recursos'!E915","v":0},{"$f":"' 6-Inventário de recursos'!F915","v":0},{"$f":"' 6-Inventário de recursos'!L446","v":0},{"$f":"' 6-Inventário de recursos'!H915","v":0},{"$f":"' 6-Inventário de recursos'!#REF!","v":{"$error":"#REF!"}}]
[null,null,null,null,null,null,null,null,null,null,null,null,null,null,null,null,null,null,null,null,null,null,null,null,null,null,null,null,{"$f":"' 6-Inventário de recursos'!B916","v":0},{"$f":"' 6-Inventário de recursos'!D916","v":0},{"$f":"' 6-Inventário de recursos'!C916","v":0},{"$f":"' 6-Inventário de recursos'!E916","v":0},{"$f":"' 6-Inventário de recursos'!F916","v":0},{"$f":"' 6-Inventário de recursos'!L447","v":0},{"$f":"' 6-Inventário de recursos'!H916","v":0},{"$f":"' 6-Inventário de recursos'!#REF!","v":{"$error":"#REF!"}}]
[null,null,null,null,null,null,null,null,null,null,null,null,null,null,null,null,null,null,null,null,null,null,null,null,null,null,null,null,{"$f":"' 6-Inventário de recursos'!B917","v":0},{"$f":"' 6-Inventário de recursos'!D917","v":0},{"$f":"' 6-Inventário de recursos'!C917","v":0},{"$f":"' 6-Inventário de recursos'!E917","v":0},{"$f":"' 6-Inventário de recursos'!F917","v":0},{"$f":"' 6-Inventário de recursos'!L448","v":0},{"$f":"' 6-Inventário de recursos'!H917","v":0},{"$f":"' 6-Inventário de recursos'!#REF!","v":{"$error":"#REF!"}}]
[null,null,null,null,null,null,null,null,null,null,null,null,null,null,null,null,null,null,null,null,null,null,null,null,null,null,null,null,{"$f":"' 6-Inventário de recursos'!B918","v":0},{"$f":"' 6-Inventário de recursos'!D918","v":0},{"$f":"' 6-Inventário de recursos'!C918","v":0},{"$f":"' 6-Inventário de recursos'!E918","v":0},{"$f":"' 6-Inventário de recursos'!F918","v":0},{"$f":"' 6-Inventário de recursos'!L449","v":0},{"$f":"' 6-Inventário de recursos'!H918","v":0},{"$f":"' 6-Inventário de recursos'!#REF!","v":{"$error":"#REF!"}}]
[null,null,null,null,null,null,null,null,null,null,null,null,null,null,null,null,null,null,null,null,null,null,null,null,null,null,null,null,{"$f":"' 6-Inventário de recursos'!B919","v":0},{"$f":"' 6-Inventário de recursos'!D919","v":0},{"$f":"' 6-Inventário de recursos'!C919","v":0},{"$f":"' 6-Inventário de recursos'!E919","v":0},{"$f":"' 6-Inventário de recursos'!F919","v":0},{"$f":"' 6-Inventário de recursos'!L450","v":0},{"$f":"' 6-Inventário de recursos'!H919","v":0},{"$f":"' 6-Inventário de recursos'!#REF!","v":{"$error":"#REF!"}}]
[null,null,null,null,null,null,null,null,null,null,null,null,null,null,null,null,null,null,null,null,null,null,null,null,null,null,null,null,{"$f":"' 6-Inventário de recursos'!B920","v":0},{"$f":"' 6-Inventário de recursos'!D920","v":0},{"$f":"' 6-Inventário de recursos'!C920","v":0},{"$f":"' 6-Inventário de recursos'!E920","v":0},{"$f":"' 6-Inventário de recursos'!F920","v":0},{"$f":"' 6-Inventário de recursos'!L451","v":0},{"$f":"' 6-Inventário de recursos'!H920","v":0},{"$f":"' 6-Inventário de recursos'!#REF!","v":{"$error":"#REF!"}}]
[null,null,null,null,null,null,null,null,null,null,null,null,null,null,null,null,null,null,null,null,null,null,null,null,null,null,null,null,{"$f":"' 6-Inventário de recursos'!B921","v":0},{"$f":"' 6-Inventário de recursos'!D921","v":0},{"$f":"' 6-Inventário de recursos'!C921","v":0},{"$f":"' 6-Inventário de recursos'!E921","v":0},{"$f":"' 6-Inventário de recursos'!F921","v":0},{"$f":"' 6-Inventário de recursos'!L452","v":0},{"$f":"' 6-Inventário de recursos'!H921","v":0},{"$f":"' 6-Inventário de recursos'!#REF!","v":{"$error":"#REF!"}}]
[null,null,null,null,null,null,null,null,null,null,null,null,null,null,null,null,null,null,null,null,null,null,null,null,null,null,null,null,{"$f":"' 6-Inventário de recursos'!B922","v":0},{"$f":"' 6-Inventário de recursos'!D922","v":0},{"$f":"' 6-Inventário de recursos'!C922","v":0},{"$f":"' 6-Inventário de recursos'!E922","v":0},{"$f":"' 6-Inventário de recursos'!F922","v":0},{"$f":"' 6-Inventário de recursos'!L453","v":0},{"$f":"' 6-Inventário de recursos'!H922","v":0},{"$f":"' 6-Inventário de recursos'!#REF!","v":{"$error":"#REF!"}}]
[null,null,null,null,null,null,null,null,null,null,null,null,null,null,null,null,null,null,null,null,null,null,null,null,null,null,null,null,{"$f":"' 6-Inventário de recursos'!B923","v":0},{"$f":"' 6-Inventário de recursos'!D923","v":0},{"$f":"' 6-Inventário de recursos'!C923","v":0},{"$f":"' 6-Inventário de recursos'!E923","v":0},{"$f":"' 6-Inventário de recursos'!F923","v":0},{"$f":"' 6-Inventário de recursos'!L454","v":0},{"$f":"' 6-Inventário de recursos'!H923","v":0},{"$f":"' 6-Inventário de recursos'!#REF!","v":{"$error":"#REF!"}}]
[null,null,null,null,null,null,null,null,null,null,null,null,null,null,null,null,null,null,null,null,null,null,null,null,null,null,null,null,{"$f":"' 6-Inventário de recursos'!B924","v":0},{"$f":"' 6-Inventário de recursos'!D924","v":0},{"$f":"' 6-Inventário de recursos'!C924","v":0},{"$f":"' 6-Inventário de recursos'!E924","v":0},{"$f":"' 6-Inventário de recursos'!F924","v":0},{"$f":"' 6-Inventário de recursos'!L455","v":0},{"$f":"' 6-Inventário de recursos'!H924","v":0},{"$f":"' 6-Inventário de recursos'!#REF!","v":{"$error":"#REF!"}}]
[null,null,null,null,null,null,null,null,null,null,null,null,null,null,null,null,null,null,null,null,null,null,null,null,null,null,null,null,{"$f":"' 6-Inventário de recursos'!B925","v":0},{"$f":"' 6-Inventário de recursos'!D925","v":0},{"$f":"' 6-Inventário de recursos'!C925","v":0},{"$f":"' 6-Inventário de recursos'!E925","v":0},{"$f":"' 6-Inventário de recursos'!F925","v":0},{"$f":"' 6-Inventário de recursos'!L456","v":0},{"$f":"' 6-Inventário de recursos'!H925","v":0},{"$f":"' 6-Inventário de recursos'!#REF!","v":{"$error":"#REF!"}}]
[null,null,null,null,null,null,null,null,null,null,null,null,null,null,null,null,null,null,null,null,null,null,null,null,null,null,null,null,{"$f":"' 6-Inventário de recursos'!B926","v":0},{"$f":"' 6-Inventário de recursos'!D926","v":0},{"$f":"' 6-Inventário de recursos'!C926","v":0},{"$f":"' 6-Inventário de recursos'!E926","v":0},{"$f":"' 6-Inventário de recursos'!F926","v":0},{"$f":"' 6-Inventário de recursos'!L457","v":0},{"$f":"' 6-Inventário de recursos'!H926","v":0},{"$f":"' 6-Inventário de recursos'!#REF!","v":{"$error":"#REF!"}}]
[null,null,null,null,null,null,null,null,null,null,null,null,null,null,null,null,null,null,null,null,null,null,null,null,null,null,null,null,{"$f":"' 6-Inventário de recursos'!B927","v":0},{"$f":"' 6-Inventário de recursos'!D927","v":0},{"$f":"' 6-Inventário de recursos'!C927","v":0},{"$f":"' 6-Inventário de recursos'!E927","v":0},{"$f":"' 6-Inventário de recursos'!F927","v":0},{"$f":"' 6-Inventário de recursos'!L458","v":0},{"$f":"' 6-Inventário de recursos'!H927","v":0},{"$f":"' 6-Inventário de recursos'!#REF!","v":{"$error":"#REF!"}}]
[null,null,null,null,null,null,null,null,null,null,null,null,null,null,null,null,null,null,null,null,null,null,null,null,null,null,null,null,{"$f":"' 6-Inventário de recursos'!B928","v":0},{"$f":"' 6-Inventário de recursos'!D928","v":0},{"$f":"' 6-Inventário de recursos'!C928","v":0},{"$f":"' 6-Inventário de recursos'!E928","v":0},{"$f":"' 6-Inventário de recursos'!F928","v":0},{"$f":"' 6-Inventário de recursos'!L459","v":0},{"$f":"' 6-Inventário de recursos'!H928","v":0},{"$f":"' 6-Inventário de recursos'!#REF!","v":{"$error":"#REF!"}}]
[null,null,null,null,null,null,null,null,null,null,null,null,null,null,null,null,null,null,null,null,null,null,null,null,null,null,null,null,{"$f":"' 6-Inventário de recursos'!B929","v":0},{"$f":"' 6-Inventário de recursos'!D929","v":0},{"$f":"' 6-Inventário de recursos'!C929","v":0},{"$f":"' 6-Inventário de recursos'!E929","v":0},{"$f":"' 6-Inventário de recursos'!F929","v":0},{"$f":"' 6-Inventário de recursos'!L460","v":0},{"$f":"' 6-Inventário de recursos'!H929","v":0},{"$f":"' 6-Inventário de recursos'!#REF!","v":{"$error":"#REF!"}}]
[null,null,null,null,null,null,null,null,null,null,null,null,null,null,null,null,null,null,null,null,null,null,null,null,null,null,null,null,{"$f":"' 6-Inventário de recursos'!B930","v":0},{"$f":"' 6-Inventário de recursos'!D930","v":0},{"$f":"' 6-Inventário de recursos'!C930","v":0},{"$f":"' 6-Inventário de recursos'!E930","v":0},{"$f":"' 6-Inventário de recursos'!F930","v":0},{"$f":"' 6-Inventário de recursos'!L461","v":0},{"$f":"' 6-Inventário de recursos'!H930","v":0},{"$f":"' 6-Inventário de recursos'!#REF!","v":{"$error":"#REF!"}}]
[null,null,null,null,null,null,null,null,null,null,null,null,null,null,null,null,null,null,null,null,null,null,null,null,null,null,null,null,{"$f":"' 6-Inventário de recursos'!B931","v":0},{"$f":"' 6-Inventário de recursos'!D931","v":0},{"$f":"' 6-Inventário de recursos'!C931","v":0},{"$f":"' 6-Inventário de recursos'!E931","v":0},{"$f":"' 6-Inventário de recursos'!F931","v":0},{"$f":"' 6-Inventário de recursos'!L462","v":0},{"$f":"' 6-Inventário de recursos'!H931","v":0},{"$f":"' 6-Inventário de recursos'!#REF!","v":{"$error":"#REF!"}}]
[null,null,null,null,null,null,null,null,null,null,null,null,null,null,null,null,null,null,null,null,null,null,null,null,null,null,null,null,{"$f":"' 6-Inventário de recursos'!B932","v":0},{"$f":"' 6-Inventário de recursos'!D932","v":0},{"$f":"' 6-Inventário de recursos'!C932","v":0},{"$f":"' 6-Inventário de recursos'!E932","v":0},{"$f":"' 6-Inventário de recursos'!F932","v":0},{"$f":"' 6-Inventário de recursos'!L463","v":0},{"$f":"' 6-Inventário de recursos'!H932","v":0},{"$f":"' 6-Inventário de recursos'!#REF!","v":{"$error":"#REF!"}}]
[null,null,null,null,null,null,null,null,null,null,null,null,null,null,null,null,null,null,null,null,null,null,null,null,null,null,null,null,{"$f":"' 6-Inventário de recursos'!B933","v":0},{"$f":"' 6-Inventário de recursos'!D933","v":0},{"$f":"' 6-Inventário de recursos'!C933","v":0},{"$f":"' 6-Inventário de recursos'!E933","v":0},{"$f":"' 6-Inventário de recursos'!F933","v":0},{"$f":"' 6-Inventário de recursos'!L464","v":0},{"$f":"' 6-Inventário de recursos'!H933","v":0},{"$f":"' 6-Inventário de recursos'!#REF!","v":{"$error":"#REF!"}}]
[null,null,null,null,null,null,null,null,null,null,null,null,null,null,null,null,null,null,null,null,null,null,null,null,null,null,null,null,{"$f":"' 6-Inventário de recursos'!B934","v":0},{"$f":"' 6-Inventário de recursos'!D934","v":0},{"$f":"' 6-Inventário de recursos'!C934","v":0},{"$f":"' 6-Inventário de recursos'!E934","v":0},{"$f":"' 6-Inventário de recursos'!F934","v":0},{"$f":"' 6-Inventário de recursos'!L465","v":0},{"$f":"' 6-Inventário de recursos'!H934","v":0},{"$f":"' 6-Inventário de recursos'!#REF!","v":{"$error":"#REF!"}}]
[null,null,null,null,null,null,null,null,null,null,null,null,null,null,null,null,null,null,null,null,null,null,null,null,null,null,null,null,{"$f":"' 6-Inventário de recursos'!B935","v":0},{"$f":"' 6-Inventário de recursos'!D935","v":0},{"$f":"' 6-Inventário de recursos'!C935","v":0},{"$f":"' 6-Inventário de recursos'!E935","v":0},{"$f":"' 6-Inventário de recursos'!F935","v":0},{"$f":"' 6-Inventário de recursos'!L466","v":0},{"$f":"' 6-Inventário de recursos'!H935","v":0},{"$f":"' 6-Inventário de recursos'!#REF!","v":{"$error":"#REF!"}}]
[null,null,null,null,null,null,null,null,null,null,null,null,null,null,null,null,null,null,null,null,null,null,null,null,null,null,null,null,{"$f":"' 6-Inventário de recursos'!B936","v":0},{"$f":"' 6-Inventário de recursos'!D936","v":0},{"$f":"' 6-Inventário de recursos'!C936","v":0},{"$f":"' 6-Inventário de recursos'!E936","v":0},{"$f":"' 6-Inventário de recursos'!F936","v":0},{"$f":"' 6-Inventário de recursos'!L467","v":0},{"$f":"' 6-Inventário de recursos'!H936","v":0},{"$f":"' 6-Inventário de recursos'!#REF!","v":{"$error":"#REF!"}}]
[null,null,null,null,null,null,null,null,null,null,null,null,null,null,null,null,null,null,null,null,null,null,null,null,null,null,null,null,{"$f":"' 6-Inventário de recursos'!B937","v":0},{"$f":"' 6-Inventário de recursos'!D937","v":0},{"$f":"' 6-Inventário de recursos'!C937","v":0},{"$f":"' 6-Inventário de recursos'!E937","v":0},{"$f":"' 6-Inventário de recursos'!F937","v":0},{"$f":"' 6-Inventário de recursos'!L468","v":0},{"$f":"' 6-Inventário de recursos'!H937","v":0},{"$f":"' 6-Inventário de recursos'!#REF!","v":{"$error":"#REF!"}}]
[null,null,null,null,null,null,null,null,null,null,null,null,null,null,null,null,null,null,null,null,null,null,null,null,null,null,null,null,{"$f":"' 6-Inventário de recursos'!B938","v":0},{"$f":"' 6-Inventário de recursos'!D938","v":0},{"$f":"' 6-Inventário de recursos'!C938","v":0},{"$f":"' 6-Inventário de recursos'!E938","v":0},{"$f":"' 6-Inventário de recursos'!F938","v":0},{"$f":"' 6-Inventário de recursos'!L469","v":0},{"$f":"' 6-Inventário de recursos'!H938","v":0},{"$f":"' 6-Inventário de recursos'!#REF!","v":{"$error":"#REF!"}}]
[null,null,null,null,null,null,null,null,null,null,null,null,null,null,null,null,null,null,null,null,null,null,null,null,null,null,null,null,{"$f":"' 6-Inventário de recursos'!B939","v":0},{"$f":"' 6-Inventário de recursos'!D939","v":0},{"$f":"' 6-Inventário de recursos'!C939","v":0},{"$f":"' 6-Inventário de recursos'!E939","v":0},{"$f":"' 6-Inventário de recursos'!F939","v":0},{"$f":"' 6-Inventário de recursos'!L470","v":0},{"$f":"' 6-Inventário de recursos'!H939","v":0},{"$f":"' 6-Inventário de recursos'!#REF!","v":{"$error":"#REF!"}}]
[null,null,null,null,null,null,null,null,null,null,null,null,null,null,null,null,null,null,null,null,null,null,null,null,null,null,null,null,{"$f":"' 6-Inventário de recursos'!B940","v":0},{"$f":"' 6-Inventário de recursos'!D940","v":0},{"$f":"' 6-Inventário de recursos'!C940","v":0},{"$f":"' 6-Inventário de recursos'!E940","v":0},{"$f":"' 6-Inventário de recursos'!F940","v":0},{"$f":"' 6-Inventário de recursos'!L471","v":0},{"$f":"' 6-Inventário de recursos'!H940","v":0},{"$f":"' 6-Inventário de recursos'!#REF!","v":{"$error":"#REF!"}}]
[null,null,null,null,null,null,null,null,null,null,null,null,null,null,null,null,null,null,null,null,null,null,null,null,null,null,null,null,{"$f":"' 6-Inventário de recursos'!B941","v":0},{"$f":"' 6-Inventário de recursos'!D941","v":0},{"$f":"' 6-Inventário de recursos'!C941","v":0},{"$f":"' 6-Inventário de recursos'!E941","v":0},{"$f":"' 6-Inventário de recursos'!F941","v":0},{"$f":"' 6-Inventário de recursos'!L472","v":0},{"$f":"' 6-Inventário de recursos'!H941","v":0},{"$f":"' 6-Inventário de recursos'!#REF!","v":{"$error":"#REF!"}}]
[null,null,null,null,null,null,null,null,null,null,null,null,null,null,null,null,null,null,null,null,null,null,null,null,null,null,null,null,{"$f":"' 6-Inventário de recursos'!B942","v":0},{"$f":"' 6-Inventário de recursos'!D942","v":0},{"$f":"' 6-Inventário de recursos'!C942","v":0},{"$f":"' 6-Inventário de recursos'!E942","v":0},{"$f":"' 6-Inventário de recursos'!F942","v":0},{"$f":"' 6-Inventário de recursos'!L473","v":0},{"$f":"' 6-Inventário de recursos'!H942","v":0},{"$f":"' 6-Inventário de recursos'!#REF!","v":{"$error":"#REF!"}}]
[null,null,null,null,null,null,null,null,null,null,null,null,null,null,null,null,null,null,null,null,null,null,null,null,null,null,null,null,{"$f":"' 6-Inventário de recursos'!B943","v":0},{"$f":"' 6-Inventário de recursos'!D943","v":0},{"$f":"' 6-Inventário de recursos'!C943","v":0},{"$f":"' 6-Inventário de recursos'!E943","v":0},{"$f":"' 6-Inventário de recursos'!F943","v":0},{"$f":"' 6-Inventário de recursos'!L474","v":0},{"$f":"' 6-Inventário de recursos'!H943","v":0},{"$f":"' 6-Inventário de recursos'!#REF!","v":{"$error":"#REF!"}}]
[null,null,null,null,null,null,null,null,null,null,null,null,null,null,null,null,null,null,null,null,null,null,null,null,null,null,null,null,{"$f":"' 6-Inventário de recursos'!B944","v":0},{"$f":"' 6-Inventário de recursos'!D944","v":0},{"$f":"' 6-Inventário de recursos'!C944","v":0},{"$f":"' 6-Inventário de recursos'!E944","v":0},{"$f":"' 6-Inventário de recursos'!F944","v":0},{"$f":"' 6-Inventário de recursos'!L475","v":0},{"$f":"' 6-Inventário de recursos'!H944","v":0},{"$f":"' 6-Inventário de recursos'!#REF!","v":{"$error":"#REF!"}}]
[null,null,null,null,null,null,null,null,null,null,null,null,null,null,null,null,null,null,null,null,null,null,null,null,null,null,null,null,{"$f":"' 6-Inventário de recursos'!B945","v":0},{"$f":"' 6-Inventário de recursos'!D945","v":0},{"$f":"' 6-Inventário de recursos'!C945","v":0},{"$f":"' 6-Inventário de recursos'!E945","v":0},{"$f":"' 6-Inventário de recursos'!F945","v":0},{"$f":"' 6-Inventário de recursos'!L476","v":0},{"$f":"' 6-Inventário de recursos'!H945","v":0},{"$f":"' 6-Inventário de recursos'!#REF!","v":{"$error":"#REF!"}}]
[null,null,null,null,null,null,null,null,null,null,null,null,null,null,null,null,null,null,null,null,null,null,null,null,null,null,null,null,{"$f":"' 6-Inventário de recursos'!B946","v":0},{"$f":"' 6-Inventário de recursos'!D946","v":0},{"$f":"' 6-Inventário de recursos'!C946","v":0},{"$f":"' 6-Inventário de recursos'!E946","v":0},{"$f":"' 6-Inventário de recursos'!F946","v":0},{"$f":"' 6-Inventário de recursos'!L477","v":0},{"$f":"' 6-Inventário de recursos'!H946","v":0},{"$f":"' 6-Inventário de recursos'!#REF!","v":{"$error":"#REF!"}}]
[null,null,null,null,null,null,null,null,null,null,null,null,null,null,null,null,null,null,null,null,null,null,null,null,null,null,null,null,{"$f":"' 6-Inventário de recursos'!B947","v":0},{"$f":"' 6-Inventário de recursos'!D947","v":0},{"$f":"' 6-Inventário de recursos'!C947","v":0},{"$f":"' 6-Inventário de recursos'!E947","v":0},{"$f":"' 6-Inventário de recursos'!F947","v":0},{"$f":"' 6-Inventário de recursos'!L478","v":0},{"$f":"' 6-Inventário de recursos'!H947","v":0},{"$f":"' 6-Inventário de recursos'!#REF!","v":{"$error":"#REF!"}}]
[null,null,null,null,null,null,null,null,null,null,null,null,null,null,null,null,null,null,null,null,null,null,null,null,null,null,null,null,{"$f":"' 6-Inventário de recursos'!B948","v":0},{"$f":"' 6-Inventário de recursos'!D948","v":0},{"$f":"' 6-Inventário de recursos'!C948","v":0},{"$f":"' 6-Inventário de recursos'!E948","v":0},{"$f":"' 6-Inventário de recursos'!F948","v":0},{"$f":"' 6-Inventário de recursos'!L479","v":0},{"$f":"' 6-Inventário de recursos'!H948","v":0},{"$f":"' 6-Inventário de recursos'!#REF!","v":{"$error":"#REF!"}}]
[null,null,null,null,null,null,null,null,null,null,null,null,null,null,null,null,null,null,null,null,null,null,null,null,null,null,null,null,{"$f":"' 6-Inventário de recursos'!B949","v":0},{"$f":"' 6-Inventário de recursos'!D949","v":0},{"$f":"' 6-Inventário de recursos'!C949","v":0},{"$f":"' 6-Inventário de recursos'!E949","v":0},{"$f":"' 6-Inventário de recursos'!F949","v":0},{"$f":"' 6-Inventário de recursos'!L480","v":0},{"$f":"' 6-Inventário de recursos'!H949","v":0},{"$f":"' 6-Inventário de recursos'!#REF!","v":{"$error":"#REF!"}}]
[null,null,null,null,null,null,null,null,null,null,null,null,null,null,null,null,null,null,null,null,null,null,null,null,null,null,null,null,{"$f":"' 6-Inventário de recursos'!B950","v":0},{"$f":"' 6-Inventário de recursos'!D950","v":0},{"$f":"' 6-Inventário de recursos'!C950","v":0},{"$f":"' 6-Inventário de recursos'!E950","v":0},{"$f":"' 6-Inventário de recursos'!F950","v":0},{"$f":"' 6-Inventário de recursos'!L481","v":0},{"$f":"' 6-Inventário de recursos'!H950","v":0},{"$f":"' 6-Inventário de recursos'!#REF!","v":{"$error":"#REF!"}}]
[null,null,null,null,null,null,null,null,null,null,null,null,null,null,null,null,null,null,null,null,null,null,null,null,null,null,null,null,{"$f":"' 6-Inventário de recursos'!B951","v":0},{"$f":"' 6-Inventário de recursos'!D951","v":0},{"$f":"' 6-Inventário de recursos'!C951","v":0},{"$f":"' 6-Inventário de recursos'!E951","v":0},{"$f":"' 6-Inventário de recursos'!F951","v":0},{"$f":"' 6-Inventário de recursos'!L482","v":0},{"$f":"' 6-Inventário de recursos'!H951","v":0},{"$f":"' 6-Inventário de recursos'!#REF!","v":{"$error":"#REF!"}}]
[null,null,null,null,null,null,null,null,null,null,null,null,null,null,null,null,null,null,null,null,null,null,null,null,null,null,null,null,{"$f":"' 6-Inventário de recursos'!B952","v":0},{"$f":"' 6-Inventário de recursos'!D952","v":0},{"$f":"' 6-Inventário de recursos'!C952","v":0},{"$f":"' 6-Inventário de recursos'!E952","v":0},{"$f":"' 6-Inventário de recursos'!F952","v":0},{"$f":"' 6-Inventário de recursos'!L483","v":0},{"$f":"' 6-Inventário de recursos'!H952","v":0},{"$f":"' 6-Inventário de recursos'!#REF!","v":{"$error":"#REF!"}}]
[null,null,null,null,null,null,null,null,null,null,null,null,null,null,null,null,null,null,null,null,null,null,null,null,null,null,null,null,{"$f":"' 6-Inventário de recursos'!B953","v":0},{"$f":"' 6-Inventário de recursos'!D953","v":0},{"$f":"' 6-Inventário de recursos'!C953","v":0},{"$f":"' 6-Inventário de recursos'!E953","v":0},{"$f":"' 6-Inventário de recursos'!F953","v":0},{"$f":"' 6-Inventário de recursos'!L484","v":0},{"$f":"' 6-Inventário de recursos'!H953","v":0},{"$f":"' 6-Inventário de recursos'!#REF!","v":{"$error":"#REF!"}}]
[null,null,null,null,null,null,null,null,null,null,null,null,null,null,null,null,null,null,null,null,null,null,null,null,null,null,null,null,{"$f":"' 6-Inventário de recursos'!B954","v":0},{"$f":"' 6-Inventário de recursos'!D954","v":0},{"$f":"' 6-Inventário de recursos'!C954","v":0},{"$f":"' 6-Inventário de recursos'!E954","v":0},{"$f":"' 6-Inventário de recursos'!F954","v":0},{"$f":"' 6-Inventário de recursos'!L485","v":0},{"$f":"' 6-Inventário de recursos'!H954","v":0},{"$f":"' 6-Inventário de recursos'!#REF!","v":{"$error":"#REF!"}}]
[null,null,null,null,null,null,null,null,null,null,null,null,null,null,null,null,null,null,null,null,null,null,null,null,null,null,null,null,{"$f":"' 6-Inventário de recursos'!B955","v":0},{"$f":"' 6-Inventário de recursos'!D955","v":0},{"$f":"' 6-Inventário de recursos'!C955","v":0},{"$f":"' 6-Inventário de recursos'!E955","v":0},{"$f":"' 6-Inventário de recursos'!F955","v":0},{"$f":"' 6-Inventário de recursos'!L486","v":0},{"$f":"' 6-Inventário de recursos'!H955","v":0},{"$f":"' 6-Inventário de recursos'!#REF!","v":{"$error":"#REF!"}}]
[null,null,null,null,null,null,null,null,null,null,null,null,null,null,null,null,null,null,null,null,null,null,null,null,null,null,null,null,{"$f":"' 6-Inventário de recursos'!B956","v":0},{"$f":"' 6-Inventário de recursos'!D956","v":0},{"$f":"' 6-Inventário de recursos'!C956","v":0},{"$f":"' 6-Inventário de recursos'!E956","v":0},{"$f":"' 6-Inventário de recursos'!F956","v":0},{"$f":"' 6-Inventário de recursos'!L487","v":0},{"$f":"' 6-Inventário de recursos'!H956","v":0},{"$f":"' 6-Inventário de recursos'!#REF!","v":{"$error":"#REF!"}}]
[null,null,null,null,null,null,null,null,null,null,null,null,null,null,null,null,null,null,null,null,null,null,null,null,null,null,null,null,{"$f":"' 6-Inventário de recursos'!B957","v":0},{"$f":"' 6-Inventário de recursos'!D957","v":0},{"$f":"' 6-Inventário de recursos'!C957","v":0},{"$f":"' 6-Inventário de recursos'!E957","v":0},{"$f":"' 6-Inventário de recursos'!F957","v":0},{"$f":"' 6-Inventário de recursos'!L488","v":0},{"$f":"' 6-Inventário de recursos'!H957","v":0},{"$f":"' 6-Inventário de recursos'!#REF!","v":{"$error":"#REF!"}}]
[null,null,null,null,null,null,null,null,null,null,null,null,null,null,null,null,null,null,null,null,null,null,null,null,null,null,null,null,{"$f":"' 6-Inventário de recursos'!B958","v":0},{"$f":"' 6-Inventário de recursos'!D958","v":0},{"$f":"' 6-Inventário de recursos'!C958","v":0},{"$f":"' 6-Inventário de recursos'!E958","v":0},{"$f":"' 6-Inventário de recursos'!F958","v":0},{"$f":"' 6-Inventário de recursos'!L489","v":0},{"$f":"' 6-Inventário de recursos'!H958","v":0},{"$f":"' 6-Inventário de recursos'!#REF!","v":{"$error":"#REF!"}}]
[null,null,null,null,null,null,null,null,null,null,null,null,null,null,null,null,null,null,null,null,null,null,null,null,null,null,null,null,{"$f":"' 6-Inventário de recursos'!B959","v":0},{"$f":"' 6-Inventário de recursos'!D959","v":0},{"$f":"' 6-Inventário de recursos'!C959","v":0},{"$f":"' 6-Inventário de recursos'!E959","v":0},{"$f":"' 6-Inventário de recursos'!F959","v":0},{"$f":"' 6-Inventário de recursos'!L490","v":0},{"$f":"' 6-Inventário de recursos'!H959","v":0},{"$f":"' 6-Inventário de recursos'!#REF!","v":{"$error":"#REF!"}}]
[null,null,null,null,null,null,null,null,null,null,null,null,null,null,null,null,null,null,null,null,null,null,null,null,null,null,null,null,{"$f":"' 6-Inventário de recursos'!B960","v":0},{"$f":"' 6-Inventário de recursos'!D960","v":0},{"$f":"' 6-Inventário de recursos'!C960","v":0},{"$f":"' 6-Inventário de recursos'!E960","v":0},{"$f":"' 6-Inventário de recursos'!F960","v":0},{"$f":"' 6-Inventário de recursos'!L491","v":0},{"$f":"' 6-Inventário de recursos'!H960","v":0},{"$f":"' 6-Inventário de recursos'!#REF!","v":{"$error":"#REF!"}}]
[null,null,null,null,null,null,null,null,null,null,null,null,null,null,null,null,null,null,null,null,null,null,null,null,null,null,null,null,{"$f":"' 6-Inventário de recursos'!B961","v":0},{"$f":"' 6-Inventário de recursos'!D961","v":0},{"$f":"' 6-Inventário de recursos'!C961","v":0},{"$f":"' 6-Inventário de recursos'!E961","v":0},{"$f":"' 6-Inventário de recursos'!F961","v":0},{"$f":"' 6-Inventário de recursos'!L492","v":0},{"$f":"' 6-Inventário de recursos'!H961","v":0},{"$f":"' 6-Inventário de recursos'!#REF!","v":{"$error":"#REF!"}}]
[null,null,null,null,null,null,null,null,null,null,null,null,null,null,null,null,null,null,null,null,null,null,null,null,null,null,null,null,{"$f":"' 6-Inventário de recursos'!B962","v":0},{"$f":"' 6-Inventário de recursos'!D962","v":0},{"$f":"' 6-Inventário de recursos'!C962","v":0},{"$f":"' 6-Inventário de recursos'!E962","v":0},{"$f":"' 6-Inventário de recursos'!F962","v":0},{"$f":"' 6-Inventário de recursos'!L493","v":0},{"$f":"' 6-Inventário de recursos'!H962","v":0},{"$f":"' 6-Inventário de recursos'!#REF!","v":{"$error":"#REF!"}}]
[null,null,null,null,null,null,null,null,null,null,null,null,null,null,null,null,null,null,null,null,null,null,null,null,null,null,null,null,{"$f":"' 6-Inventário de recursos'!B963","v":0},{"$f":"' 6-Inventário de recursos'!D963","v":0},{"$f":"' 6-Inventário de recursos'!C963","v":0},{"$f":"' 6-Inventário de recursos'!E963","v":0},{"$f":"' 6-Inventário de recursos'!F963","v":0},{"$f":"' 6-Inventário de recursos'!L494","v":0},{"$f":"' 6-Inventário de recursos'!H963","v":0},{"$f":"' 6-Inventário de recursos'!#REF!","v":{"$error":"#REF!"}}]
[null,null,null,null,null,null,null,null,null,null,null,null,null,null,null,null,null,null,null,null,null,null,null,null,null,null,null,null,{"$f":"' 6-Inventário de recursos'!B964","v":0},{"$f":"' 6-Inventário de recursos'!D964","v":0},{"$f":"' 6-Inventário de recursos'!C964","v":0},{"$f":"' 6-Inventário de recursos'!E964","v":0},{"$f":"' 6-Inventário de recursos'!F964","v":0},{"$f":"' 6-Inventário de recursos'!L495","v":0},{"$f":"' 6-Inventário de recursos'!H964","v":0},{"$f":"' 6-Inventário de recursos'!#REF!","v":{"$error":"#REF!"}}]
[null,null,null,null,null,null,null,null,null,null,null,null,null,null,null,null,null,null,null,null,null,null,null,null,null,null,null,null,{"$f":"' 6-Inventário de recursos'!B965","v":0},{"$f":"' 6-Inventário de recursos'!D965","v":0},{"$f":"' 6-Inventário de recursos'!C965","v":0},{"$f":"' 6-Inventário de recursos'!E965","v":0},{"$f":"' 6-Inventário de recursos'!F965","v":0},{"$f":"' 6-Inventário de recursos'!L496","v":0},{"$f":"' 6-Inventário de recursos'!H965","v":0},{"$f":"' 6-Inventário de recursos'!#REF!","v":{"$error":"#REF!"}}]
[null,null,null,null,null,null,null,null,null,null,null,null,null,null,null,null,null,null,null,null,null,null,null,null,null,null,null,null,{"$f":"' 6-Inventário de recursos'!B966","v":0},{"$f":"' 6-Inventário de recursos'!D966","v":0},{"$f":"' 6-Inventário de recursos'!C966","v":0},{"$f":"' 6-Inventário de recursos'!E966","v":0},{"$f":"' 6-Inventário de recursos'!F966","v":0},{"$f":"' 6-Inventário de recursos'!L497","v":0},{"$f":"' 6-Inventário de recursos'!H966","v":0},{"$f":"' 6-Inventário de recursos'!#REF!","v":{"$error":"#REF!"}}]
[null,null,null,null,null,null,null,null,null,null,null,null,null,null,null,null,null,null,null,null,null,null,null,null,null,null,null,null,{"$f":"' 6-Inventário de recursos'!B967","v":0},{"$f":"' 6-Inventário de recursos'!D967","v":0},{"$f":"' 6-Inventário de recursos'!C967","v":0},{"$f":"' 6-Inventário de recursos'!E967","v":0},{"$f":"' 6-Inventário de recursos'!F967","v":0},{"$f":"' 6-Inventário de recursos'!L498","v":0},{"$f":"' 6-Inventário de recursos'!H967","v":0},{"$f":"' 6-Inventário de recursos'!#REF!","v":{"$error":"#REF!"}}]
[null,null,null,null,null,null,null,null,null,null,null,null,null,null,null,null,null,null,null,null,null,null,null,null,null,null,null,null,{"$f":"' 6-Inventário de recursos'!B968","v":0},{"$f":"' 6-Inventário de recursos'!D968","v":0},{"$f":"' 6-Inventário de recursos'!C968","v":0},{"$f":"' 6-Inventário de recursos'!E968","v":0},{"$f":"' 6-Inventário de recursos'!F968","v":0},{"$f":"' 6-Inventário de recursos'!L499","v":0},{"$f":"' 6-Inventário de recursos'!H968","v":0},{"$f":"' 6-Inventário de recursos'!#REF!","v":{"$error":"#REF!"}}]
[null,null,null,null,null,null,null,null,null,null,null,null,null,null,null,null,null,null,null,null,null,null,null,null,null,null,null,null,{"$f":"' 6-Inventário de recursos'!B969","v":0},{"$f":"' 6-Inventário de recursos'!D969","v":0},{"$f":"' 6-Inventário de recursos'!C969","v":0},{"$f":"' 6-Inventário de recursos'!E969","v":0},{"$f":"' 6-Inventário de recursos'!F969","v":0},{"$f":"' 6-Inventário de recursos'!L500","v":0},{"$f":"' 6-Inventário de recursos'!H969","v":0},{"$f":"' 6-Inventário de recursos'!#REF!","v":{"$error":"#REF!"}}]
[null,null,null,null,null,null,null,null,null,null,null,null,null,null,null,null,null,null,null,null,null,null,null,null,null,null,null,null,{"$f":"' 6-Inventário de recursos'!B970","v":0},{"$f":"' 6-Inventário de recursos'!D970","v":0},{"$f":"' 6-Inventário de recursos'!C970","v":0},{"$f":"' 6-Inventário de recursos'!E970","v":0},{"$f":"' 6-Inventário de recursos'!F970","v":0},{"$f":"' 6-Inventário de recursos'!#REF!","v":{"$error":"#REF!"}},{"$f":"' 6-Inventário de recursos'!H970","v":0},{"$f":"' 6-Inventário de recursos'!#REF!","v":{"$error":"#REF!"}}]
[null,null,null,null,null,null,null,null,null,null,null,null,null,null,null,null,null,null,null,null,null,null,null,null,null,null,null,null,{"$f":"' 6-Inventário de recursos'!B971","v":0},{"$f":"' 6-Inventário de recursos'!D971","v":0},{"$f":"' 6-Inventário de recursos'!C971","v":0},{"$f":"' 6-Inventário de recursos'!E971","v":0},{"$f":"' 6-Inventário de recursos'!F971","v":0},{"$f":"' 6-Inventário de recursos'!L501","v":0},{"$f":"' 6-Inventário de recursos'!H971","v":0},{"$f":"' 6-Inventário de recursos'!#REF!","v":{"$error":"#REF!"}}]
[null,null,null,null,null,null,null,null,null,null,null,null,null,null,null,null,null,null,null,null,null,null,null,null,null,null,null,null,{"$f":"' 6-Inventário de recursos'!B972","v":0},{"$f":"' 6-Inventário de recursos'!D972","v":0},{"$f":"' 6-Inventário de recursos'!C972","v":0},{"$f":"' 6-Inventário de recursos'!E972","v":0},{"$f":"' 6-Inventário de recursos'!F972","v":0},{"$f":"' 6-Inventário de recursos'!L502","v":0},{"$f":"' 6-Inventário de recursos'!H972","v":0},{"$f":"' 6-Inventário de recursos'!#REF!","v":{"$error":"#REF!"}}]
[null,null,null,null,null,null,null,null,null,null,null,null,null,null,null,null,null,null,null,null,null,null,null,null,null,null,null,null,{"$f":"' 6-Inventário de recursos'!B973","v":0},{"$f":"' 6-Inventário de recursos'!D973","v":0},{"$f":"' 6-Inventário de recursos'!C973","v":0},{"$f":"' 6-Inventário de recursos'!E973","v":0},{"$f":"' 6-Inventário de recursos'!F973","v":0},{"$f":"' 6-Inventário de recursos'!L503","v":0},{"$f":"' 6-Inventário de recursos'!H973","v":0},{"$f":"' 6-Inventário de recursos'!#REF!","v":{"$error":"#REF!"}}]
[null,null,null,null,null,null,null,null,null,null,null,null,null,null,null,null,null,null,null,null,null,null,null,null,null,null,null,null,{"$f":"' 6-Inventário de recursos'!B974","v":0},{"$f":"' 6-Inventário de recursos'!D974","v":0},{"$f":"' 6-Inventário de recursos'!C974","v":0},{"$f":"' 6-Inventário de recursos'!E974","v":0},{"$f":"' 6-Inventário de recursos'!F974","v":0},{"$f":"' 6-Inventário de recursos'!L504","v":0},{"$f":"' 6-Inventário de recursos'!H974","v":0},{"$f":"' 6-Inventário de recursos'!#REF!","v":{"$error":"#REF!"}}]
[null,null,null,null,null,null,null,null,null,null,null,null,null,null,null,null,null,null,null,null,null,null,null,null,null,null,null,null,{"$f":"' 6-Inventário de recursos'!B975","v":0},{"$f":"' 6-Inventário de recursos'!D975","v":0},{"$f":"' 6-Inventário de recursos'!C975","v":0},{"$f":"' 6-Inventário de recursos'!E975","v":0},{"$f":"' 6-Inventário de recursos'!F975","v":0},{"$f":"' 6-Inventário de recursos'!L505","v":0},{"$f":"' 6-Inventário de recursos'!H975","v":0},{"$f":"' 6-Inventário de recursos'!#REF!","v":{"$error":"#REF!"}}]
[null,null,null,null,null,null,null,null,null,null,null,null,null,null,null,null,null,null,null,null,null,null,null,null,null,null,null,null,{"$f":"' 6-Inventário de recursos'!B976","v":0},{"$f":"' 6-Inventário de recursos'!D976","v":0},{"$f":"' 6-Inventário de recursos'!C976","v":0},{"$f":"' 6-Inventário de recursos'!E976","v":0},{"$f":"' 6-Inventário de recursos'!F976","v":0},{"$f":"' 6-Inventário de recursos'!L506","v":0},{"$f":"' 6-Inventário de recursos'!H976","v":0},{"$f":"' 6-Inventário de recursos'!#REF!","v":{"$error":"#REF!"}}]
[null,null,null,null,null,null,null,null,null,null,null,null,null,null,null,null,null,null,null,null,null,null,null,null,null,null,null,null,{"$f":"' 6-Inventário de recursos'!B977","v":0},{"$f":"' 6-Inventário de recursos'!D977","v":0},{"$f":"' 6-Inventário de recursos'!C977","v":0},{"$f":"' 6-Inventário de recursos'!E977","v":0},{"$f":"' 6-Inventário de recursos'!F977","v":0},{"$f":"' 6-Inventário de recursos'!L507","v":0},{"$f":"' 6-Inventário de recursos'!H977","v":0},{"$f":"' 6-Inventário de recursos'!#REF!","v":{"$error":"#REF!"}}]
[null,null,null,null,null,null,null,null,null,null,null,null,null,null,null,null,null,null,null,null,null,null,null,null,null,null,null,null,{"$f":"' 6-Inventário de recursos'!B978","v":0},{"$f":"' 6-Inventário de recursos'!D978","v":0},{"$f":"' 6-Inventário de recursos'!C978","v":0},{"$f":"' 6-Inventário de recursos'!E978","v":0},{"$f":"' 6-Inventário de recursos'!F978","v":0},{"$f":"' 6-Inventário de recursos'!L508","v":0},{"$f":"' 6-Inventário de recursos'!H978","v":0},{"$f":"' 6-Inventário de recursos'!#REF!","v":{"$error":"#REF!"}}]
[null,null,null,null,null,null,null,null,null,null,null,null,null,null,null,null,null,null,null,null,null,null,null,null,null,null,null,null,{"$f":"' 6-Inventário de recursos'!B979","v":0},{"$f":"' 6-Inventário de recursos'!D979","v":0},{"$f":"' 6-Inventário de recursos'!C979","v":0},{"$f":"' 6-Inventário de recursos'!E979","v":0},{"$f":"' 6-Inventário de recursos'!F979","v":0},{"$f":"' 6-Inventário de recursos'!L509","v":0},{"$f":"' 6-Inventário de recursos'!H979","v":0},{"$f":"' 6-Inventário de recursos'!#REF!","v":{"$error":"#REF!"}}]
[null,null,null,null,null,null,null,null,null,null,null,null,null,null,null,null,null,null,null,null,null,null,null,null,null,null,null,null,{"$f":"' 6-Inventário de recursos'!B980","v":0},{"$f":"' 6-Inventário de recursos'!D980","v":0},{"$f":"' 6-Inventário de recursos'!C980","v":0},{"$f":"' 6-Inventário de recursos'!E980","v":0},{"$f":"' 6-Inventário de recursos'!F980","v":0},{"$f":"' 6-Inventário de recursos'!L510","v":0},{"$f":"' 6-Inventário de recursos'!H980","v":0},{"$f":"' 6-Inventário de recursos'!#REF!","v":{"$error":"#REF!"}}]
[null,null,null,null,null,null,null,null,null,null,null,null,null,null,null,null,null,null,null,null,null,null,null,null,null,null,null,null,{"$f":"' 6-Inventário de recursos'!B981","v":0},{"$f":"' 6-Inventário de recursos'!D981","v":0},{"$f":"' 6-Inventário de recursos'!C981","v":0},{"$f":"' 6-Inventário de recursos'!E981","v":0},{"$f":"' 6-Inventário de recursos'!F981","v":0},{"$f":"' 6-Inventário de recursos'!L511","v":0},{"$f":"' 6-Inventário de recursos'!H981","v":0},{"$f":"' 6-Inventário de recursos'!#REF!","v":{"$error":"#REF!"}}]
[null,null,null,null,null,null,null,null,null,null,null,null,null,null,null,null,null,null,null,null,null,null,null,null,null,null,null,null,{"$f":"' 6-Inventário de recursos'!B982","v":0},{"$f":"' 6-Inventário de recursos'!D982","v":0},{"$f":"' 6-Inventário de recursos'!C982","v":0},{"$f":"' 6-Inventário de recursos'!E982","v":0},{"$f":"' 6-Inventário de recursos'!F982","v":0},{"$f":"' 6-Inventário de recursos'!L512","v":0},{"$f":"' 6-Inventário de recursos'!H982","v":0},{"$f":"' 6-Inventário de recursos'!#REF!","v":{"$error":"#REF!"}}]
[null,null,null,null,null,null,null,null,null,null,null,null,null,null,null,null,null,null,null,null,null,null,null,null,null,null,null,null,{"$f":"' 6-Inventário de recursos'!B983","v":0},{"$f":"' 6-Inventário de recursos'!D983","v":0},{"$f":"' 6-Inventário de recursos'!C983","v":0},{"$f":"' 6-Inventário de recursos'!E983","v":0},{"$f":"' 6-Inventário de recursos'!F983","v":0},{"$f":"' 6-Inventário de recursos'!L513","v":0},{"$f":"' 6-Inventário de recursos'!H983","v":0},{"$f":"' 6-Inventário de recursos'!#REF!","v":{"$error":"#REF!"}}]
[null,null,null,null,null,null,null,null,null,null,null,null,null,null,null,null,null,null,null,null,null,null,null,null,null,null,null,null,{"$f":"' 6-Inventário de recursos'!B984","v":0},{"$f":"' 6-Inventário de recursos'!D984","v":0},{"$f":"' 6-Inventário de recursos'!C984","v":0},{"$f":"' 6-Inventário de recursos'!E984","v":0},{"$f":"' 6-Inventário de recursos'!F984","v":0},{"$f":"' 6-Inventário de recursos'!L514","v":0},{"$f":"' 6-Inventário de recursos'!H984","v":0},{"$f":"' 6-Inventário de recursos'!#REF!","v":{"$error":"#REF!"}}]
[null,null,null,null,null,null,null,null,null,null,null,null,null,null,null,null,null,null,null,null,null,null,null,null,null,null,null,null,{"$f":"' 6-Inventário de recursos'!B985","v":0},{"$f":"' 6-Inventário de recursos'!D985","v":0},{"$f":"' 6-Inventário de recursos'!C985","v":0},{"$f":"' 6-Inventário de recursos'!E985","v":0},{"$f":"' 6-Inventário de recursos'!F985","v":0},{"$f":"' 6-Inventário de recursos'!L515","v":0},{"$f":"' 6-Inventário de recursos'!H985","v":0},{"$f":"' 6-Inventário de recursos'!#REF!","v":{"$error":"#REF!"}}]
[null,null,null,null,null,null,null,null,null,null,null,null,null,null,null,null,null,null,null,null,null,null,null,null,null,null,null,null,{"$f":"' 6-Inventário de recursos'!B986","v":0},{"$f":"' 6-Inventário de recursos'!D986","v":0},{"$f":"' 6-Inventário de recursos'!C986","v":0},{"$f":"' 6-Inventário de recursos'!E986","v":0},{"$f":"' 6-Inventário de recursos'!F986","v":0},{"$f":"' 6-Inventário de recursos'!L516","v":0},{"$f":"' 6-Inventário de recursos'!H986","v":0},{"$f":"' 6-Inventário de recursos'!#REF!","v":{"$error":"#REF!"}}]
[null,null,null,null,null,null,null,null,null,null,null,null,null,null,null,null,null,null,null,null,null,null,null,null,null,null,null,null,{"$f":"' 6-Inventário de recursos'!B987","v":0},{"$f":"' 6-Inventário de recursos'!D987","v":0},{"$f":"' 6-Inventário de recursos'!C987","v":0},{"$f":"' 6-Inventário de recursos'!E987","v":0},{"$f":"' 6-Inventário de recursos'!F987","v":0},{"$f":"' 6-Inventário de recursos'!L517","v":0},{"$f":"' 6-Inventário de recursos'!H987","v":0},{"$f":"' 6-Inventário de recursos'!#REF!","v":{"$error":"#REF!"}}]
[null,null,null,null,null,null,null,null,null,null,null,null,null,null,null,null,null,null,null,null,null,null,null,null,null,null,null,null,{"$f":"' 6-Inventário de recursos'!B988","v":0},{"$f":"' 6-Inventário de recursos'!D988","v":0},{"$f":"' 6-Inventário de recursos'!C988","v":0},{"$f":"' 6-Inventário de recursos'!E988","v":0},{"$f":"' 6-Inventário de recursos'!F988","v":0},{"$f":"' 6-Inventário de recursos'!L518","v":0},{"$f":"' 6-Inventário de recursos'!H988","v":0},{"$f":"' 6-Inventário de recursos'!#REF!","v":{"$error":"#REF!"}}]
[null,null,null,null,null,null,null,null,null,null,null,null,null,null,null,null,null,null,null,null,null,null,null,null,null,null,null,null,{"$f":"' 6-Inventário de recursos'!B989","v":0},{"$f":"' 6-Inventário de recursos'!D989","v":0},{"$f":"' 6-Inventário de recursos'!C989","v":0},{"$f":"' 6-Inventário de recursos'!E989","v":0},{"$f":"' 6-Inventário de recursos'!F989","v":0},{"$f":"' 6-Inventário de recursos'!L519","v":0},{"$f":"' 6-Inventário de recursos'!H989","v":0},{"$f":"' 6-Inventário de recursos'!#REF!","v":{"$error":"#REF!"}}]
[null,null,null,null,null,null,null,null,null,null,null,null,null,null,null,null,null,null,null,null,null,null,null,null,null,null,null,null,{"$f":"' 6-Inventário de recursos'!B990","v":0},{"$f":"' 6-Inventário de recursos'!D990","v":0},{"$f":"' 6-Inventário de recursos'!C990","v":0},{"$f":"' 6-Inventário de recursos'!E990","v":0},{"$f":"' 6-Inventário de recursos'!F990","v":0},{"$f":"' 6-Inventário de recursos'!L520","v":0},{"$f":"' 6-Inventário de recursos'!H990","v":0},{"$f":"' 6-Inventário de recursos'!#REF!","v":{"$error":"#REF!"}}]
[null,null,null,null,null,null,null,null,null,null,null,null,null,null,null,null,null,null,null,null,null,null,null,null,null,null,null,null,{"$f":"' 6-Inventário de recursos'!B991","v":0},{"$f":"' 6-Inventário de recursos'!D991","v":0},{"$f":"' 6-Inventário de recursos'!C991","v":0},{"$f":"' 6-Inventário de recursos'!E991","v":0},{"$f":"' 6-Inventário de recursos'!F991","v":0},{"$f":"' 6-Inventário de recursos'!L521","v":0},{"$f":"' 6-Inventário de recursos'!H991","v":0},{"$f":"' 6-Inventário de recursos'!#REF!","v":{"$error":"#REF!"}}]
[null,null,null,null,null,null,null,null,null,null,null,null,null,null,null,null,null,null,null,null,null,null,null,null,null,null,null,null,{"$f":"' 6-Inventário de recursos'!B992","v":0},{"$f":"' 6-Inventário de recursos'!D992","v":0},{"$f":"' 6-Inventário de recursos'!C992","v":0},{"$f":"' 6-Inventário de recursos'!E992","v":0},{"$f":"' 6-Inventário de recursos'!F992","v":0},{"$f":"' 6-Inventário de recursos'!L522","v":0},{"$f":"' 6-Inventário de recursos'!H992","v":0},{"$f":"' 6-Inventário de recursos'!#REF!","v":{"$error":"#REF!"}}]
[null,null,null,null,null,null,null,null,null,null,null,null,null,null,null,null,null,null,null,null,null,null,null,null,null,null,null,null,{"$f":"' 6-Inventário de recursos'!B993","v":0},{"$f":"' 6-Inventário de recursos'!D993","v":0},{"$f":"' 6-Inventário de recursos'!C993","v":0},{"$f":"' 6-Inventário de recursos'!E993","v":0},{"$f":"' 6-Inventário de recursos'!F993","v":0},{"$f":"' 6-Inventário de recursos'!L523","v":0},{"$f":"' 6-Inventário de recursos'!H993","v":0},{"$f":"' 6-Inventário de recursos'!#REF!","v":{"$error":"#REF!"}}]
[null,null,null,null,null,null,null,null,null,null,null,null,null,null,null,null,null,null,null,null,null,null,null,null,null,null,null,null,{"$f":"' 6-Inventário de recursos'!B994","v":0},{"$f":"' 6-Inventário de recursos'!D994","v":0},{"$f":"' 6-Inventário de recursos'!C994","v":0},{"$f":"' 6-Inventário de recursos'!E994","v":0},{"$f":"' 6-Inventário de recursos'!F994","v":0},{"$f":"' 6-Inventário de recursos'!L524","v":0},{"$f":"' 6-Inventário de recursos'!H994","v":0},{"$f":"' 6-Inventário de recursos'!#REF!","v":{"$error":"#REF!"}}]
[null,null,null,null,null,null,null,null,null,null,null,null,null,null,null,null,null,null,null,null,null,null,null,null,null,null,null,null,{"$f":"' 6-Inventário de recursos'!B995","v":0},{"$f":"' 6-Inventário de recursos'!D995","v":0},{"$f":"' 6-Inventário de recursos'!C995","v":0},{"$f":"' 6-Inventário de recursos'!E995","v":0},{"$f":"' 6-Inventário de recursos'!F995","v":0},{"$f":"' 6-Inventário de recursos'!L525","v":0},{"$f":"' 6-Inventário de recursos'!H995","v":0},{"$f":"' 6-Inventário de recursos'!#REF!","v":{"$error":"#REF!"}}]
[null,null,null,null,null,null,null,null,null,null,null,null,null,null,null,null,null,null,null,null,null,null,null,null,null,null,null,null,{"$f":"' 6-Inventário de recursos'!B996","v":0},{"$f":"' 6-Inventário de recursos'!D996","v":0},{"$f":"' 6-Inventário de recursos'!C996","v":0},{"$f":"' 6-Inventário de recursos'!E996","v":0},{"$f":"' 6-Inventário de recursos'!F996","v":0},{"$f":"' 6-Inventário de recursos'!L526","v":0},{"$f":"' 6-Inventário de recursos'!H996","v":0},{"$f":"' 6-Inventário de recursos'!#REF!","v":{"$error":"#REF!"}}]
[null,null,null,null,null,null,null,null,null,null,null,null,null,null,null,null,null,null,null,null,null,null,null,null,null,null,null,null,{"$f":"' 6-Inventário de recursos'!B997","v":0},{"$f":"' 6-Inventário de recursos'!D997","v":0},{"$f":"' 6-Inventário de recursos'!C997","v":0},{"$f":"' 6-Inventário de recursos'!E997","v":0},{"$f":"' 6-Inventário de recursos'!F997","v":0},{"$f":"' 6-Inventário de recursos'!L527","v":0},{"$f":"' 6-Inventário de recursos'!H997","v":0},{"$f":"' 6-Inventário de recursos'!#REF!","v":{"$error":"#REF!"}}]
[null,null,null,null,null,null,null,null,null,null,null,null,null,null,null,null,null,null,null,null,null,null,null,null,null,null,null,null,{"$f":"' 6-Inventário de recursos'!B998","v":0},{"$f":"' 6-Inventário de recursos'!D998","v":0},{"$f":"' 6-Inventário de recursos'!C998","v":0},{"$f":"' 6-Inventário de recursos'!E998","v":0},{"$f":"' 6-Inventário de recursos'!F998","v":0},{"$f":"' 6-Inventário de recursos'!L528","v":0},{"$f":"' 6-Inventário de recursos'!H998","v":0},{"$f":"' 6-Inventário de recursos'!#REF!","v":{"$error":"#REF!"}}]
[null,null,null,null,null,null,null,null,null,null,null,null,null,null,null,null,null,null,null,null,null,null,null,null,null,null,null,null,{"$f":"' 6-Inventário de recursos'!B999","v":0},{"$f":"' 6-Inventário de recursos'!D999","v":0},{"$f":"' 6-Inventário de recursos'!C999","v":0},{"$f":"' 6-Inventário de recursos'!E999","v":0},{"$f":"' 6-Inventário de recursos'!F999","v":0},{"$f":"' 6-Inventário de recursos'!L529","v":0},{"$f":"' 6-Inventário de recursos'!H999","v":0},{"$f":"' 6-Inventário de recursos'!#REF!","v":{"$error":"#REF!"}}]
[null,null,null,null,null,null,null,null,null,null,null,null,null,null,null,null,null,null,null,null,null,null,null,null,null,null,null,null,{"$f":"' 6-Inventário de recursos'!B1000","v":0},{"$f":"' 6-Inventário de recursos'!D1000","v":0},{"$f":"' 6-Inventário de recursos'!C1000","v":0},{"$f":"' 6-Inventário de recursos'!E1000","v":0},{"$f":"' 6-Inventário de recursos'!F1000","v":0},{"$f":"' 6-Inventário de recursos'!L530","v":0},{"$f":"' 6-Inventário de recursos'!H1000","v":0},{"$f":"' 6-Inventário de recursos'!#REF!","v":{"$error":"#REF!"}}]
[null,null,null,null,null,null,null,null,null,null,null,null,null,null,null,null,null,null,null,null,null,null,null,null,null,null,null,null,{"$f":"' 6-Inventário de recursos'!B1001","v":0},{"$f":"' 6-Inventário de recursos'!D1001","v":0},{"$f":"' 6-Inventário de recursos'!C1001","v":0},{"$f":"' 6-Inventário de recursos'!E1001","v":0},{"$f":"' 6-Inventário de recursos'!F1001","v":0},{"$f":"' 6-Inventário de recursos'!L531","v":0},{"$f":"' 6-Inventário de recursos'!H1001","v":0},{"$f":"' 6-Inventário de recursos'!#REF!","v":{"$error":"#REF!"}}]
[null,null,null,null,null,null,null,null,null,null,null,null,null,null,null,null,null,null,null,null,null,null,null,null,null,null,null,null,{"$f":"' 6-Inventário de recursos'!B1002","v":0},{"$f":"' 6-Inventário de recursos'!D1002","v":0},{"$f":"' 6-Inventário de recursos'!C1002","v":0},{"$f":"' 6-Inventário de recursos'!E1002","v":0},{"$f":"' 6-Inventário de recursos'!F1002","v":0},{"$f":"' 6-Inventário de recursos'!L532","v":0},{"$f":"' 6-Inventário de recursos'!H1002","v":0},{"$f":"' 6-Inventário de recursos'!#REF!","v":{"$error":"#REF!"}}]
[null,null,null,null,null,null,null,null,null,null,null,null,null,null,null,null,null,null,null,null,null,null,null,null,null,null,null,null,{"$f":"' 6-Inventário de recursos'!B1003","v":0},{"$f":"' 6-Inventário de recursos'!D1003","v":0},{"$f":"' 6-Inventário de recursos'!C1003","v":0},{"$f":"' 6-Inventário de recursos'!E1003","v":0},{"$f":"' 6-Inventário de recursos'!F1003","v":0},{"$f":"' 6-Inventário de recursos'!L533","v":0},{"$f":"' 6-Inventário de recursos'!H1003","v":0},{"$f":"' 6-Inventário de recursos'!#REF!","v":{"$error":"#REF!"}}]
[null,null,null,null,null,null,null,null,null,null,null,null,null,null,null,null,null,null,null,null,null,null,null,null,null,null,null,null,{"$f":"' 6-Inventário de recursos'!B1004","v":0},{"$f":"' 6-Inventário de recursos'!D1004","v":0},{"$f":"' 6-Inventário de recursos'!C1004","v":0},{"$f":"' 6-Inventário de recursos'!E1004","v":0},{"$f":"' 6-Inventário de recursos'!F1004","v":0},{"$f":"' 6-Inventário de recursos'!L534","v":0},{"$f":"' 6-Inventário de recursos'!H1004","v":0},{"$f":"' 6-Inventário de recursos'!#REF!","v":{"$error":"#REF!"}}]
[null,null,null,null,null,null,null,null,null,null,null,null,null,null,null,null,null,null,null,null,null,null,null,null,null,null,null,null,{"$f":"' 6-Inventário de recursos'!B1005","v":0},{"$f":"' 6-Inventário de recursos'!D1005","v":0},{"$f":"' 6-Inventário de recursos'!C1005","v":0},{"$f":"' 6-Inventário de recursos'!E1005","v":0},{"$f":"' 6-Inventário de recursos'!F1005","v":0},{"$f":"' 6-Inventário de recursos'!L535","v":0},{"$f":"' 6-Inventário de recursos'!H1005","v":0},{"$f":"' 6-Inventário de recursos'!#REF!","v":{"$error":"#REF!"}}]
[null,null,null,null,null,null,null,null,null,null,null,null,null,null,null,null,null,null,null,null,null,null,null,null,null,null,null,null,{"$f":"' 6-Inventário de recursos'!B1006","v":0},{"$f":"' 6-Inventário de recursos'!D1006","v":0},{"$f":"' 6-Inventário de recursos'!C1006","v":0},{"$f":"' 6-Inventário de recursos'!E1006","v":0},{"$f":"' 6-Inventário de recursos'!F1006","v":0},{"$f":"' 6-Inventário de recursos'!L536","v":0},{"$f":"' 6-Inventário de recursos'!H1006","v":0},{"$f":"' 6-Inventário de recursos'!#REF!","v":{"$error":"#REF!"}}]
[null,null,null,null,null,null,null,null,null,null,null,null,null,null,null,null,null,null,null,null,null,null,null,null,null,null,null,null,{"$f":"' 6-Inventário de recursos'!B1007","v":0},{"$f":"' 6-Inventário de recursos'!D1007","v":0},{"$f":"' 6-Inventário de recursos'!C1007","v":0},{"$f":"' 6-Inventário de recursos'!E1007","v":0},{"$f":"' 6-Inventário de recursos'!F1007","v":0},{"$f":"' 6-Inventário de recursos'!L537","v":0},{"$f":"' 6-Inventário de recursos'!H1007","v":0},{"$f":"' 6-Inventário de recursos'!#REF!","v":{"$error":"#REF!"}}]
[null,null,null,null,null,null,null,null,null,null,null,null,null,null,null,null,null,null,null,null,null,null,null,null,null,null,null,null,{"$f":"' 6-Inventário de recursos'!B1008","v":0},{"$f":"' 6-Inventário de recursos'!D1008","v":0},{"$f":"' 6-Inventário de recursos'!C1008","v":0},{"$f":"' 6-Inventário de recursos'!E1008","v":0},{"$f":"' 6-Inventário de recursos'!F1008","v":0},{"$f":"' 6-Inventário de recursos'!L538","v":0},{"$f":"' 6-Inventário de recursos'!H1008","v":0},{"$f":"' 6-Inventário de recursos'!#REF!","v":{"$error":"#REF!"}}]
[null,null,null,null,null,null,null,null,null,null,null,null,null,null,null,null,null,null,null,null,null,null,null,null,null,null,null,null,{"$f":"' 6-Inventário de recursos'!B1009","v":0},{"$f":"' 6-Inventário de recursos'!D1009","v":0},{"$f":"' 6-Inventário de recursos'!C1009","v":0},{"$f":"' 6-Inventário de recursos'!E1009","v":0},{"$f":"' 6-Inventário de recursos'!F1009","v":0},{"$f":"' 6-Inventário de recursos'!L539","v":0},{"$f":"' 6-Inventário de recursos'!H1009","v":0},{"$f":"' 6-Inventário de recursos'!#REF!","v":{"$error":"#REF!"}}]

{"sheet":"8-Elemento de construção","index":9,"n_rows":35,"n_cols":2,"rows_kept":35,"cut":false,"hidden":false,"merged":[[14,0,14,6],[16,0,16,6],[18,0,18,6],[17,0,17,6],[0,0,0,6],[3,0,3,6],[12,0,12,6],[9,1,9,6],[10,1,10,6],[11,1,11,6],[4,0,4,6],[13,0,13,6],[1,1,1,6],[2,1,2,6],[5,0,5,6],[6,1,6,6],[8,1,8,6],[7,1,7,6],[19,0,19,6],[15,0,15,6],[20,0,20,16383],[21,0,21,6],[34,0,34,6]]}
["Elemento de construção"]
["ID","Nome"]
["<inserir conteúdo>","<inserir conteúdo>"]
["Fotografias"]
[]
["Informação detalhada do elemento"]
["Marca","<inserir conteúdo>"]
["Especificidades","<inserir conteúdo>"]
["Certificação"]
["Condição","<inserir conteúdo>"]
["Ano de produção","<inserir conteúdo>"]
["Materiais  constituintes","<inserir conteúdo>"]
["Desmontagem"]
[]
["Benefícios ambientais"]
[]
["Substâncias perigosas"]
[]
["Possíveis aplicações"]
["<inserir conteúdo>"]
["Potenciais utilizadores"]
["<inserir conteúdo>"]
[]
[]
[]
[]
[]
[]
[]
[]
[]
[]
[]
[]
["Informação adicional em http://closer.lnec.pt/"]

{"sheet":"9-Lista de resíduos","index":10,"n_rows":72,"n_cols":3,"rows_kept":72,"cut":false,"hidden":false,"merged":[[0,0,0,2],[1,0,1,2],[51,0,51,2]]}
["Lista de resíduos"]
["Códigos LER para RCD (cap 17) e REEE (cap 16 e 20)"]
["17 01 ","betão, tijolos, ladrilhos, telhas e materiais cerâmicos","Anotado"]
["17 01 01 ","betão","Esp NP"]
["17 01 02 ","tijolos","Esp NP"]
["17 01 03 ","ladrilhos, telhas e materiais cerâmicos","Esp NP"]
["17 01 06* ","misturas ou frações separadas de betão, tijolos, ladrilhos, telhas e materiais cerâmicos, contendo substâncias perigosas","Esp P"]
["17 01 07 ","misturas de betão, tijolos, ladrilhos, telhas e materiais cerâmicos, não abrangidas em 17 01 06","Esp NP"]
["17 02 ","madeira, vidro e plástico","Anotado"]
["17 02 01 ","madeira","Esp NP"]
["17 02 02 ","vidro","Esp NP"]
["17 02 03 ","plástico","Esp NP"]
["17 02 04*","vidro, plástico e madeira contendo ou contaminados com substâncias perigosas","Esp P"]
["17 03","misturas betuminosas, alcatrão e produtos de alcatrão","Anotado"]
["17 03 01*","misturas betuminosas contendo alcatrão ","Esp P"]
["17 03 02","misturas betuminosas não abrangidas em 17 03 01","Esp NP"]
["17 03 03*","alcatrão e produtos de alcatrão","Abs P"]
["17 04 ","metais (incluindo ligas metálicas)","Anotado"]
["17 04 01 ","cobre, bronze e latão","Esp NP"]
["17 04 02 ","alumínio","Esp NP"]
["17 04 03 ","chumbo","Esp NP"]
["17 04 04 ","zinco","Esp NP"]
["17 04 05 ","ferro e aço","Esp NP"]
["17 04 06 ","estanho","Esp NP"]
["17 04 07 ","misturas de metais","Esp NP"]
["17 04 09*","resíduos metálicos contaminados com substâncias perigosas ","Esp P"]
["17 04 10*","cabos contendo hidrocarbonetos, alcatrão ou outras substâncias perigosas","Esp P"]
["17 04 11","cabos não abrangidos em 17 04 11","Esp NP"]
["17 05 ","solos (incluindo solos escavados de locais contaminados), rochas e lamas de dragagem","Anotado"]
["17 05 03*","solos e rochas, contendo substâncias perigosas","Esp P"]
["17 05 04 ","solos e rochas não abrangidos em 17 05 03","Esp NP"]
["17 05 05*","lamas de dragagem contendo substâncias perigosas","Esp P"]
["17 05 06 ","lamas de dragagem não abrangidas em 17 05 05","Esp NP"]
["17 05 07* ","balastros de linhas de caminho de ferro, contendo substâncias perigosas","Esp P"]
["17 05 08","balastros de linhas de caminho de ferro não abrangidos em 17 05 07","Esp NP"]
["17 06"," materiais de isolamento e materiais de construção, contendo amianto","Anotado"]
["17 06 01*","materiais de isolamento, contendo amianto","Esp P"]
["17 06 03* ","outros materiais de isolamento contendo ou constituídos por substâncias perigosas ","Esp P"]
["17 06 04","materiais de isolamento não abrangidos em 17 06 01 e 17 06 03","Esp NP"]
["17 06 05*","materiais de construção contendo amianto","Abs P"]
["17 08 ","materiais de construção à base de gesso","Anotado"]
["17 08 01*","materiais de construção à base de gesso contaminados com substâncias perigosas ","Esp P"]
["17 08 02","materiais de construção à base de gesso não abrangidos em 17 08 01","Esp NP"]
["17 09","outros resíduos de construção e demolição","Anotado"]
["17 09 01*","resíduos de construção e demolição contendo mercúrio","Esp P"]
["17 09 02* ","resíduos de construção e demolição contendo PCB (por exemplo vedantes com PCB, revestimentos de piso à base de resinas com PCB, envidraçados vedados contendo PCB, condensadores com PCB)","Esp P"]
["17 09 03*","outros resíduos de construção e demolição (incluindo misturas de resíduos) contendo substâncias perigosas)","Esp P"]
["17 09 04","misturas de resíduos de construção e demolição não abrangidas em 17 09 01, 17 09 02 e 17 09 03","Esp NP"]
[]
[]
[]
["Códigos LER para REEE relevantes na demolição "]
["16 02","Resíduos de equipamento elétrico e eletrónico","Anotado"]
["16 02 09*","Transformadores e condensadores, contendo PCB","Esp P"]
["16 02 10*","Equipamento fora de uso contendo ou contaminado por PCB, não abrangido em 16 02 09","Esp P"]
["16 02 11*","Equipamento fora de uso contendo clorofluorcarbonetos, HCFC, HFC","Esp P"]
["16 02 12*","Equipamento fora de uso contendo amianto livre","Esp P"]
["16 02 13*","Equipamento fora de uso, contendo componentes perigosos (ver nota 1 do Índice do Anexo da Decisão 2014/955/EU, da Comissão, de 18 de dezembro de 2014) não abrangidos em 16 02 09 a 16 02 12","Esp P"]
["16 02 14","Equipamento fora de uso não abrangido em 16 02 09 a 16 02 13","Esp NP"]
["16 02 15*","Componentes perigosos retirados de equipamento fora de uso","Esp P"]
["16 02 16*","Componentes retirados de equipamento fora de uso não abrangidos em 16 02 15","Esp P"]
["20 01","Frações recolhidas seletivamente (exceto 15 01)","Anotado"]
["20 01 21*","Lâmpadas fluorescentes e outros resíduos contendo mercúrio","Abs P"]
["20 01 23*","Equipamento fora de uso contendo clorofluorcarbonetos","Abs P"]
["20 01 35*","Equipamento elétrico e eletrónico fora de uso, não abrangido em 20 01 21 ou 20 01 23, contendo componentes perigosos (ver nota 1 do Índice do Anexo da Decisão 2014/955/EU, da Comissão, de 18 de dezembro de 2014","Esp P"]
["20 01 36","Equipamento elétrico e eletrónico fora de uso não abrangido em 20 01 21, 20 01 23 ou 20 01 35","Esp NP"]
[]
[]
["Esp NP","entrada espelho para resíduo não perigoso"]
["Esp P","entrada espelho para resíduo perigoso"]
["Abs NP","entrada absoluta para resíduo não perigoso"]
["Abs P","entrada absoluta para resíduo perigoso"]

{"sheet":"10-Glossário","index":11,"n_rows":45,"n_cols":2,"rows_kept":45,"cut":false,"hidden":false,"merged":[[0,0,0,1],[1,0,1,1]]}
["Glossário"]
[]
["Atividade de construção","Atividade que tem por objeto a realização de obras, englobando todo o conjunto de atos que sejam necessários à sua concretização."]
["Armazenagem","Deposição controlada de resíduos, antes do seu tratamento e por prazo determinado, designadamente as operações R 13 e D 15."]
["Armazenagem preliminar","Deposição controlada de resíduos em instalações onde os resíduos são descarregados a fim de serem preparados para posterior transporte para efeitos de tratamento, como parte do processo de recolha."]
["Auditor","Perito ou a equipa de peritos que realiza a auditoria pré‑demolição agindo em nome do proprietário."]
["Auditoria pré-demolição","Atividade preparatória com o objetivo de (1) recolher informação sobre as qualidades e quantidades dos materiais, elementos e resíduos de construção e demolição que serão retirados durante as obras de demolição ou reabilitação de edifícios e (2) fornecer recomendações gerais e específicas visando a recuperação futura desses materiais, elementos e RCD recolhidos."]
["Autoridade","Organismo administrativo responsável pela concessão das licenças de demolição ou renovação e pela fiscalização do processo de demolição ou renovação."]
["Centro de recolha de resíduos","Local onde os resíduos são depositados e onde se procede à armazenagem e/ou triagem preliminares desses resíduos para posterior encaminhamento para tratamento."]
["Ciclo de vida","Etapas consecutivas e interligadas de um produto (ou serviço), desde a aquisição ou extração de matéria-prima a partir de recursos naturais, até ao projeto, produção, transporte/entrega, utilização, tratamento em fim de vida útil e deposição final."]
["Desconstrução","Processo de desmantelamento seletivo e sistemático de edifícios para reduzir a quantidade de resíduos criados e gerar um aprovisionamento de materiais secundários de elevado valor que são adequados para reutilização e reciclagem."]
["Demolição","Remoção total ou parcial recorrendo a métodos destrutivos. Excetua-se aqui a remoção dos materiais contendo amianto, e o acondicionamento, transporte e gestão dos respetivos resíduos de construção e demolição gerados que é efetuada de acordo com o estabelecido na Portaria n.º 40/2014, de 17 de fevereiro."]
["Demolição seletiva","Sequenciação das atividades de demolição para permitir a separação e a seleção dos materiais a fim de maximizar a sua recuperação e reciclagem."]
["Descontaminação","Redução ou remoção de substâncias contaminantes"]
["Dono da obra / Proprietário","Entidade por conta de quem a obra é realizada, o dono da obra pública, nos termos definidos no Código dos Contratos Públicos (CCP), aprovado pelo Decreto-Lei n.º 18/2008, de 29 de janeiro, o concessionário relativamente a obra executada com base em contrato de concessão de obra pública, bem como qualquer pessoa ou entidade que contrate a elaboração de projeto de obra"]
["Durabilidade","Capacidade de um produto, componente ou material de permanecer funcional e relevante quando usado conforme pretendido."]
["Economia circular","Modelo de produção e consumo que abrange soluções que visam lidar com desafios globais, como alterações climáticas, redução de biodiversidade, resíduos e poluição. É baseado em três princípios, impulsionados pela conceção: i) eliminar resíduos e poluição, ii) fazer circular produtos e materiais maximizando o seu valor e iii) regenerar a natureza."]
["Economia linear","Economia em que recursos finitos são extraídos visando o fabrico de produtos que são usados, por vezes sem usar todo o seu potencial, e posteriormente descartados."]
["Edificação","Atividade ou o resultado da construção, reconstrução, ampliação, alteração ou conservação de um imóvel destinado a utilização humana, bem como de qualquer outra construção que se incorpore no solo com caráter de permanência."]
["Eliminação","Qualquer operação de tratamento de resíduos que não seja de valorização, ainda que se verifique como consequência secundária a recuperação de substâncias ou de energia."]
["Empreiteiro","Pessoa singular ou coletiva habilitada, nos termos da Lei n.º 41/2015, para a execução de obras promovidas por entidades particulares (empreiteiro de obras particulares) ou para a execução de empreitadas de obras públicas (empreiteiro de obras públicas)."]
["Enchimento","Operação de valorização em que são usados resíduos que não apresentam características de perigosidade, nomeadamente resíduos de construção e demolição (RCD), testados segundo os valores de referência estabelecidos no Guia Técnico da APA, I. P., para Solos Contaminados (2019), para preenchimento de áreas de escavação ou para propósitos de construção em projetos de recuperação paisagística em substituição de materiais naturais, limitando-se às quantidades estritamente necessárias para esses efeitos."]
["Gestão de resíduos","Recolha, transporte, triagem, valorização e eliminação de resíduos, incluindo a supervisão destas operações, a manutenção dos locais de eliminação após encerramento, e as medidas tomadas na qualidade de comerciante de resíduos ou corretor de resíduos."]
["Inventário","Listagem de tipos e quantidades de materiais, elementos e resíduos."]
["Marcação CE","Para produtos de construção, indica que os fabricantes se responsabilizam pela conformidade dos seus produtos com o desempenho declarado."]
["Obra","Atividade e o resultado de trabalhos de construção, reconstrução, ampliação, alteração, reabilitação, reparação, restauro, conservação e demolição de bens imóveis."]
["Operador","Qualquer pessoa singular ou coletiva que procede à gestão de resíduos."]
["Preparação para reutilização","Operações de valorização, que consistem no controlo, limpeza ou reparação, mediante as quais os produtos ou os componentes de produtos que se tenham tornado resíduos são preparados para serem reutilizados, sem qualquer outro tipo de pré-processamento."]
["Prevenção","Adoção de medidas antes de uma substância, material ou produto assumir a natureza de resíduo, destinadas a reduzir: i) a quantidade de resíduos produzidos, designadamente através do redesenho de processos, produtos e adoção de novos modelos de negócio até à otimização da utilização de recursos, da reutilização de produtos e do prolongamento do tempo de vida dos produtos; ii) os impactes adversos no ambiente e na saúde humana resultantes dos resíduos produzidos; ou iii) o teor de substâncias perigosas presentes nos materiais e nos produtos."]
["Produtor de resíduos","Pessoa singular ou coletiva cuja atividade produza resíduos, isto é, um produtor inicial de resíduos, ou que efetue operações de pré‑processamento, de mistura ou outras que alterem a natureza ou a composição desses resíduos."]
["Projeto de execução","Conjunto dos projetos de arquitetura e de especialidades com todas as pormenorizações de construção necessárias para a boa execução da obra, incluindo a descrição das normas técnicas aplicáveis a cada um dos trabalhos a realizar, a descrição técnica de todos os materiais a aplicar, com referência aos correspondentes certificados de qualidade quando exigíveis."]
["Reciclabilidade","Facilidade com que um material pode ser reciclado na prática e em grande escala."]
["Reciclagem","Operação de valorização, através da qual os materiais constituintes dos resíduos são novamente transformados em produtos, materiais ou substâncias para o seu fim original ou para outros fins, incluindo o reprocessamento de materiais orgânicos, mas excluindo a valorização energética e o reprocessamento em materiais que devam ser utilizados como combustível ou em operações de enchimento."]
["Recolha","Coleta de resíduos, incluindo a triagem e a armazenagem preliminares dos resíduos, para fins de transporte para uma instalação de tratamento de resíduos."]
["Recolha seletiva","Recolha efetuada de forma a manter os resíduos separados por tipo e natureza, com vista a facilitar o tratamento específico."]
["Resíduo","Substância ou objeto de que o detentor se desfaz ou tem a intenção ou a obrigação de se desfazer."]
["Resíduos de construção e demolição (RCD)","Resíduos com origem em obras de construção, reabilitação e demolição de edifícios ou outras estruturas de engenharia civil. Estes resíduos estão incluídos no capítulo 17 da Lista Europeia de Resíduos (LER) e os códigos para os vários materiais que os constituem encontram-se listados no separador 8- Lista de resíduos."]
["Resíduos inertes","Resíduos que não sofrem transformações físicas, químicas ou biológicas significativas, nem afetam adversamente outras matérias com as quais entrem em contato de maneira que possam causar poluição ambiental ou prejudicar a saúde humana."]
["Resíduos perigosos","Resíduos que apresentam uma ou mais características de perigosidade constantes do Regulamento (UE) n.º 1357/2014, da Comissão, de 18 de dezembro de 2014."]
["Reutilização","Operação mediante a qual produtos ou componentes que não sejam resíduos são utilizados novamente para o mesmo fim para que foram concebidos."]
["Tratamento","Operação de valorização ou de eliminação de resíduos, incluindo a preparação prévia à valorização ou eliminação."]
["Triagem","Ato de separação de resíduos mediante processos manuais ou mecânicos, sem alteração das suas características, com vista ao seu tratamento."]
["Triagem preliminar","Ato de separação de resíduos mediante processos manuais, sem alteração das suas características, enquanto parte do processo de recolha, com vista ao seu envio para tratamento."]
["Valorização","Operação de tratamento de resíduos cujo resultado principal seja a utilização, com ou sem transformação, dos resíduos de modo a servirem um fim útil, substituindo outros materiais que, caso contrário, teriam sido utilizados para um fim específico ou a preparação dos resíduos para esse fim na instalação ou conjunto da economia."]
["Valorização material","Operação de valorização, que não seja a valorização energética nem o reprocessamento em materiais que são utilizados como combustíveis ou outros meios de produção de energia, incluindo, entre outras, a preparação para reutilização a reciclagem e o enchimento."]

{"sheet":"Ref","index":12,"n_rows":111,"n_cols":9,"rows_kept":111,"cut":false,"hidden":true,"merged":[]}
[]
[null,"Nome","Código","Massa volúmica","Unidade",null,"Natureza do resíduos",null,"Localização"]
[null,"betão","17 01 01 ",2300,"kg/m3",null,null,null,"Fundações"]
[null,"tijolos","17 01 02 ",1920,"kg/m3",null,"Inerte/Não perigoso",null,"Elementos verticais"]
[null,"ladrilhos, telhas e materiais cerâmicos","17 01 03 ",830.6,"kg/m3",null,"Perigoso",null,"Pavimentos"]
[null,"misturas ou frações separadas de betão, tijolos, ladrilhos, telhas e materiais cerâmicos, contendo substâncias perigosas","17 01 06* ",830,"kg/m3",null,null,null,"Estrutura da cobertura"]
[null,"misturas de betão, tijolos, ladrilhos, telhas e materiais cerâmicos, não abrangidas em 17 01 06","17 01 07 ",830,"kg/m3",null,"Ensaio positivo ",null,"Revestimento da cobertura em terraço"]
[null,"madeira","17 02 01 ",700,"kg/m3",null,"Ensaio negativo",null,"Revestimento da cobertura inclinada"]
[null,"vidro","17 02 02 ",2500,"kg/m3",null,null,null,"Composição da esteira do teto"]
[null,"plástico","17 02 03 ",1250,"kg/m3",null,null,null,"Tosco paredes exteriores"]
[null,"vidro, plástico e madeira contendo ou contaminados com substâncias perigosas","17 02 04*",null,"kg/m3",null,"Unidade",null,"Revestimento dos paramentos exteriores"]
[null,"misturas betuminosas contendo alcatrão ","17 03 01*",2243,"kg/m3",null,"m",null,"Material dos caixilhos de vãos exteriores"]
[null,"misturas betuminosas não abrangidas em 17 03 01","17 03 02",2243,"kg/m3",null,"m2",null,"Tipo de envidraçado de vãos exteriores"]
[null,"alcatrão e produtos de alcatrão","17 03 03*",1010,"kg/m3",null,"m3",null,"Tosco de paredes interiores"]
[null,"cobre, bronze e latão","17 04 01 ",8470,"kg/m3",null,"kg",null,"Revestimento dos paramentos interiores"]
[null,"alumínio","17 04 02 ",2700,"kg/m3",null,"unidade",null,"Revestimento de piso"]
[null,"chumbo","17 04 03 ",7280,"kg/m3"]
[null,"zinco","17 04 04 ",7140,"kg/m3",null,"Estrutura ","Fundações","Alvenaria de pedra"]
[null,"ferro e aço","17 04 05 ",7800,"kg/m3",null,"Estrutura ","Fundações","Alvenaria de tijolo"]
[null,"estanho","17 04 06 ",7300,"kg/m3",null,"Estrutura ","Fundações","Sapatas de betão"]
[null,"misturas de metais","17 04 07 ",5000,"kg/m3",null,"Estrutura ","Fundações","Ensoleiramento geral"]
[null,"resíduos metálicos contaminados com substâncias perigosas ","17 04 09*",593.29999999999995,"kg/m3",null,"Estrutura ","Fundações","Estacas de madeira"]
[null,"cabos contendo hidrocarbonetos, alcatrão ou outras substâncias perigosas","17 04 10*",null,null,null,"Estrutura ","Fundações","Estacas de betão"]
[null,"cabos não abrangidos em 17 04 11","17 04 11",null,null,null,"Estrutura ","Elementos verticais","Paredes resistentes de alvenaria de pedra"]
[null,"solos e rochas, contendo substâncias perigosas","17 05 03*",1600,"kg/m3",null,"Estrutura ","Elementos verticais","Paredes resistentes de alvenaria de tijolo ou de blocos de betão"]
[null,"solos e rochas não abrangidos em 17 05 03","17 05 04 ",1600,"kg/m3",null,"Estrutura ","Elementos verticais","Paredes resistentes de alvenaria confinada de tijolo maciço"]
[null,"lamas de dragagem contendo substâncias perigosas","17 05 05*",null,null,null,"Estrutura ","Elementos verticais","Pilares de betão armado"]
[null,"lamas de dragagem não abrangidas em 17 05 05","17 05 06 ",null,null,null,"Estrutura ","Pavimentos","Madeira"]
[null,"balastros de linhas de caminho de ferro, contendo substâncias perigosas","17 05 07* ",1720,"kg/m3",null,"Estrutura ","Pavimentos","Madeira com vigas metálicas"]
[null," balastros de linhas de caminho de ferro não abrangidos em 17 05 07","17 05 08",1720,"kg/m3",null,"Estrutura ","Pavimentos","Laje maciça de betão armado com vigas"]
[null,"materiais de isolamento, contendo amianto","17 06 01*",null,null,null,"Estrutura ","Pavimentos","Laje fungiforme maciça de betão armado"]
[null,"outros materiais de isolamento contendo ou constituídos por substâncias perigosas ","17 06 03* ",null,null,null,"Estrutura ","Pavimentos","Laje fungiforme aligeirada de betão armado"]
[null,"materiais de isolamento não abrangidos em 17 06 01 e 17 06 03","17 06 04",null,null,null,"Estrutura ","Pavimentos","Laje aligeirada de betão armado com vigotas"]
[null,"materiais de construção contendo amianto","17 06 05*",2000,"kg/m3",null,"Estrutura ","Pavimentos","Pranchas de betão armado ou pré-esforçado"]
[null,"materiais de construção à base de gesso contaminados com substâncias perigosas ","17 08 01*",1200,"kg/m3",null,"Estrutura ","Pavimentos","Pré-lajes"]
[null,"materiais de construção à base de gesso não abrangidos em 17 08 01","17 08 02",1200,"kg/m3",null,"Cobertura ","Estrutura","Madeira"]
[null,"resíduos de construção e demolição contendo mercúrio","17 09 01*",null,null,null,"Cobertura ","Estrutura","Metálica"]
[null,"resíduos de construção e demolição contendo PCB (por exemplo vedantes com PCB, revestimentos de piso à base de resinas com PCB, envidraçados vedados contendo PCB, condensadores com PCB)","17 09 02* ",null,null,null,"Cobertura ","Estrutura","Laje maciça de betão armado"]
[null,"outros resíduos de construção e demolição (incluindo misturas de resíduos) contendo substâncias perigosas)","17 09 03*",null,null,null,"Cobertura ","Estrutura","Laje aligeirada de betão armado com vigotas"]
[null,"misturas de resíduos de construção e demolição não abrangidas em 17 09 01, 17 09 02 e 17 09 03","17 09 04",null,null,null,"Cobertura ","Estrutura","Vigas / vigotas de betão armado com muretes de alvenaria"]
[null,"transformadores e condensadores, contendo PCB","16 02 09*",null,null,null,"Cobertura ","Revestimento da cobertura em terraço","Impermeabilização aparente"]
[null,"equipamento fora de uso contendo ou contaminado por PCB, não abrangido em 16 02 09","16 02 10*",null,null,null,"Cobertura ","Revestimento da cobertura em terraço","Betonilha"]
[null,"equipamento fora de uso contendo clorofluorcarbonetos, HCFC, HFC","16 02 11*",null,null,null,"Cobertura ","Revestimento da cobertura em terraço","Ladrilho cerâmico ou hidráulico"]
[null,"equipamento fora de uso contendo amianto livre","16 02 12*",null,null,null,"Cobertura ","Revestimento da cobertura em terraço","Tijoleira"]
[null,"equipamento fora de uso, contendo componentes perigosos (ver nota 1 do Índice do Anexo da Decisão 2014/955/EU, da Comissão, de 18 de dezembro de 2014) não abrangidos em 16 02 09 a 16 02 12","16 02 13*",null,null,null,"Cobertura ","Revestimento da cobertura em terraço","Seixo rolado"]
[null,"equipamento fora de uso não abrangido em 16 02 09 a 16 02 13","16 02 14",null,null,null,"Cobertura ","Revestimento de cobertura inclinada","Telha cerâmica"]
[null,"componentes perigosos retirados de equipamento fora de uso","16 02 15*",null,null,null,"Cobertura ","Revestimento de cobertura inclinada","Telha de betão"]
[null,"componentes retirados de equipamento fora de uso não abrangidos em 16 02 15","16 02 16*",null,null,null,"Cobertura ","Revestimento de cobertura inclinada","Chapas metálicas"]
[null,"lâmpadas fluorescentes e outros resíduos contendo mercúrio","20 01 21*",null,null,null,"Cobertura ","Revestimento de cobertura inclinada","Chapas de fibrocimento"]
[null,"equipamento fora de uso contendo clorofluorcarbonetos","20 01 23*",null,null,null,"Cobertura ","Revestimento de cobertura inclinada","Chapas plásticas"]
[null,"equipamento elétrico e eletrónico fora de uso, não abrangido em 20 01 21 ou 20 01 23, contendo componentes perigosos (ver nota 1 do Índice do Anexo da Decisão 2014/955/EU, da Comissão, de 18 de dezembro de 2014","20 01 35*",null,null,null,"Cobertura ","Composição da esteira do teto","Madeira ou derivados de madeira"]
[null,"equipamento elétrico e eletrónico fora de uso não abrangido em 20 01 21, 20 01 23 ou 20 01 35","20 01 36",null,null,null,"Cobertura ","Composição da esteira do teto","Laje maciça de betão armado"]
[null,null,null,null,null,null,"Cobertura ","Composição da esteira do teto","Laje aligeirada de betão armado"]
[null,"https://fenix.tecnico.ulisboa.pt/downloadFile/395142107301/Indicadores%20de%20res%C3%ADduos%20de%20constru%C3%A7%C3%A3o%20e%20demoli%C3%A7%C3%A3o.pdf ",null,null,null,null,"Cobertura ","Composição da esteira do teto","Placas de gesso cartonado / laminado"]
[null,"https://www.civillead.com/unit-weight-of-building-materials/ ",null,null,null,null,"Cobertura ","Composição da esteira do teto","Estafe"]
[null,null,null,null,null,null,"Paredes exteriores ","Tosco"," Alvenaria de pedra"]
[null,"Destino",null,null,null,null,"Paredes exteriores ","Tosco","Alvenaria de tijolo com um pano"]
[null,"Reutilização do elemento/material na obra",null,null,null,null,"Paredes exteriores ","Tosco","Alvenaria de tijolo com dois panos"]
[null,"Reutilização do elemento/material fora da obra",null,null,null,null,"Paredes exteriores ","Tosco","Alvenaria de blocos de betão de agregados correntes"]
[null,"Preparação para reutilizar elemento/material na obra",null,null,null,null,"Paredes exteriores ","Tosco","Alvenaria de blocos de betão com agregados de argila expandida"]
[null,"Preparação para reutilizar elemento/material fora da obra",null,null,null,null,"Paredes exteriores ","Tosco","Alvenaria de blocos de betão celular autoclavado"]
[null,"Reciclagem na obra",null,null,null,null,"Paredes exteriores ","Revestimento dos paramentos exteriores","Reboco"]
[null,"Reciclagem fora da obra",null,null,null,null,"Paredes exteriores ","Revestimento dos paramentos exteriores","Azulejo"]
[null,"Recuperação como combustível para produção de energia",null,null,null,null,"Paredes exteriores ","Revestimento dos paramentos exteriores","Placas de pedra"]
[null,"Eliminação por incineração",null,null,null,null,"Paredes exteriores ","Revestimento dos paramentos exteriores","ETICS"]
[null,"Aterro de resíduos inertes",null,null,null,null,"Paredes exteriores ","Revestimento dos paramentos exteriores","Sistema de pintura"]
[null,"Aterro de resíduos não perigosos",null,null,null,null,"Paredes exteriores ","Revestimento dos paramentos exteriores","Sem revestimento"]
[null,"Aterro de resíduos perigosos",null,null,null,null,"Vãos exteriores ","Material dos caixilhos","Madeira"]
[null,"Entrega em instalação de gestão de REEE",null,null,null,null,"Vãos exteriores ","Material dos caixilhos","Alumínio simples"]
[null,"Recuperação no local como material enchimento ",null,null,null,null,"Vãos exteriores ","Material dos caixilhos","Alumínio com corte térmico"]
[null,"Recuperação fora do local como material de enchimento",null,null,null,null,"Vãos exteriores ","Material dos caixilhos","PVC"]
[null,"Aterro de resíduos perigosos não reativos estável",null,null,null,null,"Vãos exteriores ","Material dos caixilhos","Ferro"]
[null,null,null,null,null,null,"Vãos exteriores ","Material dos caixilhos","Vãos sem caixilharia"]
[null,"Condição",null,null,null,null,"Vãos exteriores ","Tipo de envidraçado ","Vidro simples"]
[null,"Muito boa – Anomalias insignificantes",null,null,null,null,"Vãos exteriores ","Tipo de envidraçado ","Vidro duplo"]
[null,"Boa – Anomalias estéticas",null,null,null,null,"Vãos exteriores ","Tipo de envidraçado ","Janela dupla"]
[null,"Média – Anomalias podem prejudicar a reutilização",null,null,null,null,"Paredes interiores","Tosco","Alvenaria de pedra"]
[null,"Má – Anomalias colocam em risco segurança/saúde.",null,null,null,null,"Paredes interiores","Tosco","Alvenaria de tijolo com um pano"]
[null,null,null,null,null,null,"Paredes interiores","Tosco","Alvenaria de blocos de betão de agregados correntes"]
[null,null,null,null,null,null,"Paredes interiores","Tosco","Alvenaria de blocos de betão agregados de argila expandida"]
[null,null,null,null,null,null,"Paredes interiores","Tosco","Alvenaria de blocos de betão celular autoclavado"]
[null,null,null,null,null,null,"Paredes interiores","Tosco","Tabique de madeira"]
[null,null,null,null,null,null,"Paredes interiores","Tosco","Tabique de madeira e alvenaria"]
[null,null,null,null,null,null,"Paredes interiores","Tosco","Divisórias leves com painéis de gesso cartonado / laminado"]
[null,null,null,null,null,null,"Paredes interiores","Revestimento","Reboco"]
[null,"Edifícios com estrutura de alvenaria (< 1755). ",null,null,null,null,"Paredes interiores","Revestimento","Estuque"]
[null,"Edifícios com estrutura de alvenaria da época pombalina e similares (1755 a 1880).",null,null,null,null,"Paredes interiores","Revestimento","Azulejo"]
[null,"Edifícios com estrutura de alvenaria tipo gaioleiro (1880 a 1930).",null,null,null,null,"Paredes interiores","Revestimento","Placas de pedra natural"]
[null,"Edifícios com estrutura mista de alvenaria e betão (1930 a 1940).",null,null,null,null,"Paredes interiores","Revestimento","Sistema de pintura"]
[null,"Edifícios com estrutura mista de betão e alvenaria (1940 a 1960).",null,null,null,null,"Paredes interiores","Revestimento","Sem revestimento"]
[null,"Edifícios recentes de betão armado (> 1960).",null,null,null,null,"Revestimentos de piso","Material","Madeira"]
[null,null,null,null,null,null,"Revestimentos de piso","Material","Pedra natural"]
[null,null,null,null,null,null,"Revestimentos de piso","Material","Ladrilho cerâmico"]
[null,"Edifício exclusivamente residencial",null,null,null,null,"Revestimentos de piso","Material","Ladrilho hidráulico"]
[null,"Edifício principalmente residencial",null,null,null,null,"Revestimentos de piso","Material","Linóleo"]
[null,"Edifício principalmente não residencial",null,null,null,null,"Revestimentos de piso","Material","Vinílico"]
[null,"Edifício exclusivamente residencial",null,null,null,null,"Revestimentos de piso","Material","Aglomerado de cortiça"]
[null,null,null,null,null,null,"Revestimentos de piso","Material","Betonilha"]
[]
[]
[null,"Reutilização adaptativa"]
[null,"Reutilização expansiva",null,null,null,null,"Fácil de desmontar sem danificar"]
[null,"Reutilização proativa",null,null,null,null,"Fácil de desmontar sem danificar, mas exige algum esforço"]
[null,null,null,null,null,null,"Elemento parcialmente danificado durante a desmontagem e pode ser facilmente recuperado para ser reutilizado"]
[null,null,null,null,null,null,"Elemento danificado durante a desmontagem e difícil de recuperar para ser reutilizado"]
[]
[]
[null,null,null,null,null,null,"O elemento foi ensaiado e não contém substâncias perigosas"]
[null,null,null,null,null,null,"O elemento foi ensaiado e contém uma substância perigosa podendo, eventualmente, ser reutilizado após tratamento"]
[null,null,null,null,null,null,"O elemento não foi ensaiado e pode existir um perigo potencial devido a subª perigosas"]
[null,null,null,null,null,null,"O elemento não foi ensaiado e não é de salientar um potencial perigo devido a subª perigosas"]